BEGIN:VCALENDAR
VERSION:2.0
PRODID:-//Gemeinsam für Stadtwandel - ECPv6.15.20//NONSGML v1.0//EN
CALSCALE:GREGORIAN
METHOD:PUBLISH
X-ORIGINAL-URL:https://gemeinsam-fuer-stadtwandel.de
X-WR-CALDESC:Veranstaltungen für Gemeinsam für Stadtwandel
REFRESH-INTERVAL;VALUE=DURATION:PT1H
X-Robots-Tag:noindex
X-PUBLISHED-TTL:PT1H
BEGIN:VTIMEZONE
TZID:Europe/Paris
BEGIN:DAYLIGHT
TZOFFSETFROM:+0100
TZOFFSETTO:+0200
TZNAME:CEST
DTSTART:20240331T010000
END:DAYLIGHT
BEGIN:STANDARD
TZOFFSETFROM:+0200
TZOFFSETTO:+0100
TZNAME:CET
DTSTART:20241027T010000
END:STANDARD
BEGIN:DAYLIGHT
TZOFFSETFROM:+0100
TZOFFSETTO:+0200
TZNAME:CEST
DTSTART:20250330T010000
END:DAYLIGHT
BEGIN:STANDARD
TZOFFSETFROM:+0200
TZOFFSETTO:+0100
TZNAME:CET
DTSTART:20251026T010000
END:STANDARD
BEGIN:DAYLIGHT
TZOFFSETFROM:+0100
TZOFFSETTO:+0200
TZNAME:CEST
DTSTART:20260329T010000
END:DAYLIGHT
BEGIN:STANDARD
TZOFFSETFROM:+0200
TZOFFSETTO:+0100
TZNAME:CET
DTSTART:20261025T010000
END:STANDARD
END:VTIMEZONE
BEGIN:VEVENT
DTSTART;TZID=Europe/Paris:20250115T190000
DTEND;TZID=Europe/Paris:20250115T210000
DTSTAMP:20260424T150011
CREATED:20250113T094041Z
LAST-MODIFIED:20250123T111633Z
UID:8529-1736967600-1736974800@gemeinsam-fuer-stadtwandel.de
SUMMARY:"Künstliche Intelligenz und globale Sicherheit". Essener Friedensforum in Kooperation mit der VHS Essen.
DESCRIPTION:Große Fortschritte auf dem Gebiet „Künstliche Intelligenz“ haben auch zu entsprechenden Fortschritten in der Militärtechnik geführt. Das gilt für Waffensysteme mit immer mehr Autonomie\, aber auch für Frühwarnsysteme nuklearer Bedrohungen mit möglichen Fehlentscheidungen der KI und potentiell gravierenden Folgen. \n\n\n\nReferent: Prof. Dr. Karl Hans Bläsius\, emeritierter Professor für Künstliche Intelligenz an der Hochschule Trier  \n\n\n\nVHS\, E.11\, Eintritt frei \n\n\n\n\n\n\nhttps://essener-friedensforum.de/wp-content/uploads/2024/12/242-EFF-Kuenstliche-Intelligenz.pdf\n\n\n\n\n\n\n\n\n\n\n\nhttps://essener-friedensforum.de/wp-content/uploads/2024/12/242-EFF-Kuenstliche-Intelligenz.pdf
URL:https://gemeinsam-fuer-stadtwandel.de/veranstaltung/kuenstliche-intelligenz-und-globale-sicherheit-essener-friedensforum-in-kooperation-mit-der-vhs-essen/
LOCATION:VHS\, Burgplatz 1\, Essen\, NRW\, 45127
CATEGORIES:Vorträge & Diskussionen
ATTACH;FMTTYPE=image/png:https://gemeinsam-fuer-stadtwandel.de/wp-content/uploads/2022/07/Friedensforum-Essen-Logo.png
END:VEVENT
END:VCALENDAR