BEGIN:VCALENDAR
VERSION:2.0
PRODID:-//Gemeinsam für Stadtwandel - ECPv6.15.20//NONSGML v1.0//EN
CALSCALE:GREGORIAN
METHOD:PUBLISH
X-ORIGINAL-URL:https://gemeinsam-fuer-stadtwandel.de
X-WR-CALDESC:Veranstaltungen für Gemeinsam für Stadtwandel
REFRESH-INTERVAL;VALUE=DURATION:PT1H
X-Robots-Tag:noindex
X-PUBLISHED-TTL:PT1H
BEGIN:VTIMEZONE
TZID:Europe/Berlin
BEGIN:DAYLIGHT
TZOFFSETFROM:+0100
TZOFFSETTO:+0200
TZNAME:CEST
DTSTART:20240331T010000
END:DAYLIGHT
BEGIN:STANDARD
TZOFFSETFROM:+0200
TZOFFSETTO:+0100
TZNAME:CET
DTSTART:20241027T010000
END:STANDARD
BEGIN:DAYLIGHT
TZOFFSETFROM:+0100
TZOFFSETTO:+0200
TZNAME:CEST
DTSTART:20250330T010000
END:DAYLIGHT
BEGIN:STANDARD
TZOFFSETFROM:+0200
TZOFFSETTO:+0100
TZNAME:CET
DTSTART:20251026T010000
END:STANDARD
BEGIN:DAYLIGHT
TZOFFSETFROM:+0100
TZOFFSETTO:+0200
TZNAME:CEST
DTSTART:20260329T010000
END:DAYLIGHT
BEGIN:STANDARD
TZOFFSETFROM:+0200
TZOFFSETTO:+0100
TZNAME:CET
DTSTART:20261025T010000
END:STANDARD
END:VTIMEZONE
BEGIN:VEVENT
DTSTART;TZID=Europe/Berlin:20250922T193000
DTEND;TZID=Europe/Berlin:20250922T193000
DTSTAMP:20260420T094017
CREATED:20250813T080737Z
LAST-MODIFIED:20250813T080737Z
UID:15233-1758569400-1758569400@gemeinsam-fuer-stadtwandel.de
SUMMARY:Politischer Salon Essen: Demokratie verteidigen ohne Waffen
DESCRIPTION:Demokratie verteidigen ohne Waffen: Der Ruhrkampf vor 100 Jahren – und Soziale Verteidigung heute. \n\n\n\n\n\n\n\nAm 17. und 18.09.1925 feierte das Ruhrgebiet den Abzug der französischen Truppen nach zweijähriger Besetzung. Bevölkerung und Regierung leisteten gewaltfrei Widerstand gegenüber dem militärischen Übergriff.  \n\n\n\nDie gewaltsame Erzwingung von mehr Kohlelieferungen scheiterte. Gewaltlos streitbar wurde die Demokratie verteidigt\, wehrhaft ohne Waffen. So heißt auch die neue Kampagne für Soziale Verteidigung.  \n\n\n\nSie dient im Notfall dem wirksamen Schutz der Bevölkerung. Wie muss diese vorbereitet und unterstützt werden\, um wirkungsvoll zu sein – auch heute? \n\n\n\nDer Eintritt ist frei!Um Anmeldung wird gebeten unter: politischer-salon-essen@exile-ev.de \n\n\n\n \n\n\n\nEine Veranstaltung von:  \n\n\n\nWehrhaft ohne Waffen-Regionalgruppe Essen\, u.a.\,EXILE e.V. und Schauspiel Essen
URL:https://gemeinsam-fuer-stadtwandel.de/veranstaltung/politischer-salon-essen-demokratie-verteidigen-ohne-waffen/
LOCATION:Café Central\, Grillotheater\, Theaterplatz 11\, Essen\, 45127
CATEGORIES:Vorträge & Diskussionen
ATTACH;FMTTYPE=image/png:https://gemeinsam-fuer-stadtwandel.de/wp-content/uploads/2021/10/Politischer-Salon-Essen.png
ORGANIZER;CN="Gemeinsam f%C3%BCr Stadtwandel":MAILTO:hallo@gemeinsam-fuer-stadtwandel.de
END:VEVENT
END:VCALENDAR