BEGIN:VCALENDAR
VERSION:2.0
PRODID:-//Gemeinsam für Stadtwandel - ECPv6.15.20//NONSGML v1.0//EN
CALSCALE:GREGORIAN
METHOD:PUBLISH
X-WR-CALNAME:Gemeinsam für Stadtwandel
X-ORIGINAL-URL:https://gemeinsam-fuer-stadtwandel.de
X-WR-CALDESC:Veranstaltungen für Gemeinsam für Stadtwandel
REFRESH-INTERVAL;VALUE=DURATION:PT1H
X-Robots-Tag:noindex
X-PUBLISHED-TTL:PT1H
BEGIN:VTIMEZONE
TZID:Europe/Berlin
BEGIN:DAYLIGHT
TZOFFSETFROM:+0100
TZOFFSETTO:+0200
TZNAME:CEST
DTSTART:20240331T010000
END:DAYLIGHT
BEGIN:STANDARD
TZOFFSETFROM:+0200
TZOFFSETTO:+0100
TZNAME:CET
DTSTART:20241027T010000
END:STANDARD
BEGIN:DAYLIGHT
TZOFFSETFROM:+0100
TZOFFSETTO:+0200
TZNAME:CEST
DTSTART:20250330T010000
END:DAYLIGHT
BEGIN:STANDARD
TZOFFSETFROM:+0200
TZOFFSETTO:+0100
TZNAME:CET
DTSTART:20251026T010000
END:STANDARD
BEGIN:DAYLIGHT
TZOFFSETFROM:+0100
TZOFFSETTO:+0200
TZNAME:CEST
DTSTART:20260329T010000
END:DAYLIGHT
BEGIN:STANDARD
TZOFFSETFROM:+0200
TZOFFSETTO:+0100
TZNAME:CET
DTSTART:20261025T010000
END:STANDARD
END:VTIMEZONE
BEGIN:VEVENT
DTSTART;TZID=Europe/Berlin:20250505T193000
DTEND;TZID=Europe/Berlin:20250505T220000
DTSTAMP:20260420T163007
CREATED:20250407T175751Z
LAST-MODIFIED:20250721T100058Z
UID:14730-1746473400-1746482400@gemeinsam-fuer-stadtwandel.de
SUMMARY:Politischer Salon Essen: Klimaretter Stadtbaum
DESCRIPTION:Einmal Grüne Hauptstadt\, immer Grüne Hauptstadt. \n\n\n\n\n\n\n\nBis 2030 soll der Nettoverlust an Grünflächen gestoppt werden:  \n\n\n\nLaut aktueller Verordnung der EU zur Wiederherstellung der Natur dürfen „städtische Ökosysteme auf nationaler Ebene bis 2030 keinen Nettoverlust an städtischer Grünfläche und Baumüberschirmung erleiden und sollen danach weiter wachsen.“ \n\n\n\nWir möchten informieren und diskutieren\, wie die Stadt Essen von morgen für jung und alt aussehen könnte und welche konkreten Schritte dahinführen. Auch möchten wir darüber ins Gespräch kommen\, wie Initiativen und Zivilgesellschaft generationenübergreifend die Stadt bei dieser Aufgabe unterstützen können. \n\n\n\nEine Veranstaltung von:  \n\n\n\nGemeinsam für Stadtwandel Essen | Schauspiel Essen | EXILE Kulturkoordination e.V.
URL:https://gemeinsam-fuer-stadtwandel.de/veranstaltung/politischer-salon-essen-klimaretter-stadtbaum-2/
LOCATION:Café Central\, Grillotheater\, Theaterplatz 11\, Essen\, 45127
CATEGORIES:Vorträge & Diskussionen
ATTACH;FMTTYPE=image/png:https://gemeinsam-fuer-stadtwandel.de/wp-content/uploads/2021/10/Politischer-Salon-Essen.png
ORGANIZER;CN="Gemeinsam f%C3%BCr Stadtwandel":MAILTO:hallo@gemeinsam-fuer-stadtwandel.de
END:VEVENT
END:VCALENDAR