BEGIN:VCALENDAR
VERSION:2.0
PRODID:-//Gemeinsam für Stadtwandel - ECPv6.15.20//NONSGML v1.0//EN
CALSCALE:GREGORIAN
METHOD:PUBLISH
X-ORIGINAL-URL:https://gemeinsam-fuer-stadtwandel.de
X-WR-CALDESC:Veranstaltungen für Gemeinsam für Stadtwandel
REFRESH-INTERVAL;VALUE=DURATION:PT1H
X-Robots-Tag:noindex
X-PUBLISHED-TTL:PT1H
BEGIN:VTIMEZONE
TZID:Europe/Paris
BEGIN:DAYLIGHT
TZOFFSETFROM:+0100
TZOFFSETTO:+0200
TZNAME:CEST
DTSTART:20220327T010000
END:DAYLIGHT
BEGIN:STANDARD
TZOFFSETFROM:+0200
TZOFFSETTO:+0100
TZNAME:CET
DTSTART:20221030T010000
END:STANDARD
BEGIN:DAYLIGHT
TZOFFSETFROM:+0100
TZOFFSETTO:+0200
TZNAME:CEST
DTSTART:20230326T010000
END:DAYLIGHT
BEGIN:STANDARD
TZOFFSETFROM:+0200
TZOFFSETTO:+0100
TZNAME:CET
DTSTART:20231029T010000
END:STANDARD
BEGIN:DAYLIGHT
TZOFFSETFROM:+0100
TZOFFSETTO:+0200
TZNAME:CEST
DTSTART:20240331T010000
END:DAYLIGHT
BEGIN:STANDARD
TZOFFSETFROM:+0200
TZOFFSETTO:+0100
TZNAME:CET
DTSTART:20241027T010000
END:STANDARD
END:VTIMEZONE
BEGIN:VEVENT
DTSTART;TZID=Europe/Paris:20230923T140000
DTEND;TZID=Europe/Paris:20230923T170000
DTSTAMP:20260425T053118
CREATED:20230215T160708Z
LAST-MODIFIED:20240705T104909Z
UID:7250-1695477600-1695488400@gemeinsam-fuer-stadtwandel.de
SUMMARY:Essbare Stadt und Altenessen.blüht - Samentauschbörse in Carls Garten
DESCRIPTION:Zeche Carl Altenessen
URL:https://gemeinsam-fuer-stadtwandel.de/veranstaltung/essbare-stadt-und-altenessen-blueht-samentauschboerse-in-carls-garten/
CATEGORIES:Tauschbörse
ATTACH;FMTTYPE=image/jpeg:https://gemeinsam-fuer-stadtwandel.de/wp-content/uploads/2021/08/Altenessen.blueht-Logo-2.jpg
END:VEVENT
END:VCALENDAR