BEGIN:VCALENDAR
VERSION:2.0
PRODID:-//Gemeinsam für Stadtwandel - ECPv6.15.20//NONSGML v1.0//EN
CALSCALE:GREGORIAN
METHOD:PUBLISH
X-ORIGINAL-URL:https://gemeinsam-fuer-stadtwandel.de
X-WR-CALDESC:Veranstaltungen für Gemeinsam für Stadtwandel
REFRESH-INTERVAL;VALUE=DURATION:PT1H
X-Robots-Tag:noindex
X-PUBLISHED-TTL:PT1H
BEGIN:VTIMEZONE
TZID:Europe/Berlin
BEGIN:DAYLIGHT
TZOFFSETFROM:+0100
TZOFFSETTO:+0200
TZNAME:CEST
DTSTART:20260329T010000
END:DAYLIGHT
BEGIN:STANDARD
TZOFFSETFROM:+0200
TZOFFSETTO:+0100
TZNAME:CET
DTSTART:20261025T010000
END:STANDARD
BEGIN:DAYLIGHT
TZOFFSETFROM:+0100
TZOFFSETTO:+0200
TZNAME:CEST
DTSTART:20270328T010000
END:DAYLIGHT
BEGIN:STANDARD
TZOFFSETFROM:+0200
TZOFFSETTO:+0100
TZNAME:CET
DTSTART:20271031T010000
END:STANDARD
BEGIN:DAYLIGHT
TZOFFSETFROM:+0100
TZOFFSETTO:+0200
TZNAME:CEST
DTSTART:20280326T010000
END:DAYLIGHT
BEGIN:STANDARD
TZOFFSETFROM:+0200
TZOFFSETTO:+0100
TZNAME:CET
DTSTART:20281029T010000
END:STANDARD
END:VTIMEZONE
BEGIN:VEVENT
DTSTART;TZID=Europe/Berlin:20270223T180000
DTEND;TZID=Europe/Berlin:20270223T210000
DTSTAMP:20260420T145240
CREATED:20260223T174329Z
LAST-MODIFIED:20260223T174330Z
UID:17229-1803405600-1803416400@gemeinsam-fuer-stadtwandel.de
SUMMARY:Netzwerktreffen IGA2027
DESCRIPTION:Bis zur IGA findet jeden 4. Dienstag im Monat ein Angebot für alle Interessierten an der IGA 2027 statt. \n\n\n\nWir möchten  einander und die geplanten Projekte besser kennen zu lernen\, Fragen zu beantworten\, Kooperationen zu bilden und Ideen zu entwickeln\, wie die IGA in Essen aufblühen kann.     \n\n\n\nOrt: Treffpunkt City Nord (Viehofer Straße 31). \n\n\n\nhttps://www.meingarten.iga2027.ruhr
URL:https://gemeinsam-fuer-stadtwandel.de/veranstaltung/netzwerktreffen-iga2027-13/
ATTACH;FMTTYPE=image/png:https://gemeinsam-fuer-stadtwandel.de/wp-content/uploads/2026/02/Bildschirmfoto-2026-02-06-um-12.27.45.png
END:VEVENT
END:VCALENDAR