BEGIN:VCALENDAR
VERSION:2.0
PRODID:-//Gemeinsam für Stadtwandel - ECPv6.15.20//NONSGML v1.0//EN
CALSCALE:GREGORIAN
METHOD:PUBLISH
X-WR-CALNAME:Gemeinsam für Stadtwandel
X-ORIGINAL-URL:https://gemeinsam-fuer-stadtwandel.de
X-WR-CALDESC:Veranstaltungen für Gemeinsam für Stadtwandel
REFRESH-INTERVAL;VALUE=DURATION:PT1H
X-Robots-Tag:noindex
X-PUBLISHED-TTL:PT1H
BEGIN:VTIMEZONE
TZID:Europe/Berlin
BEGIN:DAYLIGHT
TZOFFSETFROM:+0100
TZOFFSETTO:+0200
TZNAME:CEST
DTSTART:20250330T010000
END:DAYLIGHT
BEGIN:STANDARD
TZOFFSETFROM:+0200
TZOFFSETTO:+0100
TZNAME:CET
DTSTART:20251026T010000
END:STANDARD
BEGIN:DAYLIGHT
TZOFFSETFROM:+0100
TZOFFSETTO:+0200
TZNAME:CEST
DTSTART:20260329T010000
END:DAYLIGHT
BEGIN:STANDARD
TZOFFSETFROM:+0200
TZOFFSETTO:+0100
TZNAME:CET
DTSTART:20261025T010000
END:STANDARD
BEGIN:DAYLIGHT
TZOFFSETFROM:+0100
TZOFFSETTO:+0200
TZNAME:CEST
DTSTART:20270328T010000
END:DAYLIGHT
BEGIN:STANDARD
TZOFFSETFROM:+0200
TZOFFSETTO:+0100
TZNAME:CET
DTSTART:20271031T010000
END:STANDARD
END:VTIMEZONE
BEGIN:VTIMEZONE
TZID:Europe/Paris
BEGIN:DAYLIGHT
TZOFFSETFROM:+0100
TZOFFSETTO:+0200
TZNAME:CEST
DTSTART:20250330T010000
END:DAYLIGHT
BEGIN:STANDARD
TZOFFSETFROM:+0200
TZOFFSETTO:+0100
TZNAME:CET
DTSTART:20251026T010000
END:STANDARD
BEGIN:DAYLIGHT
TZOFFSETFROM:+0100
TZOFFSETTO:+0200
TZNAME:CEST
DTSTART:20260329T010000
END:DAYLIGHT
BEGIN:STANDARD
TZOFFSETFROM:+0200
TZOFFSETTO:+0100
TZNAME:CET
DTSTART:20261025T010000
END:STANDARD
BEGIN:DAYLIGHT
TZOFFSETFROM:+0100
TZOFFSETTO:+0200
TZNAME:CEST
DTSTART:20270328T010000
END:DAYLIGHT
BEGIN:STANDARD
TZOFFSETFROM:+0200
TZOFFSETTO:+0100
TZNAME:CET
DTSTART:20271031T010000
END:STANDARD
END:VTIMEZONE
BEGIN:VEVENT
DTSTART;TZID=Europe/Berlin:20261201T193000
DTEND;TZID=Europe/Berlin:20261201T210000
DTSTAMP:20260420T120013
CREATED:20251204T175018Z
LAST-MODIFIED:20260116T182022Z
UID:16919-1796153400-1796158800@gemeinsam-fuer-stadtwandel.de
SUMMARY:Treffen Initiative für Nachhaltigkeit e.V.
DESCRIPTION:Die Initiative für Nachhaltigkeit trifft sich jeden ersten Dienstag im Monat im Fachgeschäft für Stadtwandel\, Gemarkenstr. 72. \n\n\n\nWir tauschen uns über aktuelle Projekte und neue Ideen aus.Interessierte sind herzlich willkommen! Schreibe uns eine Mail an post@initiative-fuer-nachhaltigkeit.de
URL:https://gemeinsam-fuer-stadtwandel.de/veranstaltung/treffen-initiative-fuer-nachhaltigkeit-e-v-30/
ATTACH;FMTTYPE=image/png:https://gemeinsam-fuer-stadtwandel.de/wp-content/uploads/2021/03/ifn-logo-e1734890476553.png
END:VEVENT
BEGIN:VEVENT
DTSTART;TZID=Europe/Berlin:20261203T190000
DTEND;TZID=Europe/Berlin:20261203T220000
DTSTAMP:20260420T120013
CREATED:20251204T171243Z
LAST-MODIFIED:20260116T182022Z
UID:16824-1796324400-1796335200@gemeinsam-fuer-stadtwandel.de
SUMMARY:Offenes Monatstreffen RadEntscheid
DESCRIPTION:Der RadEntscheid trifft sich  zu einem offenen monatlichen Treffen im Verkehrs- und Umweltzentrum\, jeweils am ersten Donnerstag im Monat. Du hast Lust und Zeit Dich für besseren Radverkehr in Essen zu engagieren\, dann bist Du herzlich eingeladen dabei zu sein im Verkehrs- und Umweltzentrum in der Rottstraße.
URL:https://gemeinsam-fuer-stadtwandel.de/veranstaltung/offenes-monatstreffen-radentscheid-20/
ATTACH;FMTTYPE=image/jpeg:https://gemeinsam-fuer-stadtwandel.de/wp-content/uploads/2022/07/RadEntscheid-Essen-Logo.jpg
END:VEVENT
BEGIN:VEVENT
DTSTART;TZID=Europe/Berlin:20261207T180000
DTEND;TZID=Europe/Berlin:20261207T193000
DTSTAMP:20260420T120013
CREATED:20251204T174106Z
LAST-MODIFIED:20260116T182022Z
UID:16892-1796666400-1796671800@gemeinsam-fuer-stadtwandel.de
SUMMARY:Sprechstunde von Solarstadt Werden
DESCRIPTION:Solarstadt Werden hilft bei persönlichen Fragen rund um Photovoltaik\, Wärmeenergie/-pumpe\, Stromspeichermedien und bei der Anbietersuche. Ehrenamtlichens Angebot – Hilfe zur Selbsthilfe. Jeden 1. Montag im Monat im Haus Wunderbar\, Rittergasse 25\, 45239 Essen
URL:https://gemeinsam-fuer-stadtwandel.de/veranstaltung/sprechstunde-von-solarstadt-werden-12/
ATTACH;FMTTYPE=image/jpeg:https://gemeinsam-fuer-stadtwandel.de/wp-content/uploads/2021/04/SolarstadtLogo.jpg
END:VEVENT
BEGIN:VEVENT
DTSTART;TZID=Europe/Paris:20261208T190000
DTEND;TZID=Europe/Paris:20261208T213000
DTSTAMP:20260420T120013
CREATED:20251130T173055Z
LAST-MODIFIED:20260116T182022Z
UID:16699-1796756400-1796765400@gemeinsam-fuer-stadtwandel.de
SUMMARY:AG Wasser-BUND Essen
DESCRIPTION:Offenes Treffen der AG Wasser immer am 2. Dienstag im Monat. Alle sind herzlich eingeladen teilzunehmen! \n\n\n\nBitte bei Andreas Bolle anmelden unter wasser(at)bund-essen.de. \n\n\n\nOb das Treffen vor Ort bei uns Verkehrs- und Umweltzentrum (Kopstadtplatz 12 an der Rottstraße in der Innenstadt) stattfindet oder digital\, ist bei Andreas zu erfragen. \n\n\n\nhttps://www.bund-essen.de/service/termine/detail/event/ag-wasser-9
URL:https://gemeinsam-fuer-stadtwandel.de/veranstaltung/ag-wasser-bund-essen-29/
CATEGORIES:Initiativentreffen
ATTACH;FMTTYPE=image/png:https://gemeinsam-fuer-stadtwandel.de/wp-content/uploads/2021/08/BUND_LOGO.png
END:VEVENT
BEGIN:VEVENT
DTSTART;TZID=Europe/Berlin:20261209T190000
DTEND;TZID=Europe/Berlin:20261209T210000
DTSTAMP:20260420T120013
CREATED:20251130T171246Z
LAST-MODIFIED:20260222T214230Z
UID:16626-1796842800-1796850000@gemeinsam-fuer-stadtwandel.de
SUMMARY:Netzwerktreffen Gemeinsam für Stadtwandel
DESCRIPTION:Treffpunkt City.Nord\, Viehoferstr 31  \n\n\n\nDas Netzwerk trifft sich jeden 2. Mittwoch im Monat. Wir tauschen uns über wichtige Neuigkeiten und geplante Aktionen aus und planen gemeinsame Projekte\, Strategien und Gespräche. \n\n\n\n\n\n\n\nInteressierte melden sich bitte unter: hallo@gemeinsam-fuer-stadtwandel.de.
URL:https://gemeinsam-fuer-stadtwandel.de/veranstaltung/netzwerktreffen-gemeinsam-fuer-stadtwandel-68/
CATEGORIES:Netzwerktreffen
ATTACH;FMTTYPE=image/webp:https://gemeinsam-fuer-stadtwandel.de/wp-content/uploads/2025/11/Logo_GFS.webp
END:VEVENT
BEGIN:VEVENT
DTSTART;TZID=Europe/Berlin:20261211T190000
DTEND;TZID=Europe/Berlin:20261211T210000
DTSTAMP:20260420T120013
CREATED:20251204T171727Z
LAST-MODIFIED:20260116T182022Z
UID:16848-1797015600-1797022800@gemeinsam-fuer-stadtwandel.de
SUMMARY:Critical Mass Essen - Ohne Veranstalter durchgeführte Radfahrten kreuz und quer durch Essen
DESCRIPTION:Ohne Veranstalter durchgeführte Radfahrten kreuz und quer durch Essen. Der Verlauf der Strecke ist nicht vorgegeben sondern kann von der vordersten Fahrerreihe frei bestimmt werden. Wer über einen Streckenabschnitt die Route vorgeben möchte setzt sich einfach an die Spitze. Dauer etwa zwei Stunden.Treffpunkt: Willy-Brandt-Platz
URL:https://gemeinsam-fuer-stadtwandel.de/veranstaltung/critical-mass-essen-ohne-veranstalter-durchgefuehrte-radfahrten-kreuz-und-quer-durch-essen-15/
ATTACH;FMTTYPE=image/jpeg:https://gemeinsam-fuer-stadtwandel.de/wp-content/uploads/2025/02/logo_Critical_Mass_Essen.jpg
END:VEVENT
BEGIN:VEVENT
DTSTART;TZID=Europe/Paris:20261214T193000
DTEND;TZID=Europe/Paris:20261214T213000
DTSTAMP:20260420T120013
CREATED:20251130T172556Z
LAST-MODIFIED:20260116T182022Z
UID:16673-1797276600-1797283800@gemeinsam-fuer-stadtwandel.de
SUMMARY:GfS Werden - Arbeitstreffen von "klimagerecht-mobil-Werden" 
DESCRIPTION:Die Arbeitstreffen von klimagerecht-mobil-Werden (eine Arbeitsgruppe von Gemeinsam für Stadtwandel Werden) finden jeden 2. und 4. Montag im Monat in Haus Wunderbar um 19:30 bis ca. 21:30 statt. \n\n\n\nWir erarbeiten Vorschläge um unseren Stadtteil klimafreundlicher und -gerechter zu machen und stellen diese dann in Veranstaltungen den MitbürgerInnen und zuständigen PolitikerInnen zur Diskussion vor. \n\n\n\n\n\nFragen an Martina Schmitz: stadtwandel.werden@gmail.com \n\n\n\nhttps://klimagerecht-mobil-werden.de
URL:https://gemeinsam-fuer-stadtwandel.de/veranstaltung/gfs-werden-arbeitstreffen-von-klimagerecht-mobil-werden-52/
LOCATION:Haus Wunderbar\, Rittergasse 25\, Essen\, NRW\, 45239\, Deutschland
ATTACH;FMTTYPE=image/png:https://gemeinsam-fuer-stadtwandel.de/wp-content/uploads/2024/06/Gemeinsam-fuer-Stadtwandel-Logo-Werden-480x289-1.png
END:VEVENT
BEGIN:VEVENT
DTSTART;TZID=Europe/Paris:20261215T190000
DTEND;TZID=Europe/Paris:20261215T210000
DTSTAMP:20260420T120013
CREATED:20251204T165445Z
LAST-MODIFIED:20260116T182022Z
UID:16769-1797361200-1797368400@gemeinsam-fuer-stadtwandel.de
SUMMARY:Transition Town - Gesamttreffen
DESCRIPTION:Gesamttreffen von Transition Town – Essen im Wandel findet jeden 3. Dienstag in der VHS am Burgplatz statt. Wir berichten über unsere Aktivitäten und beschäftigen uns auch mit Zukunfts-Ideen. \n\n\n\nFür weitere Informationen oder eine Anmeldung für den Newsletter: https://transitiontown-essen.de.
URL:https://gemeinsam-fuer-stadtwandel.de/veranstaltung/transition-town-gesamttreffen-45/
CATEGORIES:Initiativentreffen
ATTACH;FMTTYPE=image/png:https://gemeinsam-fuer-stadtwandel.de/wp-content/uploads/2021/03/transition-town.png
END:VEVENT
BEGIN:VEVENT
DTSTART;TZID=Europe/Paris:20261215T190000
DTEND;TZID=Europe/Paris:20261215T213000
DTSTAMP:20260420T120013
CREATED:20251130T175022Z
LAST-MODIFIED:20260116T182022Z
UID:16724-1797361200-1797370200@gemeinsam-fuer-stadtwandel.de
SUMMARY:AG Artenschutz-BUND Essen
DESCRIPTION:Die AG trifft sich nunmehr immer am 3. Dienstag im Monat in unseren Räumlichkeiten. \n\n\n\nAlle sind herzlich eingeladen teilzunehmen! \n\n\n\nBitte bei Martin Kaiser unter artenschutz(at)bund-essen.de anmelden. \n\n\n\nIm VUZ\, Kopstadtplatz. \n\n\n\nhttps://www.bund-essen.de/service/termine/detail/event/ag-artenschutz-5
URL:https://gemeinsam-fuer-stadtwandel.de/veranstaltung/ag-artenschutz-bund-essen-29/
CATEGORIES:Initiativentreffen
ATTACH;FMTTYPE=image/png:https://gemeinsam-fuer-stadtwandel.de/wp-content/uploads/2021/08/BUND_LOGO.png
END:VEVENT
BEGIN:VEVENT
DTSTART;TZID=Europe/Berlin:20261215T193000
DTEND;TZID=Europe/Berlin:20261215T213000
DTSTAMP:20260420T120013
CREATED:20251204T170811Z
LAST-MODIFIED:20260116T182022Z
UID:16802-1797363000-1797370200@gemeinsam-fuer-stadtwandel.de
SUMMARY:Bürger gegen Fluglärm - Treffen
DESCRIPTION:Jeden dritten Dienstag im Monat\n\n\n\nArbeits- und Informationstreffen\, Gäste sind herzlich willkommen\n\n\n\nAlter Bahnhof Kettwig\, Ruhrtalstr. 345\, 45219 Essen\n\n\n\n\nMail: sk-paff@t-online.de\, Georg.Regniet@bgf-ev.de \n\n\n\nInfos: www.bgf-ev.de \n\n\n\n     IInformationen dazu sh. Homepage unter Kalender
URL:https://gemeinsam-fuer-stadtwandel.de/veranstaltung/buerger-gegen-fluglaerm-treffen-12/
ATTACH;FMTTYPE=image/png:https://gemeinsam-fuer-stadtwandel.de/wp-content/uploads/2020/12/Bürger-gegen-Fluglärm.png
END:VEVENT
BEGIN:VEVENT
DTSTART;TZID=Europe/Berlin:20261222T180000
DTEND;TZID=Europe/Berlin:20261222T210000
DTSTAMP:20260420T120013
CREATED:20260223T174250Z
LAST-MODIFIED:20260223T174251Z
UID:17225-1797962400-1797973200@gemeinsam-fuer-stadtwandel.de
SUMMARY:Netzwerktreffen IGA2027
DESCRIPTION:Bis zur IGA findet jeden 4. Dienstag im Monat ein Angebot für alle Interessierten an der IGA 2027 statt. \n\n\n\nWir möchten  einander und die geplanten Projekte besser kennen zu lernen\, Fragen zu beantworten\, Kooperationen zu bilden und Ideen zu entwickeln\, wie die IGA in Essen aufblühen kann.     \n\n\n\nOrt: Treffpunkt City Nord (Viehofer Straße 31). \n\n\n\nhttps://www.meingarten.iga2027.ruhr
URL:https://gemeinsam-fuer-stadtwandel.de/veranstaltung/netzwerktreffen-iga2027-11/
ATTACH;FMTTYPE=image/png:https://gemeinsam-fuer-stadtwandel.de/wp-content/uploads/2026/02/Bildschirmfoto-2026-02-06-um-12.27.45.png
END:VEVENT
BEGIN:VEVENT
DTSTART;TZID=Europe/Paris:20261228T193000
DTEND;TZID=Europe/Paris:20261228T213000
DTSTAMP:20260420T120013
CREATED:20251130T172620Z
LAST-MODIFIED:20260116T182022Z
UID:16675-1798486200-1798493400@gemeinsam-fuer-stadtwandel.de
SUMMARY:GfS Werden - Arbeitstreffen von "klimagerecht-mobil-Werden" 
DESCRIPTION:Die Arbeitstreffen von klimagerecht-mobil-Werden (eine Arbeitsgruppe von Gemeinsam für Stadtwandel Werden) finden jeden 2. und 4. Montag im Monat in Haus Wunderbar um 19:30 bis ca. 21:30 statt. \n\n\n\nWir erarbeiten Vorschläge um unseren Stadtteil klimafreundlicher und -gerechter zu machen und stellen diese dann in Veranstaltungen den MitbürgerInnen und zuständigen PolitikerInnen zur Diskussion vor. \n\n\n\n\n\nFragen an Martina Schmitz: stadtwandel.werden@gmail.com \n\n\n\nhttps://klimagerecht-mobil-werden.de
URL:https://gemeinsam-fuer-stadtwandel.de/veranstaltung/gfs-werden-arbeitstreffen-von-klimagerecht-mobil-werden-53/
LOCATION:Haus Wunderbar\, Rittergasse 25\, Essen\, NRW\, 45239\, Deutschland
ATTACH;FMTTYPE=image/png:https://gemeinsam-fuer-stadtwandel.de/wp-content/uploads/2024/06/Gemeinsam-fuer-Stadtwandel-Logo-Werden-480x289-1.png
END:VEVENT
END:VCALENDAR