BEGIN:VCALENDAR
VERSION:2.0
PRODID:-//Gemeinsam für Stadtwandel - ECPv6.15.20//NONSGML v1.0//EN
CALSCALE:GREGORIAN
METHOD:PUBLISH
X-WR-CALNAME:Gemeinsam für Stadtwandel
X-ORIGINAL-URL:https://gemeinsam-fuer-stadtwandel.de
X-WR-CALDESC:Veranstaltungen für Gemeinsam für Stadtwandel
REFRESH-INTERVAL;VALUE=DURATION:PT1H
X-Robots-Tag:noindex
X-PUBLISHED-TTL:PT1H
BEGIN:VTIMEZONE
TZID:Europe/Berlin
BEGIN:DAYLIGHT
TZOFFSETFROM:+0100
TZOFFSETTO:+0200
TZNAME:CEST
DTSTART:20250330T010000
END:DAYLIGHT
BEGIN:STANDARD
TZOFFSETFROM:+0200
TZOFFSETTO:+0100
TZNAME:CET
DTSTART:20251026T010000
END:STANDARD
BEGIN:DAYLIGHT
TZOFFSETFROM:+0100
TZOFFSETTO:+0200
TZNAME:CEST
DTSTART:20260329T010000
END:DAYLIGHT
BEGIN:STANDARD
TZOFFSETFROM:+0200
TZOFFSETTO:+0100
TZNAME:CET
DTSTART:20261025T010000
END:STANDARD
BEGIN:DAYLIGHT
TZOFFSETFROM:+0100
TZOFFSETTO:+0200
TZNAME:CEST
DTSTART:20270328T010000
END:DAYLIGHT
BEGIN:STANDARD
TZOFFSETFROM:+0200
TZOFFSETTO:+0100
TZNAME:CET
DTSTART:20271031T010000
END:STANDARD
END:VTIMEZONE
BEGIN:VTIMEZONE
TZID:Europe/Paris
BEGIN:DAYLIGHT
TZOFFSETFROM:+0100
TZOFFSETTO:+0200
TZNAME:CEST
DTSTART:20250330T010000
END:DAYLIGHT
BEGIN:STANDARD
TZOFFSETFROM:+0200
TZOFFSETTO:+0100
TZNAME:CET
DTSTART:20251026T010000
END:STANDARD
BEGIN:DAYLIGHT
TZOFFSETFROM:+0100
TZOFFSETTO:+0200
TZNAME:CEST
DTSTART:20260329T010000
END:DAYLIGHT
BEGIN:STANDARD
TZOFFSETFROM:+0200
TZOFFSETTO:+0100
TZNAME:CET
DTSTART:20261025T010000
END:STANDARD
BEGIN:DAYLIGHT
TZOFFSETFROM:+0100
TZOFFSETTO:+0200
TZNAME:CEST
DTSTART:20270328T010000
END:DAYLIGHT
BEGIN:STANDARD
TZOFFSETFROM:+0200
TZOFFSETTO:+0100
TZNAME:CET
DTSTART:20271031T010000
END:STANDARD
END:VTIMEZONE
BEGIN:VEVENT
DTSTART;TZID=Europe/Berlin:20261001T190000
DTEND;TZID=Europe/Berlin:20261001T220000
DTSTAMP:20260420T091052
CREATED:20251204T171215Z
LAST-MODIFIED:20260116T182023Z
UID:16820-1790881200-1790892000@gemeinsam-fuer-stadtwandel.de
SUMMARY:Offenes Monatstreffen RadEntscheid
DESCRIPTION:Der RadEntscheid trifft sich  zu einem offenen monatlichen Treffen im Verkehrs- und Umweltzentrum\, jeweils am ersten Donnerstag im Monat. Du hast Lust und Zeit Dich für besseren Radverkehr in Essen zu engagieren\, dann bist Du herzlich eingeladen dabei zu sein im Verkehrs- und Umweltzentrum in der Rottstraße.
URL:https://gemeinsam-fuer-stadtwandel.de/veranstaltung/offenes-monatstreffen-radentscheid-18/
ATTACH;FMTTYPE=image/jpeg:https://gemeinsam-fuer-stadtwandel.de/wp-content/uploads/2022/07/RadEntscheid-Essen-Logo.jpg
END:VEVENT
BEGIN:VEVENT
DTSTART;TZID=Europe/Berlin:20261005T180000
DTEND;TZID=Europe/Berlin:20261005T193000
DTSTAMP:20260420T091052
CREATED:20251204T174033Z
LAST-MODIFIED:20260116T182023Z
UID:16888-1791223200-1791228600@gemeinsam-fuer-stadtwandel.de
SUMMARY:Sprechstunde von Solarstadt Werden
DESCRIPTION:Solarstadt Werden hilft bei persönlichen Fragen rund um Photovoltaik\, Wärmeenergie/-pumpe\, Stromspeichermedien und bei der Anbietersuche. Ehrenamtlichens Angebot – Hilfe zur Selbsthilfe. Jeden 1. Montag im Monat im Haus Wunderbar\, Rittergasse 25\, 45239 Essen
URL:https://gemeinsam-fuer-stadtwandel.de/veranstaltung/sprechstunde-von-solarstadt-werden-10/
ATTACH;FMTTYPE=image/jpeg:https://gemeinsam-fuer-stadtwandel.de/wp-content/uploads/2021/04/SolarstadtLogo.jpg
END:VEVENT
BEGIN:VEVENT
DTSTART;TZID=Europe/Berlin:20261006T193000
DTEND;TZID=Europe/Berlin:20261006T210000
DTSTAMP:20260420T091052
CREATED:20251204T174944Z
LAST-MODIFIED:20260116T182023Z
UID:16915-1791315000-1791320400@gemeinsam-fuer-stadtwandel.de
SUMMARY:Treffen Initiative für Nachhaltigkeit e.V.
DESCRIPTION:Die Initiative für Nachhaltigkeit trifft sich jeden ersten Dienstag im Monat im Fachgeschäft für Stadtwandel\, Gemarkenstr. 72. \n\n\n\nWir tauschen uns über aktuelle Projekte und neue Ideen aus.Interessierte sind herzlich willkommen! Schreibe uns eine Mail an post@initiative-fuer-nachhaltigkeit.de
URL:https://gemeinsam-fuer-stadtwandel.de/veranstaltung/treffen-initiative-fuer-nachhaltigkeit-e-v-28/
ATTACH;FMTTYPE=image/png:https://gemeinsam-fuer-stadtwandel.de/wp-content/uploads/2021/03/ifn-logo-e1734890476553.png
END:VEVENT
BEGIN:VEVENT
DTSTART;TZID=Europe/Berlin:20261009T190000
DTEND;TZID=Europe/Berlin:20261009T210000
DTSTAMP:20260420T091052
CREATED:20251204T171653Z
LAST-MODIFIED:20260116T182023Z
UID:16844-1791572400-1791579600@gemeinsam-fuer-stadtwandel.de
SUMMARY:Critical Mass Essen - Ohne Veranstalter durchgeführte Radfahrten kreuz und quer durch Essen
DESCRIPTION:Ohne Veranstalter durchgeführte Radfahrten kreuz und quer durch Essen. Der Verlauf der Strecke ist nicht vorgegeben sondern kann von der vordersten Fahrerreihe frei bestimmt werden. Wer über einen Streckenabschnitt die Route vorgeben möchte setzt sich einfach an die Spitze. Dauer etwa zwei Stunden.Treffpunkt: Willy-Brandt-Platz
URL:https://gemeinsam-fuer-stadtwandel.de/veranstaltung/critical-mass-essen-ohne-veranstalter-durchgefuehrte-radfahrten-kreuz-und-quer-durch-essen-13/
ATTACH;FMTTYPE=image/jpeg:https://gemeinsam-fuer-stadtwandel.de/wp-content/uploads/2025/02/logo_Critical_Mass_Essen.jpg
END:VEVENT
BEGIN:VEVENT
DTSTART;TZID=Europe/Berlin:20261011T100000
DTEND;TZID=Europe/Berlin:20261011T130000
DTSTAMP:20260420T091052
CREATED:20260328T160129Z
LAST-MODIFIED:20260328T160130Z
UID:17367-1791712800-1791723600@gemeinsam-fuer-stadtwandel.de
SUMMARY:Dengelkurs: Die Sense als kulturhistorisches Werkzeug erlebt ein Comeback
DESCRIPTION:„Die Sense als kulturhistorisches Werkzeug wird wieder modern“\, sagt Ralf Benner vom BUND Essen. Damit das Arbeiten mit der Sense nicht nur effektiv\, sondern auch Freude macht\, ist ein scharfes Sensenblatt unverzichtbar. Wie und mit welchen Werkzeugen man ein Sensenblatt fachgerecht schärft\, vermittelt ein praxisnaher Dengelkurs\, den der BUND Essen in Zusammenarbeit mit der Schule Natur anbietet. \n\n\n\nAnmeldungen erbeten an martin.kaiser(at)bund-essen.de \n\n\n\nWann: Samstag\, 11. Oktober 2026\, 10.00 bis ca. 13.00 UhrWo: Grugapark – Schule NaturKosten: 40\,00 € Kursgebühr (inkl. Bereitstellung von Sensenblatt\, Dengelwerkzeug und Arbeitsplatz)Anmeldung: martin.kaiser(at)bund-essen.deInfoblatt: Sensenkurse/Dengelkurs
URL:https://gemeinsam-fuer-stadtwandel.de/veranstaltung/dengelkurs-die-sense-als-kulturhistorisches-werkzeug-erlebt-ein-comeback/
ATTACH;FMTTYPE=image/png:https://gemeinsam-fuer-stadtwandel.de/wp-content/uploads/2021/08/BUND_LOGO.png
END:VEVENT
BEGIN:VEVENT
DTSTART;TZID=Europe/Paris:20261012T193000
DTEND;TZID=Europe/Paris:20261012T213000
DTSTAMP:20260420T091052
CREATED:20251130T172444Z
LAST-MODIFIED:20260116T182023Z
UID:16665-1791833400-1791840600@gemeinsam-fuer-stadtwandel.de
SUMMARY:GfS Werden - Arbeitstreffen von "klimagerecht-mobil-Werden" 
DESCRIPTION:Die Arbeitstreffen von klimagerecht-mobil-Werden (eine Arbeitsgruppe von Gemeinsam für Stadtwandel Werden) finden jeden 2. und 4. Montag im Monat in Haus Wunderbar um 19:30 bis ca. 21:30 statt. \n\n\n\nWir erarbeiten Vorschläge um unseren Stadtteil klimafreundlicher und -gerechter zu machen und stellen diese dann in Veranstaltungen den MitbürgerInnen und zuständigen PolitikerInnen zur Diskussion vor. \n\n\n\n\n\nFragen an Martina Schmitz: stadtwandel.werden@gmail.com \n\n\n\nhttps://klimagerecht-mobil-werden.de
URL:https://gemeinsam-fuer-stadtwandel.de/veranstaltung/gfs-werden-arbeitstreffen-von-klimagerecht-mobil-werden-48/
LOCATION:Haus Wunderbar\, Rittergasse 25\, Essen\, NRW\, 45239\, Deutschland
ATTACH;FMTTYPE=image/png:https://gemeinsam-fuer-stadtwandel.de/wp-content/uploads/2024/06/Gemeinsam-fuer-Stadtwandel-Logo-Werden-480x289-1.png
END:VEVENT
BEGIN:VEVENT
DTSTART;TZID=Europe/Paris:20261013T190000
DTEND;TZID=Europe/Paris:20261013T213000
DTSTAMP:20260420T091052
CREATED:20251130T173022Z
LAST-MODIFIED:20260116T182023Z
UID:16695-1791918000-1791927000@gemeinsam-fuer-stadtwandel.de
SUMMARY:AG Wasser-BUND Essen
DESCRIPTION:Offenes Treffen der AG Wasser immer am 2. Dienstag im Monat. Alle sind herzlich eingeladen teilzunehmen! \n\n\n\nBitte bei Andreas Bolle anmelden unter wasser(at)bund-essen.de. \n\n\n\nOb das Treffen vor Ort bei uns Verkehrs- und Umweltzentrum (Kopstadtplatz 12 an der Rottstraße in der Innenstadt) stattfindet oder digital\, ist bei Andreas zu erfragen. \n\n\n\nhttps://www.bund-essen.de/service/termine/detail/event/ag-wasser-9
URL:https://gemeinsam-fuer-stadtwandel.de/veranstaltung/ag-wasser-bund-essen-27/
CATEGORIES:Initiativentreffen
ATTACH;FMTTYPE=image/png:https://gemeinsam-fuer-stadtwandel.de/wp-content/uploads/2021/08/BUND_LOGO.png
END:VEVENT
BEGIN:VEVENT
DTSTART;TZID=Europe/Berlin:20261014T190000
DTEND;TZID=Europe/Berlin:20261014T210000
DTSTAMP:20260420T091052
CREATED:20251130T171207Z
LAST-MODIFIED:20260222T214143Z
UID:16622-1792004400-1792011600@gemeinsam-fuer-stadtwandel.de
SUMMARY:Netzwerktreffen Gemeinsam für Stadtwandel
DESCRIPTION:Treffpunkt City.Nord\, Viehoferstr 31  \n\n\n\nDas Netzwerk trifft sich jeden 2. Mittwoch im Monat. Wir tauschen uns über wichtige Neuigkeiten und geplante Aktionen aus und planen gemeinsame Projekte\, Strategien und Gespräche. \n\n\n\n\n\n\n\nInteressierte melden sich bitte unter: hallo@gemeinsam-fuer-stadtwandel.de.
URL:https://gemeinsam-fuer-stadtwandel.de/veranstaltung/netzwerktreffen-gemeinsam-fuer-stadtwandel-66/
CATEGORIES:Netzwerktreffen
ATTACH;FMTTYPE=image/webp:https://gemeinsam-fuer-stadtwandel.de/wp-content/uploads/2025/11/Logo_GFS.webp
END:VEVENT
BEGIN:VEVENT
DTSTART;TZID=Europe/Paris:20261020T190000
DTEND;TZID=Europe/Paris:20261020T210000
DTSTAMP:20260420T091052
CREATED:20251204T165408Z
LAST-MODIFIED:20260116T182023Z
UID:16765-1792522800-1792530000@gemeinsam-fuer-stadtwandel.de
SUMMARY:Transition Town - Gesamttreffen
DESCRIPTION:Gesamttreffen von Transition Town – Essen im Wandel findet jeden 3. Dienstag in der VHS am Burgplatz statt. Wir berichten über unsere Aktivitäten und beschäftigen uns auch mit Zukunfts-Ideen. \n\n\n\nFür weitere Informationen oder eine Anmeldung für den Newsletter: https://transitiontown-essen.de.
URL:https://gemeinsam-fuer-stadtwandel.de/veranstaltung/transition-town-gesamttreffen-43/
CATEGORIES:Initiativentreffen
ATTACH;FMTTYPE=image/png:https://gemeinsam-fuer-stadtwandel.de/wp-content/uploads/2021/03/transition-town.png
END:VEVENT
BEGIN:VEVENT
DTSTART;TZID=Europe/Paris:20261020T190000
DTEND;TZID=Europe/Paris:20261020T213000
DTSTAMP:20260420T091052
CREATED:20251130T174951Z
LAST-MODIFIED:20260116T182023Z
UID:16720-1792522800-1792531800@gemeinsam-fuer-stadtwandel.de
SUMMARY:AG Artenschutz-BUND Essen
DESCRIPTION:Die AG trifft sich nunmehr immer am 3. Dienstag im Monat in unseren Räumlichkeiten. \n\n\n\nAlle sind herzlich eingeladen teilzunehmen! \n\n\n\nBitte bei Martin Kaiser unter artenschutz(at)bund-essen.de anmelden. \n\n\n\nIm VUZ\, Kopstadtplatz. \n\n\n\nhttps://www.bund-essen.de/service/termine/detail/event/ag-artenschutz-5
URL:https://gemeinsam-fuer-stadtwandel.de/veranstaltung/ag-artenschutz-bund-essen-27/
CATEGORIES:Initiativentreffen
ATTACH;FMTTYPE=image/png:https://gemeinsam-fuer-stadtwandel.de/wp-content/uploads/2021/08/BUND_LOGO.png
END:VEVENT
BEGIN:VEVENT
DTSTART;TZID=Europe/Berlin:20261020T193000
DTEND;TZID=Europe/Berlin:20261020T213000
DTSTAMP:20260420T091052
CREATED:20251204T170726Z
LAST-MODIFIED:20260116T182023Z
UID:16798-1792524600-1792531800@gemeinsam-fuer-stadtwandel.de
SUMMARY:Bürger gegen Fluglärm - Treffen
DESCRIPTION:Jeden dritten Dienstag im Monat\n\n\n\nArbeits- und Informationstreffen\, Gäste sind herzlich willkommen\n\n\n\nAlter Bahnhof Kettwig\, Ruhrtalstr. 345\, 45219 Essen\n\n\n\n\nMail: sk-paff@t-online.de\, Georg.Regniet@bgf-ev.de \n\n\n\nInfos: www.bgf-ev.de \n\n\n\n     IInformationen dazu sh. Homepage unter Kalender
URL:https://gemeinsam-fuer-stadtwandel.de/veranstaltung/buerger-gegen-fluglaerm-treffen-10/
ATTACH;FMTTYPE=image/png:https://gemeinsam-fuer-stadtwandel.de/wp-content/uploads/2020/12/Bürger-gegen-Fluglärm.png
END:VEVENT
BEGIN:VEVENT
DTSTART;TZID=Europe/Paris:20261026T193000
DTEND;TZID=Europe/Paris:20261026T213000
DTSTAMP:20260420T091052
CREATED:20251130T172500Z
LAST-MODIFIED:20260116T182023Z
UID:16667-1793043000-1793050200@gemeinsam-fuer-stadtwandel.de
SUMMARY:GfS Werden - Arbeitstreffen von "klimagerecht-mobil-Werden" 
DESCRIPTION:Die Arbeitstreffen von klimagerecht-mobil-Werden (eine Arbeitsgruppe von Gemeinsam für Stadtwandel Werden) finden jeden 2. und 4. Montag im Monat in Haus Wunderbar um 19:30 bis ca. 21:30 statt. \n\n\n\nWir erarbeiten Vorschläge um unseren Stadtteil klimafreundlicher und -gerechter zu machen und stellen diese dann in Veranstaltungen den MitbürgerInnen und zuständigen PolitikerInnen zur Diskussion vor. \n\n\n\n\n\nFragen an Martina Schmitz: stadtwandel.werden@gmail.com \n\n\n\nhttps://klimagerecht-mobil-werden.de
URL:https://gemeinsam-fuer-stadtwandel.de/veranstaltung/gfs-werden-arbeitstreffen-von-klimagerecht-mobil-werden-49/
LOCATION:Haus Wunderbar\, Rittergasse 25\, Essen\, NRW\, 45239\, Deutschland
ATTACH;FMTTYPE=image/png:https://gemeinsam-fuer-stadtwandel.de/wp-content/uploads/2024/06/Gemeinsam-fuer-Stadtwandel-Logo-Werden-480x289-1.png
END:VEVENT
BEGIN:VEVENT
DTSTART;TZID=Europe/Berlin:20261027T180000
DTEND;TZID=Europe/Berlin:20261027T210000
DTSTAMP:20260420T091052
CREATED:20260223T174205Z
LAST-MODIFIED:20260223T174206Z
UID:17221-1793124000-1793134800@gemeinsam-fuer-stadtwandel.de
SUMMARY:Netzwerktreffen IGA2027
DESCRIPTION:Bis zur IGA findet jeden 4. Dienstag im Monat ein Angebot für alle Interessierten an der IGA 2027 statt. \n\n\n\nWir möchten  einander und die geplanten Projekte besser kennen zu lernen\, Fragen zu beantworten\, Kooperationen zu bilden und Ideen zu entwickeln\, wie die IGA in Essen aufblühen kann.     \n\n\n\nOrt: Treffpunkt City Nord (Viehofer Straße 31). \n\n\n\nhttps://www.meingarten.iga2027.ruhr
URL:https://gemeinsam-fuer-stadtwandel.de/veranstaltung/netzwerktreffen-iga2027-9/
ATTACH;FMTTYPE=image/png:https://gemeinsam-fuer-stadtwandel.de/wp-content/uploads/2026/02/Bildschirmfoto-2026-02-06-um-12.27.45.png
END:VEVENT
END:VCALENDAR