BEGIN:VCALENDAR
VERSION:2.0
PRODID:-//Gemeinsam für Stadtwandel - ECPv6.15.20//NONSGML v1.0//EN
CALSCALE:GREGORIAN
METHOD:PUBLISH
X-ORIGINAL-URL:https://gemeinsam-fuer-stadtwandel.de
X-WR-CALDESC:Veranstaltungen für Gemeinsam für Stadtwandel
REFRESH-INTERVAL;VALUE=DURATION:PT1H
X-Robots-Tag:noindex
X-PUBLISHED-TTL:PT1H
BEGIN:VTIMEZONE
TZID:Europe/Berlin
BEGIN:DAYLIGHT
TZOFFSETFROM:+0100
TZOFFSETTO:+0200
TZNAME:CEST
DTSTART:20250330T010000
END:DAYLIGHT
BEGIN:STANDARD
TZOFFSETFROM:+0200
TZOFFSETTO:+0100
TZNAME:CET
DTSTART:20251026T010000
END:STANDARD
BEGIN:DAYLIGHT
TZOFFSETFROM:+0100
TZOFFSETTO:+0200
TZNAME:CEST
DTSTART:20260329T010000
END:DAYLIGHT
BEGIN:STANDARD
TZOFFSETFROM:+0200
TZOFFSETTO:+0100
TZNAME:CET
DTSTART:20261025T010000
END:STANDARD
BEGIN:DAYLIGHT
TZOFFSETFROM:+0100
TZOFFSETTO:+0200
TZNAME:CEST
DTSTART:20270328T010000
END:DAYLIGHT
BEGIN:STANDARD
TZOFFSETFROM:+0200
TZOFFSETTO:+0100
TZNAME:CET
DTSTART:20271031T010000
END:STANDARD
END:VTIMEZONE
BEGIN:VTIMEZONE
TZID:Europe/Paris
BEGIN:DAYLIGHT
TZOFFSETFROM:+0100
TZOFFSETTO:+0200
TZNAME:CEST
DTSTART:20250330T010000
END:DAYLIGHT
BEGIN:STANDARD
TZOFFSETFROM:+0200
TZOFFSETTO:+0100
TZNAME:CET
DTSTART:20251026T010000
END:STANDARD
BEGIN:DAYLIGHT
TZOFFSETFROM:+0100
TZOFFSETTO:+0200
TZNAME:CEST
DTSTART:20260329T010000
END:DAYLIGHT
BEGIN:STANDARD
TZOFFSETFROM:+0200
TZOFFSETTO:+0100
TZNAME:CET
DTSTART:20261025T010000
END:STANDARD
BEGIN:DAYLIGHT
TZOFFSETFROM:+0100
TZOFFSETTO:+0200
TZNAME:CEST
DTSTART:20270328T010000
END:DAYLIGHT
BEGIN:STANDARD
TZOFFSETFROM:+0200
TZOFFSETTO:+0100
TZNAME:CET
DTSTART:20271031T010000
END:STANDARD
END:VTIMEZONE
BEGIN:VEVENT
DTSTART;TZID=Europe/Berlin:20260901T193000
DTEND;TZID=Europe/Berlin:20260901T210000
DTSTAMP:20260420T075920
CREATED:20251204T174930Z
LAST-MODIFIED:20260116T182023Z
UID:16913-1788291000-1788296400@gemeinsam-fuer-stadtwandel.de
SUMMARY:Treffen Initiative für Nachhaltigkeit e.V.
DESCRIPTION:Die Initiative für Nachhaltigkeit trifft sich jeden ersten Dienstag im Monat im Fachgeschäft für Stadtwandel\, Gemarkenstr. 72. \n\n\n\nWir tauschen uns über aktuelle Projekte und neue Ideen aus.Interessierte sind herzlich willkommen! Schreibe uns eine Mail an post@initiative-fuer-nachhaltigkeit.de
URL:https://gemeinsam-fuer-stadtwandel.de/veranstaltung/treffen-initiative-fuer-nachhaltigkeit-e-v-27/
ATTACH;FMTTYPE=image/png:https://gemeinsam-fuer-stadtwandel.de/wp-content/uploads/2021/03/ifn-logo-e1734890476553.png
END:VEVENT
BEGIN:VEVENT
DTSTART;TZID=Europe/Berlin:20260903T190000
DTEND;TZID=Europe/Berlin:20260903T220000
DTSTAMP:20260420T075920
CREATED:20251204T171157Z
LAST-MODIFIED:20260116T182023Z
UID:16818-1788462000-1788472800@gemeinsam-fuer-stadtwandel.de
SUMMARY:Offenes Monatstreffen RadEntscheid
DESCRIPTION:Der RadEntscheid trifft sich  zu einem offenen monatlichen Treffen im Verkehrs- und Umweltzentrum\, jeweils am ersten Donnerstag im Monat. Du hast Lust und Zeit Dich für besseren Radverkehr in Essen zu engagieren\, dann bist Du herzlich eingeladen dabei zu sein im Verkehrs- und Umweltzentrum in der Rottstraße.
URL:https://gemeinsam-fuer-stadtwandel.de/veranstaltung/offenes-monatstreffen-radentscheid-17/
ATTACH;FMTTYPE=image/jpeg:https://gemeinsam-fuer-stadtwandel.de/wp-content/uploads/2022/07/RadEntscheid-Essen-Logo.jpg
END:VEVENT
BEGIN:VEVENT
DTSTART;TZID=Europe/Berlin:20260907T180000
DTEND;TZID=Europe/Berlin:20260907T193000
DTSTAMP:20260420T075920
CREATED:20251204T174019Z
LAST-MODIFIED:20260116T182023Z
UID:16886-1788804000-1788809400@gemeinsam-fuer-stadtwandel.de
SUMMARY:Sprechstunde von Solarstadt Werden
DESCRIPTION:Solarstadt Werden hilft bei persönlichen Fragen rund um Photovoltaik\, Wärmeenergie/-pumpe\, Stromspeichermedien und bei der Anbietersuche. Ehrenamtlichens Angebot – Hilfe zur Selbsthilfe. Jeden 1. Montag im Monat im Haus Wunderbar\, Rittergasse 25\, 45239 Essen
URL:https://gemeinsam-fuer-stadtwandel.de/veranstaltung/sprechstunde-von-solarstadt-werden-9/
ATTACH;FMTTYPE=image/jpeg:https://gemeinsam-fuer-stadtwandel.de/wp-content/uploads/2021/04/SolarstadtLogo.jpg
END:VEVENT
BEGIN:VEVENT
DTSTART;TZID=Europe/Paris:20260908T190000
DTEND;TZID=Europe/Paris:20260908T213000
DTSTAMP:20260420T075920
CREATED:20251130T173001Z
LAST-MODIFIED:20260116T182023Z
UID:16693-1788894000-1788903000@gemeinsam-fuer-stadtwandel.de
SUMMARY:AG Wasser-BUND Essen
DESCRIPTION:Offenes Treffen der AG Wasser immer am 2. Dienstag im Monat. Alle sind herzlich eingeladen teilzunehmen! \n\n\n\nBitte bei Andreas Bolle anmelden unter wasser(at)bund-essen.de. \n\n\n\nOb das Treffen vor Ort bei uns Verkehrs- und Umweltzentrum (Kopstadtplatz 12 an der Rottstraße in der Innenstadt) stattfindet oder digital\, ist bei Andreas zu erfragen. \n\n\n\nhttps://www.bund-essen.de/service/termine/detail/event/ag-wasser-9
URL:https://gemeinsam-fuer-stadtwandel.de/veranstaltung/ag-wasser-bund-essen-26/
CATEGORIES:Initiativentreffen
ATTACH;FMTTYPE=image/png:https://gemeinsam-fuer-stadtwandel.de/wp-content/uploads/2021/08/BUND_LOGO.png
END:VEVENT
BEGIN:VEVENT
DTSTART;TZID=Europe/Berlin:20260909T190000
DTEND;TZID=Europe/Berlin:20260909T210000
DTSTAMP:20260420T075920
CREATED:20251130T171145Z
LAST-MODIFIED:20260328T155027Z
UID:16620-1788980400-1788987600@gemeinsam-fuer-stadtwandel.de
SUMMARY:Netzwerktreffen Gemeinsam für Stadtwandel
DESCRIPTION:Treffpunkt September: Steeler Wasserturm\, Laurentiusweg 83\, Essen-Steele \n\n\n\nDas Netzwerk trifft sich jeden 2. Mittwoch im Monat. Wir tauschen uns über wichtige Neuigkeiten und geplante Aktionen aus und planen gemeinsame Projekte\, Strategien und Gespräche. \n\n\n\n\n\n\n\nInteressierte melden sich bitte unter: hallo@gemeinsam-fuer-stadtwandel.de.
URL:https://gemeinsam-fuer-stadtwandel.de/veranstaltung/netzwerktreffen-gemeinsam-fuer-stadtwandel-65/
CATEGORIES:Netzwerktreffen
ATTACH;FMTTYPE=image/webp:https://gemeinsam-fuer-stadtwandel.de/wp-content/uploads/2025/11/Logo_GFS.webp
END:VEVENT
BEGIN:VEVENT
DTSTART;TZID=Europe/Berlin:20260911T190000
DTEND;TZID=Europe/Berlin:20260911T210000
DTSTAMP:20260420T075920
CREATED:20251204T171637Z
LAST-MODIFIED:20260116T182023Z
UID:16842-1789153200-1789160400@gemeinsam-fuer-stadtwandel.de
SUMMARY:Critical Mass Essen - Ohne Veranstalter durchgeführte Radfahrten kreuz und quer durch Essen
DESCRIPTION:Ohne Veranstalter durchgeführte Radfahrten kreuz und quer durch Essen. Der Verlauf der Strecke ist nicht vorgegeben sondern kann von der vordersten Fahrerreihe frei bestimmt werden. Wer über einen Streckenabschnitt die Route vorgeben möchte setzt sich einfach an die Spitze. Dauer etwa zwei Stunden.Treffpunkt: Willy-Brandt-Platz
URL:https://gemeinsam-fuer-stadtwandel.de/veranstaltung/critical-mass-essen-ohne-veranstalter-durchgefuehrte-radfahrten-kreuz-und-quer-durch-essen-12/
ATTACH;FMTTYPE=image/jpeg:https://gemeinsam-fuer-stadtwandel.de/wp-content/uploads/2025/02/logo_Critical_Mass_Essen.jpg
END:VEVENT
BEGIN:VEVENT
DTSTART;TZID=Europe/Paris:20260914T193000
DTEND;TZID=Europe/Paris:20260914T213000
DTSTAMP:20260420T075920
CREATED:20251130T172407Z
LAST-MODIFIED:20260116T182023Z
UID:16661-1789414200-1789421400@gemeinsam-fuer-stadtwandel.de
SUMMARY:GfS Werden - Arbeitstreffen von "klimagerecht-mobil-Werden" 
DESCRIPTION:Die Arbeitstreffen von klimagerecht-mobil-Werden (eine Arbeitsgruppe von Gemeinsam für Stadtwandel Werden) finden jeden 2. und 4. Montag im Monat in Haus Wunderbar um 19:30 bis ca. 21:30 statt. \n\n\n\nWir erarbeiten Vorschläge um unseren Stadtteil klimafreundlicher und -gerechter zu machen und stellen diese dann in Veranstaltungen den MitbürgerInnen und zuständigen PolitikerInnen zur Diskussion vor. \n\n\n\n\n\nFragen an Martina Schmitz: stadtwandel.werden@gmail.com \n\n\n\nhttps://klimagerecht-mobil-werden.de
URL:https://gemeinsam-fuer-stadtwandel.de/veranstaltung/gfs-werden-arbeitstreffen-von-klimagerecht-mobil-werden-46/
LOCATION:Haus Wunderbar\, Rittergasse 25\, Essen\, NRW\, 45239\, Deutschland
ATTACH;FMTTYPE=image/png:https://gemeinsam-fuer-stadtwandel.de/wp-content/uploads/2024/06/Gemeinsam-fuer-Stadtwandel-Logo-Werden-480x289-1.png
END:VEVENT
BEGIN:VEVENT
DTSTART;TZID=Europe/Paris:20260915T190000
DTEND;TZID=Europe/Paris:20260915T210000
DTSTAMP:20260420T075920
CREATED:20251204T165342Z
LAST-MODIFIED:20260116T182023Z
UID:16763-1789498800-1789506000@gemeinsam-fuer-stadtwandel.de
SUMMARY:Transition Town - Gesamttreffen
DESCRIPTION:Gesamttreffen von Transition Town – Essen im Wandel findet jeden 3. Dienstag in der VHS am Burgplatz statt. Wir berichten über unsere Aktivitäten und beschäftigen uns auch mit Zukunfts-Ideen. \n\n\n\nFür weitere Informationen oder eine Anmeldung für den Newsletter: https://transitiontown-essen.de.
URL:https://gemeinsam-fuer-stadtwandel.de/veranstaltung/transition-town-gesamttreffen-42/
CATEGORIES:Initiativentreffen
ATTACH;FMTTYPE=image/png:https://gemeinsam-fuer-stadtwandel.de/wp-content/uploads/2021/03/transition-town.png
END:VEVENT
BEGIN:VEVENT
DTSTART;TZID=Europe/Paris:20260915T190000
DTEND;TZID=Europe/Paris:20260915T213000
DTSTAMP:20260420T075920
CREATED:20251130T174934Z
LAST-MODIFIED:20260116T182023Z
UID:16718-1789498800-1789507800@gemeinsam-fuer-stadtwandel.de
SUMMARY:AG Artenschutz-BUND Essen
DESCRIPTION:Die AG trifft sich nunmehr immer am 3. Dienstag im Monat in unseren Räumlichkeiten. \n\n\n\nAlle sind herzlich eingeladen teilzunehmen! \n\n\n\nBitte bei Martin Kaiser unter artenschutz(at)bund-essen.de anmelden. \n\n\n\nIm VUZ\, Kopstadtplatz. \n\n\n\nhttps://www.bund-essen.de/service/termine/detail/event/ag-artenschutz-5
URL:https://gemeinsam-fuer-stadtwandel.de/veranstaltung/ag-artenschutz-bund-essen-26/
CATEGORIES:Initiativentreffen
ATTACH;FMTTYPE=image/png:https://gemeinsam-fuer-stadtwandel.de/wp-content/uploads/2021/08/BUND_LOGO.png
END:VEVENT
BEGIN:VEVENT
DTSTART;TZID=Europe/Berlin:20260915T193000
DTEND;TZID=Europe/Berlin:20260915T213000
DTSTAMP:20260420T075920
CREATED:20251204T170704Z
LAST-MODIFIED:20260116T182023Z
UID:16796-1789500600-1789507800@gemeinsam-fuer-stadtwandel.de
SUMMARY:Bürger gegen Fluglärm - Treffen
DESCRIPTION:Jeden dritten Dienstag im Monat\n\n\n\nArbeits- und Informationstreffen\, Gäste sind herzlich willkommen\n\n\n\nAlter Bahnhof Kettwig\, Ruhrtalstr. 345\, 45219 Essen\n\n\n\n\nMail: sk-paff@t-online.de\, Georg.Regniet@bgf-ev.de \n\n\n\nInfos: www.bgf-ev.de \n\n\n\n     IInformationen dazu sh. Homepage unter Kalender
URL:https://gemeinsam-fuer-stadtwandel.de/veranstaltung/buerger-gegen-fluglaerm-treffen-9/
ATTACH;FMTTYPE=image/png:https://gemeinsam-fuer-stadtwandel.de/wp-content/uploads/2020/12/Bürger-gegen-Fluglärm.png
END:VEVENT
BEGIN:VEVENT
DTSTART;TZID=Europe/Berlin:20260919T140000
DTEND;TZID=Europe/Berlin:20260919T170000
DTSTAMP:20260420T075920
CREATED:20260410T093336Z
LAST-MODIFIED:20260410T093336Z
UID:17416-1789826400-1789837200@gemeinsam-fuer-stadtwandel.de
SUMMARY:Kidical Mass Essen- Fahrrad-Demo für die ganze Familie
DESCRIPTION:Ab Stadtgarten/Brunnenstraße
URL:https://gemeinsam-fuer-stadtwandel.de/veranstaltung/kidical-mass-essen-fahrrad-demo-fuer-die-ganze-familie-3/
ATTACH;FMTTYPE=image/jpeg:https://gemeinsam-fuer-stadtwandel.de/wp-content/uploads/2022/07/RadEntscheid-Essen-Logo.jpg
END:VEVENT
BEGIN:VEVENT
DTSTART;TZID=Europe/Berlin:20260920T093000
DTEND;TZID=Europe/Berlin:20260920T133000
DTSTAMP:20260420T075920
CREATED:20260328T155849Z
LAST-MODIFIED:20260328T155849Z
UID:17365-1789896600-1789911000@gemeinsam-fuer-stadtwandel.de
SUMMARY:Sensenkurs in Essen: Traditionelles Mähen mit der Sense lernen
DESCRIPTION:Die BUND-Kreisgruppe Essen lädt herzlich zu einem Sensenkurs mit dem erfahrenen Sensenlehrer Ralf Benner ein. \n\n\n\nAllen Teilnehmenden wird eine größenangepasste Sense zur Verfügung gestellt. Daher bitten wir bei der Anmeldung zu den acht Kursplätzen um die Angabe der Körpergröße. Selbstverständlich kann auch die eigene Sense mitgebracht werden. \n\n\n\nOrt:  Terrassenfriedhof\, Eingang Kaldenhoverbaum\, Anmeldungen erbeten an martin.kaiser(at)bund-essen.de  \n\n\n\n\nKursgebühr mit Leih-Sense: 75\,00 €\n\n\n\nAnmeldung: bitte mit Angabe der Körpergröße (und ggf. Mobilnummer)\n\n\n\nKontakt: martin.kaiser(at) bund-essen.de\n\n\n\nInfoblatt: Sensenkurse/Dengelkurs
URL:https://gemeinsam-fuer-stadtwandel.de/veranstaltung/sensenkurs-in-essen-traditionelles-maehen-mit-der-sense-lernen-2/
ATTACH;FMTTYPE=image/png:https://gemeinsam-fuer-stadtwandel.de/wp-content/uploads/2021/08/BUND_LOGO.png
END:VEVENT
BEGIN:VEVENT
DTSTART;TZID=Europe/Berlin:20260922T180000
DTEND;TZID=Europe/Berlin:20260922T210000
DTSTAMP:20260420T075920
CREATED:20260223T174144Z
LAST-MODIFIED:20260223T174145Z
UID:17219-1790100000-1790110800@gemeinsam-fuer-stadtwandel.de
SUMMARY:Netzwerktreffen IGA2027
DESCRIPTION:Bis zur IGA findet jeden 4. Dienstag im Monat ein Angebot für alle Interessierten an der IGA 2027 statt. \n\n\n\nWir möchten  einander und die geplanten Projekte besser kennen zu lernen\, Fragen zu beantworten\, Kooperationen zu bilden und Ideen zu entwickeln\, wie die IGA in Essen aufblühen kann.     \n\n\n\nOrt: Treffpunkt City Nord (Viehofer Straße 31). \n\n\n\nhttps://www.meingarten.iga2027.ruhr
URL:https://gemeinsam-fuer-stadtwandel.de/veranstaltung/netzwerktreffen-iga2027-8/
ATTACH;FMTTYPE=image/png:https://gemeinsam-fuer-stadtwandel.de/wp-content/uploads/2026/02/Bildschirmfoto-2026-02-06-um-12.27.45.png
END:VEVENT
BEGIN:VEVENT
DTSTART;TZID=Europe/Berlin:20260926T000000
DTEND;TZID=Europe/Berlin:20260926T235959
DTSTAMP:20260420T075920
CREATED:20260405T133845Z
LAST-MODIFIED:20260405T133845Z
UID:17398-1790380800-1790467199@gemeinsam-fuer-stadtwandel.de
SUMMARY:FÜHRUNG ÜBER DIE EVERFGREEN FARM
DESCRIPTION:Dieses Jahr bieten wir separate Führungen an – unabhängig von Festen.Dauer: ca. 2 StundenKosten: 20 € pro erwachsene PersonGruppengröße: 5–15 PersonenTermine (jeweils samstags):– 27. Juni– 25. Juli– 29. August– 26. SeptemberWenn ihr dabei sein möchtet\, schreibt uns gerne eine Mail.  mailto:evergreenfarm@posteo.de
URL:https://gemeinsam-fuer-stadtwandel.de/veranstaltung/fuehrung-ueber-die-everfgreen-farm-3/
ATTACH;FMTTYPE=image/png:https://gemeinsam-fuer-stadtwandel.de/wp-content/uploads/2025/01/logo_evergreen_permaculture.png
END:VEVENT
BEGIN:VEVENT
DTSTART;TZID=Europe/Paris:20260928T193000
DTEND;TZID=Europe/Paris:20260928T213000
DTSTAMP:20260420T075920
CREATED:20251130T172425Z
LAST-MODIFIED:20260116T182023Z
UID:16663-1790623800-1790631000@gemeinsam-fuer-stadtwandel.de
SUMMARY:GfS Werden - Arbeitstreffen von "klimagerecht-mobil-Werden" 
DESCRIPTION:Die Arbeitstreffen von klimagerecht-mobil-Werden (eine Arbeitsgruppe von Gemeinsam für Stadtwandel Werden) finden jeden 2. und 4. Montag im Monat in Haus Wunderbar um 19:30 bis ca. 21:30 statt. \n\n\n\nWir erarbeiten Vorschläge um unseren Stadtteil klimafreundlicher und -gerechter zu machen und stellen diese dann in Veranstaltungen den MitbürgerInnen und zuständigen PolitikerInnen zur Diskussion vor. \n\n\n\n\n\nFragen an Martina Schmitz: stadtwandel.werden@gmail.com \n\n\n\nhttps://klimagerecht-mobil-werden.de
URL:https://gemeinsam-fuer-stadtwandel.de/veranstaltung/gfs-werden-arbeitstreffen-von-klimagerecht-mobil-werden-47/
LOCATION:Haus Wunderbar\, Rittergasse 25\, Essen\, NRW\, 45239\, Deutschland
ATTACH;FMTTYPE=image/png:https://gemeinsam-fuer-stadtwandel.de/wp-content/uploads/2024/06/Gemeinsam-fuer-Stadtwandel-Logo-Werden-480x289-1.png
END:VEVENT
END:VCALENDAR