BEGIN:VCALENDAR
VERSION:2.0
PRODID:-//Gemeinsam für Stadtwandel - ECPv6.15.20//NONSGML v1.0//EN
CALSCALE:GREGORIAN
METHOD:PUBLISH
X-ORIGINAL-URL:https://gemeinsam-fuer-stadtwandel.de
X-WR-CALDESC:Veranstaltungen für Gemeinsam für Stadtwandel
REFRESH-INTERVAL;VALUE=DURATION:PT1H
X-Robots-Tag:noindex
X-PUBLISHED-TTL:PT1H
BEGIN:VTIMEZONE
TZID:Europe/Berlin
BEGIN:DAYLIGHT
TZOFFSETFROM:+0100
TZOFFSETTO:+0200
TZNAME:CEST
DTSTART:20250330T010000
END:DAYLIGHT
BEGIN:STANDARD
TZOFFSETFROM:+0200
TZOFFSETTO:+0100
TZNAME:CET
DTSTART:20251026T010000
END:STANDARD
BEGIN:DAYLIGHT
TZOFFSETFROM:+0100
TZOFFSETTO:+0200
TZNAME:CEST
DTSTART:20260329T010000
END:DAYLIGHT
BEGIN:STANDARD
TZOFFSETFROM:+0200
TZOFFSETTO:+0100
TZNAME:CET
DTSTART:20261025T010000
END:STANDARD
BEGIN:DAYLIGHT
TZOFFSETFROM:+0100
TZOFFSETTO:+0200
TZNAME:CEST
DTSTART:20270328T010000
END:DAYLIGHT
BEGIN:STANDARD
TZOFFSETFROM:+0200
TZOFFSETTO:+0100
TZNAME:CET
DTSTART:20271031T010000
END:STANDARD
END:VTIMEZONE
BEGIN:VTIMEZONE
TZID:Europe/Paris
BEGIN:DAYLIGHT
TZOFFSETFROM:+0100
TZOFFSETTO:+0200
TZNAME:CEST
DTSTART:20250330T010000
END:DAYLIGHT
BEGIN:STANDARD
TZOFFSETFROM:+0200
TZOFFSETTO:+0100
TZNAME:CET
DTSTART:20251026T010000
END:STANDARD
BEGIN:DAYLIGHT
TZOFFSETFROM:+0100
TZOFFSETTO:+0200
TZNAME:CEST
DTSTART:20260329T010000
END:DAYLIGHT
BEGIN:STANDARD
TZOFFSETFROM:+0200
TZOFFSETTO:+0100
TZNAME:CET
DTSTART:20261025T010000
END:STANDARD
BEGIN:DAYLIGHT
TZOFFSETFROM:+0100
TZOFFSETTO:+0200
TZNAME:CEST
DTSTART:20270328T010000
END:DAYLIGHT
BEGIN:STANDARD
TZOFFSETFROM:+0200
TZOFFSETTO:+0100
TZNAME:CET
DTSTART:20271031T010000
END:STANDARD
END:VTIMEZONE
BEGIN:VEVENT
DTSTART;TZID=Europe/Berlin:20260228T000000
DTEND;TZID=Europe/Berlin:20260315T235959
DTSTAMP:20260419T191017
CREATED:20260316T114506Z
LAST-MODIFIED:20260316T114508Z
UID:17308-1772236800-1773619199@gemeinsam-fuer-stadtwandel.de
SUMMARY:12 . SauberZauber 
DESCRIPTION:Essen packt erneut gemeinsam an: Beim 21. SauberZauber\, der vom 28. Februar bis 15. März 2026 stattfindet\, beteiligen sich 30.000 Essener*innen in 635 Gruppen an der stadtweiten Aufräumaktion. Damit wurde der bisherige Anmelderekord aus dem Jahr 2023 (26.606 Teilnehmende in 586 Gruppenaktionen) noch einmal deutlich übertroffen.Weitere Informationen zu „21. SauberZauber erreicht neuen Rekord – 30.000 Essener*innen engagieren sich für eine saubere Stadt“  
URL:https://gemeinsam-fuer-stadtwandel.de/veranstaltung/12-sauberzauber/
ATTACH;FMTTYPE=image/png:https://gemeinsam-fuer-stadtwandel.de/wp-content/uploads/2021/05/Stadt-Essen.png
END:VEVENT
BEGIN:VEVENT
DTSTART;TZID=Europe/Berlin:20260302T143000
DTEND;TZID=Europe/Berlin:20260302T160000
DTSTAMP:20260419T191017
CREATED:20260206T113402Z
LAST-MODIFIED:20260206T113404Z
UID:17123-1772461800-1772467200@gemeinsam-fuer-stadtwandel.de
SUMMARY:Begehung  Zukunftsgarten Gelsenkirchen
DESCRIPTION:Gelsenkirchen (Nordsternpark): Mo 02.03.\, 14.30 bis ca. 16 Uhr \n\n\n\nWir bitten um Rückmeldung bis Do 19.02.\, ob und an welchem Tag Sie dabei sein möchten. Mail an Alexandra Reich: a.reich@iga2027.ruhr
URL:https://gemeinsam-fuer-stadtwandel.de/veranstaltung/begehung-zukunftsgarten-gelsenkirchen-2/
ATTACH;FMTTYPE=image/png:https://gemeinsam-fuer-stadtwandel.de/wp-content/uploads/2026/02/Bildschirmfoto-2026-02-06-um-12.27.45.png
END:VEVENT
BEGIN:VEVENT
DTSTART;TZID=Europe/Berlin:20260302T180000
DTEND;TZID=Europe/Berlin:20260302T193000
DTSTAMP:20260419T191017
CREATED:20251204T173836Z
LAST-MODIFIED:20260116T182026Z
UID:16874-1772474400-1772479800@gemeinsam-fuer-stadtwandel.de
SUMMARY:Sprechstunde von Solarstadt Werden
DESCRIPTION:Solarstadt Werden hilft bei persönlichen Fragen rund um Photovoltaik\, Wärmeenergie/-pumpe\, Stromspeichermedien und bei der Anbietersuche. Ehrenamtlichens Angebot – Hilfe zur Selbsthilfe. Jeden 1. Montag im Monat im Haus Wunderbar\, Rittergasse 25\, 45239 Essen
URL:https://gemeinsam-fuer-stadtwandel.de/veranstaltung/sprechstunde-von-solarstadt-werden-3/
ATTACH;FMTTYPE=image/jpeg:https://gemeinsam-fuer-stadtwandel.de/wp-content/uploads/2021/04/SolarstadtLogo.jpg
END:VEVENT
BEGIN:VEVENT
DTSTART;TZID=Europe/Berlin:20260303T193000
DTEND;TZID=Europe/Berlin:20260303T210000
DTSTAMP:20260419T191017
CREATED:20251204T174654Z
LAST-MODIFIED:20260116T182025Z
UID:16901-1772566200-1772571600@gemeinsam-fuer-stadtwandel.de
SUMMARY:Treffen Initiative für Nachhaltigkeit e.V.
DESCRIPTION:Die Initiative für Nachhaltigkeit trifft sich jeden ersten Dienstag im Monat im Fachgeschäft für Stadtwandel\, Gemarkenstr. 72. \n\n\n\nWir tauschen uns über aktuelle Projekte und neue Ideen aus.Interessierte sind herzlich willkommen! Schreibe uns eine Mail an post@initiative-fuer-nachhaltigkeit.de
URL:https://gemeinsam-fuer-stadtwandel.de/veranstaltung/treffen-initiative-fuer-nachhaltigkeit-e-v-21/
ATTACH;FMTTYPE=image/png:https://gemeinsam-fuer-stadtwandel.de/wp-content/uploads/2021/03/ifn-logo-e1734890476553.png
END:VEVENT
BEGIN:VEVENT
DTSTART;TZID=Europe/Berlin:20260304T190000
DTEND;TZID=Europe/Berlin:20260304T213000
DTSTAMP:20260419T191017
CREATED:20260208T172531Z
LAST-MODIFIED:20260208T172533Z
UID:17129-1772650800-1772659800@gemeinsam-fuer-stadtwandel.de
SUMMARY:Online-Infoveranstaltung – Mietgärten
DESCRIPTION:Dein einfacher Einstieg in den eigenen Mietgarten – Lerne uns live kennen!💻 Online via Zoom: Hier klickenMehr Infos: www.meine-ernte.de/shop/infove…
URL:https://gemeinsam-fuer-stadtwandel.de/veranstaltung/online-infoveranstaltung-mietgaerten/
ATTACH;FMTTYPE=image/png:https://gemeinsam-fuer-stadtwandel.de/wp-content/uploads/2026/02/Bildschirmfoto-2026-02-08-um-18.24.43.png
END:VEVENT
BEGIN:VEVENT
DTSTART;TZID=Europe/Berlin:20260305T190000
DTEND;TZID=Europe/Berlin:20260305T220000
DTSTAMP:20260419T191017
CREATED:20251204T170959Z
LAST-MODIFIED:20260116T182025Z
UID:16806-1772737200-1772748000@gemeinsam-fuer-stadtwandel.de
SUMMARY:Offenes Monatstreffen RadEntscheid
DESCRIPTION:Der RadEntscheid trifft sich  zu einem offenen monatlichen Treffen im Verkehrs- und Umweltzentrum\, jeweils am ersten Donnerstag im Monat. Du hast Lust und Zeit Dich für besseren Radverkehr in Essen zu engagieren\, dann bist Du herzlich eingeladen dabei zu sein im Verkehrs- und Umweltzentrum in der Rottstraße.
URL:https://gemeinsam-fuer-stadtwandel.de/veranstaltung/offenes-monatstreffen-radentscheid-11/
ATTACH;FMTTYPE=image/jpeg:https://gemeinsam-fuer-stadtwandel.de/wp-content/uploads/2022/07/RadEntscheid-Essen-Logo.jpg
END:VEVENT
BEGIN:VEVENT
DTSTART;TZID=Europe/Paris:20260309T193000
DTEND;TZID=Europe/Paris:20260309T213000
DTSTAMP:20260419T191017
CREATED:20251130T172009Z
LAST-MODIFIED:20260116T182025Z
UID:16637-1773084600-1773091800@gemeinsam-fuer-stadtwandel.de
SUMMARY:GfS Werden - Arbeitstreffen von "klimagerecht-mobil-Werden" 
DESCRIPTION:Die Arbeitstreffen von klimagerecht-mobil-Werden (eine Arbeitsgruppe von Gemeinsam für Stadtwandel Werden) finden jeden 2. und 4. Montag im Monat in Haus Wunderbar um 19:30 bis ca. 21:30 statt. \n\n\n\nWir erarbeiten Vorschläge um unseren Stadtteil klimafreundlicher und -gerechter zu machen und stellen diese dann in Veranstaltungen den MitbürgerInnen und zuständigen PolitikerInnen zur Diskussion vor. \n\n\n\n\n\nFragen an Martina Schmitz: stadtwandel.werden@gmail.com \n\n\n\nhttps://klimagerecht-mobil-werden.de
URL:https://gemeinsam-fuer-stadtwandel.de/veranstaltung/gfs-werden-arbeitstreffen-von-klimagerecht-mobil-werden-34/
LOCATION:Haus Wunderbar\, Rittergasse 25\, Essen\, NRW\, 45239\, Deutschland
ATTACH;FMTTYPE=image/png:https://gemeinsam-fuer-stadtwandel.de/wp-content/uploads/2024/06/Gemeinsam-fuer-Stadtwandel-Logo-Werden-480x289-1.png
END:VEVENT
BEGIN:VEVENT
DTSTART;TZID=Europe/Paris:20260310T190000
DTEND;TZID=Europe/Paris:20260310T213000
DTSTAMP:20260419T191017
CREATED:20251130T172816Z
LAST-MODIFIED:20260116T182025Z
UID:16681-1773169200-1773178200@gemeinsam-fuer-stadtwandel.de
SUMMARY:AG Wasser-BUND Essen
DESCRIPTION:Offenes Treffen der AG Wasser immer am 2. Dienstag im Monat. Alle sind herzlich eingeladen teilzunehmen! \n\n\n\nBitte bei Andreas Bolle anmelden unter wasser(at)bund-essen.de. \n\n\n\nOb das Treffen vor Ort bei uns Verkehrs- und Umweltzentrum (Kopstadtplatz 12 an der Rottstraße in der Innenstadt) stattfindet oder digital\, ist bei Andreas zu erfragen. \n\n\n\nhttps://www.bund-essen.de/service/termine/detail/event/ag-wasser-9
URL:https://gemeinsam-fuer-stadtwandel.de/veranstaltung/ag-wasser-bund-essen-20/
CATEGORIES:Initiativentreffen
ATTACH;FMTTYPE=image/png:https://gemeinsam-fuer-stadtwandel.de/wp-content/uploads/2021/08/BUND_LOGO.png
END:VEVENT
BEGIN:VEVENT
DTSTART;TZID=Europe/Berlin:20260311T190000
DTEND;TZID=Europe/Berlin:20260311T210000
DTSTAMP:20260419T191017
CREATED:20251130T170913Z
LAST-MODIFIED:20260222T213847Z
UID:16606-1773255600-1773262800@gemeinsam-fuer-stadtwandel.de
SUMMARY:Netzwerktreffen Gemeinsam für Stadtwandel
DESCRIPTION:Treffpunkt City.Nord\, Viehoferstr 31  \n\n\n\nDas Netzwerk trifft sich jeden 2. Mittwoch im Monat. Wir tauschen uns über wichtige Neuigkeiten und geplante Aktionen aus und planen gemeinsame Projekte\, Strategien und Gespräche. \n\n\n\n\n\n\n\nInteressierte melden sich bitte unter: hallo@gemeinsam-fuer-stadtwandel.de.
URL:https://gemeinsam-fuer-stadtwandel.de/veranstaltung/netzwerktreffen-gemeinsam-fuer-stadtwandel-58/
CATEGORIES:Netzwerktreffen
ATTACH;FMTTYPE=image/webp:https://gemeinsam-fuer-stadtwandel.de/wp-content/uploads/2025/11/Logo_GFS.webp
END:VEVENT
BEGIN:VEVENT
DTSTART;TZID=Europe/Berlin:20260312T100000
DTEND;TZID=Europe/Berlin:20260312T143000
DTSTAMP:20260419T191017
CREATED:20260206T112842Z
LAST-MODIFIED:20260206T113651Z
UID:17115-1773309600-1773325800@gemeinsam-fuer-stadtwandel.de
SUMMARY:Begehung  3 Zukunftsgärten
DESCRIPTION:Sehr gerne möchten wir Sie zu den nächsten Begehungen der Zukunftsgärten Dortmund\, Duisburg und Gelsenkirchen im Februar und März 2026 einladen. Dort geben wir allen interessierten (potenziellen) Partner*innen des IGA 2027-Veranstaltungsprogramms einen Überblick über aktuelle Entwicklungsstände und können Fragen zu den Geländen und Veranstaltungsflächen beantworten. \n\n\n\nWir bitten um Rückmeldung bis Do 19.02.\, ob und an welchem Tag Sie dabei sein möchten. Mail an Alexandra Reich: a.reich@iga2027.ruhr
URL:https://gemeinsam-fuer-stadtwandel.de/veranstaltung/begehung-zukunftsgarten-dortmund/
ATTACH;FMTTYPE=image/png:https://gemeinsam-fuer-stadtwandel.de/wp-content/uploads/2026/02/Bildschirmfoto-2026-02-06-um-12.27.45.png
END:VEVENT
BEGIN:VEVENT
DTSTART;TZID=Europe/Berlin:20260312T190000
DTEND;TZID=Europe/Berlin:20260312T210000
DTSTAMP:20260419T191017
CREATED:20260228T194203Z
LAST-MODIFIED:20260228T194204Z
UID:17260-1773342000-1773349200@gemeinsam-fuer-stadtwandel.de
SUMMARY:"Bildungsgang - Bildung neu denken" - Filmabend
DESCRIPTION:Eine dokumentarische Reflexion junger Menschen in der Bildungskrise von Simon Marian Hoffmann 2022. \n\n\n\nEntgeltfrei in der VHS Essen
URL:https://gemeinsam-fuer-stadtwandel.de/veranstaltung/bildungsgang-bildung-neu-denken-filmabend/
ATTACH;FMTTYPE=image/png:https://gemeinsam-fuer-stadtwandel.de/wp-content/uploads/2022/07/transition-town.png
END:VEVENT
BEGIN:VEVENT
DTSTART;TZID=Europe/Berlin:20260312T190000
DTEND;TZID=Europe/Berlin:20260312T213000
DTSTAMP:20260419T191017
CREATED:20260223T172916Z
LAST-MODIFIED:20260223T172916Z
UID:17201-1773342000-1773351000@gemeinsam-fuer-stadtwandel.de
SUMMARY:Wie die UMWELTBEWEGUNG in ESSEN begann - Festveranstaltung
DESCRIPTION:Haus der Essener Geschichte/Stadtarchiv\, Vortragsraum\, Ernst-Schmidt-Platz 1\, Essen\, 45128
URL:https://gemeinsam-fuer-stadtwandel.de/veranstaltung/wie-die-umweltbewegung-in-essen-begann-festveranstaltung/
ATTACH;FMTTYPE=image/png:https://gemeinsam-fuer-stadtwandel.de/wp-content/uploads/2026/02/image001.png
END:VEVENT
BEGIN:VEVENT
DTSTART;TZID=Europe/Berlin:20260313T190000
DTEND;TZID=Europe/Berlin:20260313T210000
DTSTAMP:20260419T191017
CREATED:20251204T171454Z
LAST-MODIFIED:20260116T182025Z
UID:16830-1773428400-1773435600@gemeinsam-fuer-stadtwandel.de
SUMMARY:Critical Mass Essen - Ohne Veranstalter durchgeführte Radfahrten kreuz und quer durch Essen
DESCRIPTION:Ohne Veranstalter durchgeführte Radfahrten kreuz und quer durch Essen. Der Verlauf der Strecke ist nicht vorgegeben sondern kann von der vordersten Fahrerreihe frei bestimmt werden. Wer über einen Streckenabschnitt die Route vorgeben möchte setzt sich einfach an die Spitze. Dauer etwa zwei Stunden.Treffpunkt: Willy-Brandt-Platz
URL:https://gemeinsam-fuer-stadtwandel.de/veranstaltung/critical-mass-essen-ohne-veranstalter-durchgefuehrte-radfahrten-kreuz-und-quer-durch-essen-6/
ATTACH;FMTTYPE=image/jpeg:https://gemeinsam-fuer-stadtwandel.de/wp-content/uploads/2025/02/logo_Critical_Mass_Essen.jpg
END:VEVENT
BEGIN:VEVENT
DTSTART;TZID=Europe/Paris:20260317T190000
DTEND;TZID=Europe/Paris:20260317T210000
DTSTAMP:20260419T191017
CREATED:20251204T165014Z
LAST-MODIFIED:20260116T182025Z
UID:16751-1773774000-1773781200@gemeinsam-fuer-stadtwandel.de
SUMMARY:Transition Town - Gesamttreffen
DESCRIPTION:Gesamttreffen von Transition Town – Essen im Wandel findet jeden 3. Dienstag in der VHS am Burgplatz statt. Wir berichten über unsere Aktivitäten und beschäftigen uns auch mit Zukunfts-Ideen. \n\n\n\nFür weitere Informationen oder eine Anmeldung für den Newsletter: https://transitiontown-essen.de.
URL:https://gemeinsam-fuer-stadtwandel.de/veranstaltung/transition-town-gesamttreffen-36/
CATEGORIES:Initiativentreffen
ATTACH;FMTTYPE=image/png:https://gemeinsam-fuer-stadtwandel.de/wp-content/uploads/2021/03/transition-town.png
END:VEVENT
BEGIN:VEVENT
DTSTART;TZID=Europe/Paris:20260317T190000
DTEND;TZID=Europe/Paris:20260317T213000
DTSTAMP:20260419T191017
CREATED:20251130T174738Z
LAST-MODIFIED:20260116T182025Z
UID:16706-1773774000-1773783000@gemeinsam-fuer-stadtwandel.de
SUMMARY:AG Artenschutz-BUND Essen
DESCRIPTION:Die AG trifft sich nunmehr immer am 3. Dienstag im Monat in unseren Räumlichkeiten. \n\n\n\nAlle sind herzlich eingeladen teilzunehmen! \n\n\n\nBitte bei Martin Kaiser unter artenschutz(at)bund-essen.de anmelden. \n\n\n\nIm VUZ\, Kopstadtplatz. \n\n\n\nhttps://www.bund-essen.de/service/termine/detail/event/ag-artenschutz-5
URL:https://gemeinsam-fuer-stadtwandel.de/veranstaltung/ag-artenschutz-bund-essen-20/
CATEGORIES:Initiativentreffen
ATTACH;FMTTYPE=image/png:https://gemeinsam-fuer-stadtwandel.de/wp-content/uploads/2021/08/BUND_LOGO.png
END:VEVENT
BEGIN:VEVENT
DTSTART;TZID=Europe/Berlin:20260317T193000
DTEND;TZID=Europe/Berlin:20260317T213000
DTSTAMP:20260419T191017
CREATED:20251204T170458Z
LAST-MODIFIED:20260116T182025Z
UID:16784-1773775800-1773783000@gemeinsam-fuer-stadtwandel.de
SUMMARY:Bürger gegen Fluglärm - Treffen
DESCRIPTION:Jeden dritten Dienstag im Monat\n\n\n\nArbeits- und Informationstreffen\, Gäste sind herzlich willkommen\n\n\n\nAlter Bahnhof Kettwig\, Ruhrtalstr. 345\, 45219 Essen\n\n\n\n\nMail: sk-paff@t-online.de\, Georg.Regniet@bgf-ev.de \n\n\n\nInfos: www.bgf-ev.de \n\n\n\n     IInformationen dazu sh. Homepage unter Kalender
URL:https://gemeinsam-fuer-stadtwandel.de/veranstaltung/buerger-gegen-fluglaerm-treffen-3/
ATTACH;FMTTYPE=image/png:https://gemeinsam-fuer-stadtwandel.de/wp-content/uploads/2020/12/Bürger-gegen-Fluglärm.png
END:VEVENT
BEGIN:VEVENT
DTSTART;TZID=Europe/Berlin:20260318T180000
DTEND;TZID=Europe/Berlin:20260318T193000
DTSTAMP:20260419T191017
CREATED:20260216T143940Z
LAST-MODIFIED:20260216T143940Z
UID:17177-1773856800-1773862200@gemeinsam-fuer-stadtwandel.de
SUMMARY:Onlinevortrag: Klima und Kultur
DESCRIPTION:In der Webinar-Reihe „Klima und Wir“ spricht Fransziska Mohaupt darüber\, wie Kultureinrichtungen mehr als nur Orte der Kunst sein können– sie haben das Potenzial\, gesellschaftlichen Wandel aktiv mitzugestalten.  \n\n\n\nZur Teilname an der Veranstaltung ist keine Anmeldung erforderlich. Sie benötigen lediglich ein Endgerät mit Internetanschluss. Am 18. März 2026 gelangen Sie mit dem folgenden Link direkt in das Webinar. https://app.sli.do/event/eCg3ZVbRfdkjepF7u8oD9Y/live/polls
URL:https://gemeinsam-fuer-stadtwandel.de/veranstaltung/onlinevortrag-klima-und-kultur/
ATTACH;FMTTYPE=image/png:https://gemeinsam-fuer-stadtwandel.de/wp-content/uploads/2025/11/VHS_nachhaltig.png
END:VEVENT
BEGIN:VEVENT
DTSTART;TZID=Europe/Berlin:20260318T190000
DTEND;TZID=Europe/Berlin:20260318T210000
DTSTAMP:20260419T191017
CREATED:20260316T121402Z
LAST-MODIFIED:20260316T121404Z
UID:17313-1773860400-1773867600@gemeinsam-fuer-stadtwandel.de
SUMMARY:Referat: Doppelmoral im Umgang mit dem Völkerrecht
DESCRIPTION:Der Jurist Dr. Rolf Gössner – Kuratoriumsmitglied der Internationalen Liga für Menschenrechte – referiert am Mittwoch\, 18.3. 2026 ab 19:00 Uhr zur  Doppelmoral im Umgang mit dem Völkerrecht zwischen Krieg und Frieden und zur Bedeutung des internationalen Strafgerichtshofes à https://essener-friedensforum.de/wp-content/uploads/2026/03/261-EFF_VHS-Dr.-Goessner-18.3.26-Voelkerrecht_Frieden.pdf
URL:https://gemeinsam-fuer-stadtwandel.de/veranstaltung/referat-doppelmoral-im-umgang-mit-dem-voelkerrecht/
ATTACH;FMTTYPE=image/png:https://gemeinsam-fuer-stadtwandel.de/wp-content/uploads/2022/07/Friedensforum-Essen-Logo.png
END:VEVENT
BEGIN:VEVENT
DTSTART;TZID=Europe/Berlin:20260319T113000
DTEND;TZID=Europe/Berlin:20260319T121500
DTSTAMP:20260419T191017
CREATED:20260316T114214Z
LAST-MODIFIED:20260316T114216Z
UID:17306-1773919800-1773922500@gemeinsam-fuer-stadtwandel.de
SUMMARY:Online-Reihe: "climate business lunch" mit unterschiedlichen Schwerpunktthemen
DESCRIPTION:In Kooperation mit NRW.energy4climate und der Essener Wirtschaftsförderung\, dem Essener Klimapakt und den Städten Duisburg\, Krefeld und Düsseldorf werden auch in 2026 wieder zwölf Veranstaltungen für Unternehmen digital angeboten\, die sich mit der Energieeffizienz und dem Klimaschutz in Gewerbebetrieben befassen. Die Teilnahme ist kostenfrei. \n\n\n\nBei der Online-Veranstaltung am 19. März geht es um wirtschaftliche Vorteile durch smartes Leben. \n\n\n\n \n\n\n\nReferent: Domenic Huch\, Fachexperte für Mobilität\, NRW.Energy4Climate \n\n\n\nDie Teilnahme ist kostenfrei. \n\n\n\nWeitere Informationen und eine Anmeldungsmöglichkeit gibt es auf der Seite des Essener KlimaTreff .
URL:https://gemeinsam-fuer-stadtwandel.de/veranstaltung/online-reihe-climate-business-lunch-mit-unterschiedlichen-schwerpunktthemen/
ATTACH;FMTTYPE=image/png:https://gemeinsam-fuer-stadtwandel.de/wp-content/uploads/2021/05/Stadt-Essen.png
END:VEVENT
BEGIN:VEVENT
DTSTART;TZID=Europe/Berlin:20260321T133000
DTEND;TZID=Europe/Berlin:20260321T170000
DTSTAMP:20260419T191017
CREATED:20260316T115144Z
LAST-MODIFIED:20260316T115145Z
UID:17310-1774099800-1774112400@gemeinsam-fuer-stadtwandel.de
SUMMARY:Gemeinsamer Arbeitseinsatz auf dem Weltacker
DESCRIPTION:Wir möchten wir gemeinsam die Fläche für die anstehende Aussaat und Pflanzung vorbereiten. Dazu gehören das Einsammeln von Pflanzenresten\, die nach dem erneuten Aufbrechen der Fläche entstanden sind\, sowie das Vermessen der einzelnen Anbaubereiche – etwa für Getreide\, Gemüse und Hülsenfrüchte. \n\n\n\nJede helfende Hand ist herzlich willkommen!Bitte bringt\, wenn möglich\, Gartenhandschuhe und festes Schuhwerk mit\, da wir auf dem Acker arbeiten werden. \n\n\n\nWichtig: Thomas Leuchten wird die Fläche\, sofern das Wetter es zulässt\, vorab aufbereiten. Sollte die Fläche aufgrund von Nässe nicht bearbeitbar sein\, müssen wir den Termin leider verschieben. In diesem Fall informieren wir alle angemeldeten Helfer:innen per E-Mail. \n\n\n\nWer mitmachen möchte\, meldet sich bitte bis zum 18.03. bei:Wiebke Müller – wiebke.mueller@eine-welt-netz-nrw.de
URL:https://gemeinsam-fuer-stadtwandel.de/veranstaltung/gemeinsamer-arbeitseinsatz-auf-dem-weltacker/
ATTACH;FMTTYPE=image/png:https://gemeinsam-fuer-stadtwandel.de/wp-content/uploads/2026/03/Bildschirmfoto-2026-03-16-um-12.50.46.png
END:VEVENT
BEGIN:VEVENT
DTSTART;TZID=Europe/Berlin:20260322T110000
DTEND;TZID=Europe/Berlin:20260322T130000
DTSTAMP:20260419T191017
CREATED:20260317T213828Z
LAST-MODIFIED:20260317T213830Z
UID:17339-1774177200-1774184400@gemeinsam-fuer-stadtwandel.de
SUMMARY:Reden von morgen: Klima gestaltet Stadt!
DESCRIPTION:Was bedeutet der Faktor Klima real für unsere Stadtgestaltung? Und bildet sich sein Status quo in unserer Kultur des Bauens und Umbauens wirklich ab? …. \n\n\n\nEin Seitenblick auf die Baukultur thematisiert aktuelle Fragen\, Prozesse und Bewertungen zu einem veränderten Wert der Stadtgestaltung und diskutiert kommunale Projekte. \n\n\n\nVHS Essen\, Raum U.01 \n\n\n\nKostenlos. KursNr. 261.1A022N  \n\n\n\nWeitere Infos: https://www.vhs-essen.de/kuferweb/webbasys/index.php?kathaupt=11&knr=261.1A022N&kursname=Reden+von+morgen+Klima+gestaltet+Stadt
URL:https://gemeinsam-fuer-stadtwandel.de/veranstaltung/reden-von-morgen-klima-gestaltet-stadt/
ATTACH;FMTTYPE=image/jpeg:https://gemeinsam-fuer-stadtwandel.de/wp-content/uploads/2024/09/vhsessen-gemeinsamnachhaltiger.jpg
END:VEVENT
BEGIN:VEVENT
DTSTART;TZID=Europe/Berlin:20260323T170000
DTEND;TZID=Europe/Berlin:20260323T193000
DTSTAMP:20260419T191017
CREATED:20260209T181136Z
LAST-MODIFIED:20260318T200927Z
UID:17152-1774285200-1774294200@gemeinsam-fuer-stadtwandel.de
SUMMARY:Stadtteilaustausch #4
DESCRIPTION:Im Rahmen des Pilotprojekts SUETS: Stadtteile stärken – Klima schützen –  Gemeinsam handeln in Essen möchten wir den Stadtteilaustausch #4 dazu nutzen\, das Angebot der Nachhaltigkeitsbörse vorzustellen. Wir erklären den Prozess und helfen Stadtteilakteurinnen und -akteuren\, Mittel zur Durchführung von Projekten zu beantragen.  \n\n\n\nOrt: Melanchthonkirche\, Melanchthonstr. 3\, 45147 Essen (Hinweise zur Erreichbarkeit mit dem ÖPNV siehe hier)
URL:https://gemeinsam-fuer-stadtwandel.de/veranstaltung/stadtteilaustausch-4/
ATTACH;FMTTYPE=image/png:https://gemeinsam-fuer-stadtwandel.de/wp-content/uploads/2023/06/GHA.png
END:VEVENT
BEGIN:VEVENT
DTSTART;TZID=Europe/Berlin:20260323T190000
DTEND;TZID=Europe/Berlin:20260323T213000
DTSTAMP:20260419T191017
CREATED:20260223T171828Z
LAST-MODIFIED:20260223T171829Z
UID:17198-1774292400-1774301400@gemeinsam-fuer-stadtwandel.de
SUMMARY:Online-Info-Veranstaltung von SOLARSTADT WERDEN 
DESCRIPTION:Auch im Jahr 2026 bieten wir virtuelle Informationsveranstaltungen an. Ein Schwerpunkt des \n\n\n\nInformationsabends im März sollen die aktuell boomenden Steckersolaranlagen bzw.Balkonkraftwerke werden.  \n\n\n\nDer Fachvortrag findet wieder auf der Videoplattform zoom statt und wendet sich nicht nur an WERDENER sondern alle Interessierten aus Essen und Umgebung.  \n\n\n\nLink zur Infoveranstaltung:  https://solarstadt-werden.de/ueber-uns/aktuell/
URL:https://gemeinsam-fuer-stadtwandel.de/veranstaltung/online-info-veranstaltung-von-solarstadt-werden/
ATTACH;FMTTYPE=image/jpeg:https://gemeinsam-fuer-stadtwandel.de/wp-content/uploads/2021/04/SolarstadtLogo.jpg
END:VEVENT
BEGIN:VEVENT
DTSTART;TZID=Europe/Paris:20260323T193000
DTEND;TZID=Europe/Paris:20260323T213000
DTSTAMP:20260419T191017
CREATED:20251130T172030Z
LAST-MODIFIED:20260116T182025Z
UID:16639-1774294200-1774301400@gemeinsam-fuer-stadtwandel.de
SUMMARY:GfS Werden - Arbeitstreffen von "klimagerecht-mobil-Werden" 
DESCRIPTION:Die Arbeitstreffen von klimagerecht-mobil-Werden (eine Arbeitsgruppe von Gemeinsam für Stadtwandel Werden) finden jeden 2. und 4. Montag im Monat in Haus Wunderbar um 19:30 bis ca. 21:30 statt. \n\n\n\nWir erarbeiten Vorschläge um unseren Stadtteil klimafreundlicher und -gerechter zu machen und stellen diese dann in Veranstaltungen den MitbürgerInnen und zuständigen PolitikerInnen zur Diskussion vor. \n\n\n\n\n\nFragen an Martina Schmitz: stadtwandel.werden@gmail.com \n\n\n\nhttps://klimagerecht-mobil-werden.de
URL:https://gemeinsam-fuer-stadtwandel.de/veranstaltung/gfs-werden-arbeitstreffen-von-klimagerecht-mobil-werden-35/
LOCATION:Haus Wunderbar\, Rittergasse 25\, Essen\, NRW\, 45239\, Deutschland
ATTACH;FMTTYPE=image/png:https://gemeinsam-fuer-stadtwandel.de/wp-content/uploads/2024/06/Gemeinsam-fuer-Stadtwandel-Logo-Werden-480x289-1.png
END:VEVENT
BEGIN:VEVENT
DTSTART;TZID=Europe/Berlin:20260324T180000
DTEND;TZID=Europe/Berlin:20260324T210000
DTSTAMP:20260419T191017
CREATED:20260223T173920Z
LAST-MODIFIED:20260223T173920Z
UID:17207-1774375200-1774386000@gemeinsam-fuer-stadtwandel.de
SUMMARY:Netzwerktreffen IGA2027
DESCRIPTION:Bis zur IGA findet jeden 4. Dienstag im Monat ein Angebot für alle Interessierten an der IGA 2027 statt. \n\n\n\nWir möchten  einander und die geplanten Projekte besser kennen zu lernen\, Fragen zu beantworten\, Kooperationen zu bilden und Ideen zu entwickeln\, wie die IGA in Essen aufblühen kann.     \n\n\n\nOrt: Treffpunkt City Nord (Viehofer Straße 31). \n\n\n\nhttps://www.meingarten.iga2027.ruhr
URL:https://gemeinsam-fuer-stadtwandel.de/veranstaltung/netzwerktreffen-iga2027-2/
ATTACH;FMTTYPE=image/png:https://gemeinsam-fuer-stadtwandel.de/wp-content/uploads/2026/02/Bildschirmfoto-2026-02-06-um-12.27.45.png
END:VEVENT
BEGIN:VEVENT
DTSTART;TZID=Europe/Berlin:20260325T190000
DTEND;TZID=Europe/Berlin:20260325T210000
DTSTAMP:20260419T191017
CREATED:20260324T122951Z
LAST-MODIFIED:20260326T125812Z
UID:17349-1774465200-1774472400@gemeinsam-fuer-stadtwandel.de
SUMMARY:Benefizkonzert für Klimagerechtigkeit
DESCRIPTION:Der Bergisch Gladbacher Komponist und Pianist Roland Vossebrecker\, Mitglied in der IKGL\, engagiert sich seit einigen Jahren mit Benefizkonzerten für Klimagerechtigkeit und hat mit seinen Konzert-Projekten der letzten Jahre bereits über 152.000 € für die Entwicklungshilfe-Organisationen Oxfam und die Welthungerhilfe eingespielt. \n\n\n\nMehr Infos unter: https://klimagerecht-leben.de/konzerte-fuer-klimagerechtigkeit \n\n\n\nKunsthaus Essen e.V. Rübezahlstraße 33\, 45134 Essen
URL:https://gemeinsam-fuer-stadtwandel.de/veranstaltung/benefizkonzert-fuer-klimagerechtigkeit/
END:VEVENT
BEGIN:VEVENT
DTSTART;TZID=Europe/Berlin:20260328T080000
DTEND;TZID=Europe/Berlin:20260328T130000
DTSTAMP:20260419T191017
CREATED:20260216T144205Z
LAST-MODIFIED:20260216T144206Z
UID:17179-1774684800-1774702800@gemeinsam-fuer-stadtwandel.de
SUMMARY:NABU Ruhr: Die Sprache des Waldes in Essen-Heidhausen
DESCRIPTION:Auf einem Rundweg von ca. 3 – 4 km ist Zeit für Dinge\, die unterwegs „passieren“. Sie werden von einigen Übungen begleitet. \n\n\n\nEINE ANMELDUNG IST ERFORDERLICH. \n\n\n\nAnmeldung und Info unter Website des NABU Ruhr und der Voßgätters Mühle e.V.
URL:https://gemeinsam-fuer-stadtwandel.de/veranstaltung/nabu-ruhr-die-sprache-des-waldes-in-essen-heidhausen/
ATTACH;FMTTYPE=image/png:https://gemeinsam-fuer-stadtwandel.de/wp-content/uploads/2025/11/VHS_nachhaltig.png
END:VEVENT
END:VCALENDAR