BEGIN:VCALENDAR
VERSION:2.0
PRODID:-//Gemeinsam für Stadtwandel - ECPv6.15.20//NONSGML v1.0//EN
CALSCALE:GREGORIAN
METHOD:PUBLISH
X-WR-CALNAME:Gemeinsam für Stadtwandel
X-ORIGINAL-URL:https://gemeinsam-fuer-stadtwandel.de
X-WR-CALDESC:Veranstaltungen für Gemeinsam für Stadtwandel
REFRESH-INTERVAL;VALUE=DURATION:PT1H
X-Robots-Tag:noindex
X-PUBLISHED-TTL:PT1H
BEGIN:VTIMEZONE
TZID:Europe/Berlin
BEGIN:DAYLIGHT
TZOFFSETFROM:+0100
TZOFFSETTO:+0200
TZNAME:CEST
DTSTART:20250330T010000
END:DAYLIGHT
BEGIN:STANDARD
TZOFFSETFROM:+0200
TZOFFSETTO:+0100
TZNAME:CET
DTSTART:20251026T010000
END:STANDARD
BEGIN:DAYLIGHT
TZOFFSETFROM:+0100
TZOFFSETTO:+0200
TZNAME:CEST
DTSTART:20260329T010000
END:DAYLIGHT
BEGIN:STANDARD
TZOFFSETFROM:+0200
TZOFFSETTO:+0100
TZNAME:CET
DTSTART:20261025T010000
END:STANDARD
BEGIN:DAYLIGHT
TZOFFSETFROM:+0100
TZOFFSETTO:+0200
TZNAME:CEST
DTSTART:20270328T010000
END:DAYLIGHT
BEGIN:STANDARD
TZOFFSETFROM:+0200
TZOFFSETTO:+0100
TZNAME:CET
DTSTART:20271031T010000
END:STANDARD
END:VTIMEZONE
BEGIN:VTIMEZONE
TZID:Europe/Paris
BEGIN:DAYLIGHT
TZOFFSETFROM:+0100
TZOFFSETTO:+0200
TZNAME:CEST
DTSTART:20250330T010000
END:DAYLIGHT
BEGIN:STANDARD
TZOFFSETFROM:+0200
TZOFFSETTO:+0100
TZNAME:CET
DTSTART:20251026T010000
END:STANDARD
BEGIN:DAYLIGHT
TZOFFSETFROM:+0100
TZOFFSETTO:+0200
TZNAME:CEST
DTSTART:20260329T010000
END:DAYLIGHT
BEGIN:STANDARD
TZOFFSETFROM:+0200
TZOFFSETTO:+0100
TZNAME:CET
DTSTART:20261025T010000
END:STANDARD
BEGIN:DAYLIGHT
TZOFFSETFROM:+0100
TZOFFSETTO:+0200
TZNAME:CEST
DTSTART:20270328T010000
END:DAYLIGHT
BEGIN:STANDARD
TZOFFSETFROM:+0200
TZOFFSETTO:+0100
TZNAME:CET
DTSTART:20271031T010000
END:STANDARD
END:VTIMEZONE
BEGIN:VEVENT
DTSTART;TZID=Europe/Berlin:20260101T170000
DTEND;TZID=Europe/Berlin:20260101T200000
DTSTAMP:20260420T040558
CREATED:20251204T172321Z
LAST-MODIFIED:20251204T172556Z
UID:16850-1767286800-1767297600@gemeinsam-fuer-stadtwandel.de
SUMMARY:1\,5-Grad-Mahnwache Essen
DESCRIPTION:Jeden Donnerstag kommen Menschen aus unterschiedlichen Zusammenhängen vor der RWE-Zentrale in Essen zusammen\, um dem Konzern deutlich zu machen\, dass sein klimazerstörerisches Werk gestoppt werden muss.  Altenessener Straße 35\, 45141 Essen (RWE-Platz 1).
URL:https://gemeinsam-fuer-stadtwandel.de/veranstaltung/15-grad-mahnwache-essen/
ATTACH;FMTTYPE=image/png:https://gemeinsam-fuer-stadtwandel.de/wp-content/uploads/2025/12/Bildschirmfoto-2025-12-04-um-18.24.32.png
END:VEVENT
BEGIN:VEVENT
DTSTART;TZID=Europe/Berlin:20260105T180000
DTEND;TZID=Europe/Berlin:20260105T193000
DTSTAMP:20260420T040558
CREATED:20251204T173737Z
LAST-MODIFIED:20251204T173737Z
UID:16870-1767636000-1767641400@gemeinsam-fuer-stadtwandel.de
SUMMARY:Sprechstunde von Solarstadt Werden
DESCRIPTION:Solarstadt Werden hilft bei persönlichen Fragen rund um Photovoltaik\, Wärmeenergie/-pumpe\, Stromspeichermedien und bei der Anbietersuche. Ehrenamtlichens Angebot – Hilfe zur Selbsthilfe. Jeden 1. Montag im Monat im Haus Wunderbar\, Rittergasse 25\, 45239 Essen
URL:https://gemeinsam-fuer-stadtwandel.de/veranstaltung/sprechstunde-von-solarstadt-werden/
ATTACH;FMTTYPE=image/jpeg:https://gemeinsam-fuer-stadtwandel.de/wp-content/uploads/2021/04/SolarstadtLogo.jpg
END:VEVENT
BEGIN:VEVENT
DTSTART;TZID=Europe/Berlin:20260106T193000
DTEND;TZID=Europe/Berlin:20260106T210000
DTSTAMP:20260420T040558
CREATED:20251204T174440Z
LAST-MODIFIED:20251204T174746Z
UID:16896-1767727800-1767733200@gemeinsam-fuer-stadtwandel.de
SUMMARY:Treffen Initiative für Nachhaltigkeit e.V.
DESCRIPTION:Die Initiative für Nachhaltigkeit trifft sich jeden ersten Dienstag im Monat im Fachgeschäft für Stadtwandel\, Gemarkenstr. 72. \n\n\n\nWir tauschen uns über aktuelle Projekte und neue Ideen aus.Interessierte sind herzlich willkommen! Schreibe uns eine Mail an post@initiative-fuer-nachhaltigkeit.de
URL:https://gemeinsam-fuer-stadtwandel.de/veranstaltung/treffen-initiative-fuer-nachhaltigkeit-e-v-20/
ATTACH;FMTTYPE=image/png:https://gemeinsam-fuer-stadtwandel.de/wp-content/uploads/2021/03/ifn-logo-e1734890476553.png
END:VEVENT
BEGIN:VEVENT
DTSTART;TZID=Europe/Berlin:20260108T170000
DTEND;TZID=Europe/Berlin:20260108T200000
DTSTAMP:20260420T040558
CREATED:20251204T172659Z
LAST-MODIFIED:20251204T172701Z
UID:16855-1767891600-1767902400@gemeinsam-fuer-stadtwandel.de
SUMMARY:1\,5-Grad-Mahnwache Essen
DESCRIPTION:Jeden Donnerstag kommen Menschen aus unterschiedlichen Zusammenhängen vor der RWE-Zentrale in Essen zusammen\, um dem Konzern deutlich zu machen\, dass sein klimazerstörerisches Werk gestoppt werden muss.  Altenessener Straße 35\, 45141 Essen (RWE-Platz 1).
URL:https://gemeinsam-fuer-stadtwandel.de/veranstaltung/15-grad-mahnwache-essen-2/
ATTACH;FMTTYPE=image/png:https://gemeinsam-fuer-stadtwandel.de/wp-content/uploads/2025/12/Bildschirmfoto-2025-12-04-um-18.24.32.png
END:VEVENT
BEGIN:VEVENT
DTSTART;TZID=Europe/Berlin:20260109T190000
DTEND;TZID=Europe/Berlin:20260109T210000
DTSTAMP:20260420T040558
CREATED:20251204T171417Z
LAST-MODIFIED:20251204T171418Z
UID:16826-1767985200-1767992400@gemeinsam-fuer-stadtwandel.de
SUMMARY:Critical Mass Essen - Ohne Veranstalter durchgeführte Radfahrten kreuz und quer durch Essen
DESCRIPTION:Ohne Veranstalter durchgeführte Radfahrten kreuz und quer durch Essen. Der Verlauf der Strecke ist nicht vorgegeben sondern kann von der vordersten Fahrerreihe frei bestimmt werden. Wer über einen Streckenabschnitt die Route vorgeben möchte setzt sich einfach an die Spitze. Dauer etwa zwei Stunden.Treffpunkt: Willy-Brandt-Platz
URL:https://gemeinsam-fuer-stadtwandel.de/veranstaltung/critical-mass-essen-ohne-veranstalter-durchgefuehrte-radfahrten-kreuz-und-quer-durch-essen-4/
ATTACH;FMTTYPE=image/jpeg:https://gemeinsam-fuer-stadtwandel.de/wp-content/uploads/2025/02/logo_Critical_Mass_Essen.jpg
END:VEVENT
BEGIN:VEVENT
DTSTART;TZID=Europe/Paris:20260112T193000
DTEND;TZID=Europe/Paris:20260112T213000
DTSTAMP:20260420T040558
CREATED:20251130T171740Z
LAST-MODIFIED:20251130T171741Z
UID:16628-1768246200-1768253400@gemeinsam-fuer-stadtwandel.de
SUMMARY:GfS Werden - Arbeitstreffen von "klimagerecht-mobil-Werden" 
DESCRIPTION:Die Arbeitstreffen von klimagerecht-mobil-Werden (eine Arbeitsgruppe von Gemeinsam für Stadtwandel Werden) finden jeden 2. und 4. Montag im Monat in Haus Wunderbar um 19:30 bis ca. 21:30 statt. \n\n\n\nWir erarbeiten Vorschläge um unseren Stadtteil klimafreundlicher und -gerechter zu machen und stellen diese dann in Veranstaltungen den MitbürgerInnen und zuständigen PolitikerInnen zur Diskussion vor. \n\n\n\n\n\nFragen an Martina Schmitz: stadtwandel.werden@gmail.com \n\n\n\n\nStartseite
URL:https://gemeinsam-fuer-stadtwandel.de/veranstaltung/gfs-werden-arbeitstreffen-von-klimagerecht-mobil-werden-30/
LOCATION:Haus Wunderbar\, Rittergasse 25\, Essen\, NRW\, 45239\, Deutschland
CATEGORIES:Initiativentreffen,Mach mit!
ATTACH;FMTTYPE=image/png:https://gemeinsam-fuer-stadtwandel.de/wp-content/uploads/2024/06/Gemeinsam-fuer-Stadtwandel-Logo-Werden-480x289-1.png
END:VEVENT
BEGIN:VEVENT
DTSTART;TZID=Europe/Paris:20260113T190000
DTEND;TZID=Europe/Paris:20260113T213000
DTSTAMP:20260420T040558
CREATED:20251130T172737Z
LAST-MODIFIED:20260116T182433Z
UID:16677-1768330800-1768339800@gemeinsam-fuer-stadtwandel.de
SUMMARY:AG Wasser-BUND Essen
DESCRIPTION:Offenes Treffen der AG Wasser immer am 2. Dienstag im Monat. Alle sind herzlich eingeladen teilzunehmen! \n\n\n\nBitte bei Andreas Bolle anmelden unter wasser(at)bund-essen.de. \n\n\n\nOb das Treffen vor Ort bei uns Verkehrs- und Umweltzentrum (Kopstadtplatz 12 an der Rottstraße in der Innenstadt) stattfindet oder digital\, ist bei Andreas zu erfragen. \n\n\n\nhttps://www.bund-essen.de/service/termine/detail/event/ag-wasser-9
URL:https://gemeinsam-fuer-stadtwandel.de/veranstaltung/ag-wasser-bund-essen-18/
CATEGORIES:Initiativentreffen
ATTACH;FMTTYPE=image/png:https://gemeinsam-fuer-stadtwandel.de/wp-content/uploads/2021/08/BUND_LOGO.png
END:VEVENT
BEGIN:VEVENT
DTSTART;TZID=Europe/Berlin:20260114T190000
DTEND;TZID=Europe/Berlin:20260114T210000
DTSTAMP:20260420T040558
CREATED:20251130T170839Z
LAST-MODIFIED:20260116T183049Z
UID:16604-1768417200-1768424400@gemeinsam-fuer-stadtwandel.de
SUMMARY:Netzwerktreffen Gemeinsam für Stadtwandel
DESCRIPTION:Treffpunkt City.Nord\, Viehoferstr 31  \n\n\n\nDas Netzwerk trifft sich jeden 2. Mittwoch im Monat. Wir tauschen uns über wichtige Neuigkeiten und geplante Aktionen aus und planen gemeinsame Projekte\, Strategien und Gespräche. \n\n\n\n\n\n\n\nInteressierte melden sich bitte unter: hallo@gemeinsam-fuer-stadtwandel.de.
URL:https://gemeinsam-fuer-stadtwandel.de/veranstaltung/netzwerktreffen-gemeinsam-fuer-stadtwandel-57/
CATEGORIES:Netzwerktreffen
ATTACH;FMTTYPE=image/png:https://gemeinsam-fuer-stadtwandel.de/wp-content/uploads/2020/12/cropped-Gemeinsam-fuer-Stadtwandel-Logo-Essen-1.png
END:VEVENT
BEGIN:VEVENT
DTSTART;TZID=Europe/Berlin:20260115T170000
DTEND;TZID=Europe/Berlin:20260115T200000
DTSTAMP:20260420T040558
CREATED:20251204T172712Z
LAST-MODIFIED:20251204T172713Z
UID:16854-1768496400-1768507200@gemeinsam-fuer-stadtwandel.de
SUMMARY:1\,5-Grad-Mahnwache Essen
DESCRIPTION:Jeden Donnerstag kommen Menschen aus unterschiedlichen Zusammenhängen vor der RWE-Zentrale in Essen zusammen\, um dem Konzern deutlich zu machen\, dass sein klimazerstörerisches Werk gestoppt werden muss.  Altenessener Straße 35\, 45141 Essen (RWE-Platz 1).
URL:https://gemeinsam-fuer-stadtwandel.de/veranstaltung/15-grad-mahnwache-essen-3/
ATTACH;FMTTYPE=image/png:https://gemeinsam-fuer-stadtwandel.de/wp-content/uploads/2025/12/Bildschirmfoto-2025-12-04-um-18.24.32.png
END:VEVENT
BEGIN:VEVENT
DTSTART;TZID=Europe/Berlin:20260119T190000
DTEND;TZID=Europe/Berlin:20260119T210000
DTSTAMP:20260420T040558
CREATED:20251213T182451Z
LAST-MODIFIED:20260116T183733Z
UID:17051-1768849200-1768856400@gemeinsam-fuer-stadtwandel.de
SUMMARY:Filmabend "A human Scale" 
DESCRIPTION:Filmabend  von Transition Town / Bündnis Grüne Lungen für Essen im Essener Augustinum mit Präsentation zu aktuellen Entwicklungsplänen zur Essener Innenstadt und Diskussion mit Perspektiven zur Essener Stadtentwicklung. \n\n\n\nDokumentation\, Dänemark 2012\, Englisch mit deutschen Untertiteln. Der Film betrachtet in fünf Kapiteln verschiedene Metropolen der Welt\, in denen versucht wird\, Gehls Konzepte umzusetzen\, u.a. New York City\, Dhaka\, Melbourne und Christchurch. Josef Lederle beschrieb den Film im filmdienst als „anregend\, weit ausholend\, skizzenhaft“. \n\n\n\nTheater des Augustinum Essen\, Renteilichtung 8-10\, Eintritt frei
URL:https://gemeinsam-fuer-stadtwandel.de/veranstaltung/filmabend-a-human-scale/
CATEGORIES:Film/TV
ATTACH;FMTTYPE=image/png:https://gemeinsam-fuer-stadtwandel.de/wp-content/uploads/2025/12/Bildschirmfoto-2025-12-13-um-19.23.40.png
END:VEVENT
BEGIN:VEVENT
DTSTART;TZID=Europe/Berlin:20260120T180000
DTEND;TZID=Europe/Berlin:20260120T210000
DTSTAMP:20260420T040558
CREATED:20251227T172606Z
LAST-MODIFIED:20260120T110916Z
UID:17068-1768932000-1768942800@gemeinsam-fuer-stadtwandel.de
SUMMARY:Spaten statt Spalten - IGA-Spirit in Essen
DESCRIPTION:Im November fand das erste Essener Engagierten Kickoff für die IGA Ebene „Mein Garten“ mit rund 40 Engagierten statt. Um miteinander im Gespräch zu bleiben und sich zu vernetzen: Save-the-Date! Das nächste Treffen findet am 20.01.2026 um 18 Uhr statt\, wieder in den Räumlichkeiten der Schule Natur im Grugapark. Bei Interesse meldet euch per Mail an.
URL:https://gemeinsam-fuer-stadtwandel.de/veranstaltung/%f0%9f%8c%bbspaten-statt-spalten-iga-spirit-in-essen/
END:VEVENT
BEGIN:VEVENT
DTSTART;TZID=Europe/Paris:20260120T190000
DTEND;TZID=Europe/Paris:20260120T210000
DTSTAMP:20260420T040558
CREATED:20251204T164937Z
LAST-MODIFIED:20251204T164938Z
UID:16747-1768935600-1768942800@gemeinsam-fuer-stadtwandel.de
SUMMARY:Transition Town - Gesamttreffen
DESCRIPTION:Gesamttreffen von Transition Town – Essen im Wandel findet jeden 3. Dienstag in der VHS am Burgplatz statt. Wir berichten über unsere Aktivitäten und beschäftigen uns auch mit Zukunfts-Ideen. \n\n\n\nFür weitere Informationen oder eine Anmeldung für den Newsletter: https://transitiontown-essen.de.
URL:https://gemeinsam-fuer-stadtwandel.de/veranstaltung/transition-town-gesamttreffen-34/
CATEGORIES:Initiativentreffen
ATTACH;FMTTYPE=image/png:https://gemeinsam-fuer-stadtwandel.de/wp-content/uploads/2021/03/transition-town.png
END:VEVENT
BEGIN:VEVENT
DTSTART;TZID=Europe/Paris:20260120T190000
DTEND;TZID=Europe/Paris:20260120T213000
DTSTAMP:20260420T040558
CREATED:20251130T174649Z
LAST-MODIFIED:20260116T183019Z
UID:16701-1768935600-1768944600@gemeinsam-fuer-stadtwandel.de
SUMMARY:AG Artenschutz-BUND Essen
DESCRIPTION:Die AG trifft sich nunmehr immer am 3. Dienstag im Monat in unseren Räumlichkeiten. \n\n\n\nAlle sind herzlich eingeladen teilzunehmen! \n\n\n\nBitte bei Martin Kaiser unter artenschutz(at)bund-essen.de anmelden. \n\n\n\nIm VUZ\, Kopstadtplatz. \n\n\n\nhttps://www.bund-essen.de/service/termine/detail/event/ag-artenschutz-5
URL:https://gemeinsam-fuer-stadtwandel.de/veranstaltung/ag-artenschutz-bund-essen-18/
CATEGORIES:Initiativentreffen
ATTACH;FMTTYPE=image/png:https://gemeinsam-fuer-stadtwandel.de/wp-content/uploads/2021/08/BUND_LOGO.png
END:VEVENT
BEGIN:VEVENT
DTSTART;TZID=Europe/Berlin:20260120T193000
DTEND;TZID=Europe/Berlin:20260120T213000
DTSTAMP:20260420T040558
CREATED:20251204T170308Z
LAST-MODIFIED:20251204T170309Z
UID:16779-1768937400-1768944600@gemeinsam-fuer-stadtwandel.de
SUMMARY:Bürger gegen Fluglärm - Treffen
DESCRIPTION:Jeden dritten Dienstag im Monat\n\n\n\nArbeits- und Informationstreffen\, Gäste sind herzlich willkommen\n\n\n\nAlter Bahnhof Kettwig\, Ruhrtalstr. 345\, 45219 Essen\n\n\n\n\nMail: sk-paff@t-online.de\, Georg.Regniet@bgf-ev.de \n\n\n\nInfos: www.bgf-ev.de \n\n\n\n     IInformationen dazu sh. Homepage unter Kalender
URL:https://gemeinsam-fuer-stadtwandel.de/veranstaltung/buerger-gegen-fluglaerm-treffen/
ATTACH;FMTTYPE=image/png:https://gemeinsam-fuer-stadtwandel.de/wp-content/uploads/2020/12/Bürger-gegen-Fluglärm.png
END:VEVENT
BEGIN:VEVENT
DTSTART;TZID=Europe/Berlin:20260122T170000
DTEND;TZID=Europe/Berlin:20260122T200000
DTSTAMP:20260420T040558
CREATED:20251204T172734Z
LAST-MODIFIED:20251204T172735Z
UID:16859-1769101200-1769112000@gemeinsam-fuer-stadtwandel.de
SUMMARY:1\,5-Grad-Mahnwache Essen
DESCRIPTION:Jeden Donnerstag kommen Menschen aus unterschiedlichen Zusammenhängen vor der RWE-Zentrale in Essen zusammen\, um dem Konzern deutlich zu machen\, dass sein klimazerstörerisches Werk gestoppt werden muss.  Altenessener Straße 35\, 45141 Essen (RWE-Platz 1).
URL:https://gemeinsam-fuer-stadtwandel.de/veranstaltung/15-grad-mahnwache-essen-4/
ATTACH;FMTTYPE=image/png:https://gemeinsam-fuer-stadtwandel.de/wp-content/uploads/2025/12/Bildschirmfoto-2025-12-04-um-18.24.32.png
END:VEVENT
BEGIN:VEVENT
DTSTART;TZID=Europe/Berlin:20260122T190000
DTEND;TZID=Europe/Berlin:20260122T210000
DTSTAMP:20260420T040558
CREATED:20250627T093228Z
LAST-MODIFIED:20260116T183019Z
UID:14940-1769108400-1769115600@gemeinsam-fuer-stadtwandel.de
SUMMARY:„Und es geht doch ... Agrarwende Jetzt!" Filmabend mit anschließendem Gespräch
DESCRIPTION:Der Dokumentarfilm „Und es geht doch … Agrarwende Jetzt!“ begleitet Menschen\, die seit über 35 Jahren konsequent und nachhaltig wirtschaften – gegen Widerstände\, aber mit beeindruckender Ausdauer. \n\n\n\n„Und es geht doch …“ macht Mut: Er zeigt\, dass eine zukunftsfähige Landwirtschaft möglich ist – im Einklang mit Mensch\, Tier und Natur. \n\n\n\nhttp://www.vhs-essen.de/kurssuche/kurs/Transition-Town-Essen-Filmabend-mit-Gespraech-Und-es-geht-doch/252.1A056N \n\n\n\n \n\n\n\nKursnr.252.1A056NBeginnDo.\, 22.01.2026\, 19:00 – 21:00 Uhr Dauer1 TerminKursortVHS\, Raum E.11 (Kleiner Saal) Entgelt0\,00 €
URL:https://gemeinsam-fuer-stadtwandel.de/veranstaltung/und-es-geht-doch-agrarwende-jetzt-filmabend-mit-anschliessendem-gespraech/
ATTACH;FMTTYPE=image/png:https://gemeinsam-fuer-stadtwandel.de/wp-content/uploads/2022/07/transition-town.png
END:VEVENT
BEGIN:VEVENT
DTSTART;TZID=Europe/Paris:20260126T193000
DTEND;TZID=Europe/Paris:20260126T213000
DTSTAMP:20260420T040558
CREATED:20251130T171832Z
LAST-MODIFIED:20251130T171845Z
UID:16630-1769455800-1769463000@gemeinsam-fuer-stadtwandel.de
SUMMARY:GfS Werden - Arbeitstreffen von "klimagerecht-mobil-Werden" 
DESCRIPTION:Die Arbeitstreffen von klimagerecht-mobil-Werden (eine Arbeitsgruppe von Gemeinsam für Stadtwandel Werden) finden jeden 2. und 4. Montag im Monat in Haus Wunderbar um 19:30 bis ca. 21:30 statt. \n\n\n\nWir erarbeiten Vorschläge um unseren Stadtteil klimafreundlicher und -gerechter zu machen und stellen diese dann in Veranstaltungen den MitbürgerInnen und zuständigen PolitikerInnen zur Diskussion vor. \n\n\n\n\n\nFragen an Martina Schmitz: stadtwandel.werden@gmail.com \n\n\n\nhttps://klimagerecht-mobil-werden.de
URL:https://gemeinsam-fuer-stadtwandel.de/veranstaltung/gfs-werden-arbeitstreffen-von-klimagerecht-mobil-werden-31/
LOCATION:Haus Wunderbar\, Rittergasse 25\, Essen\, NRW\, 45239\, Deutschland
ATTACH;FMTTYPE=image/png:https://gemeinsam-fuer-stadtwandel.de/wp-content/uploads/2024/06/Gemeinsam-fuer-Stadtwandel-Logo-Werden-480x289-1.png
END:VEVENT
BEGIN:VEVENT
DTSTART;TZID=Europe/Berlin:20260127T180000
DTEND;TZID=Europe/Berlin:20260127T200000
DTSTAMP:20260420T040559
CREATED:20260127T134320Z
LAST-MODIFIED:20260127T134321Z
UID:17093-1769536800-1769544000@gemeinsam-fuer-stadtwandel.de
SUMMARY:Bürgerdialog mit Oberbürgermeister Thomas Kufen in Frohnhausen
DESCRIPTION:Am Dienstag\, 27. Januar\, lädt Oberbürgermeister Thomas Kufen zum Bürgerdialog nach Essen-Frohnhausen ein. Von 18 bis 20 Uhr haben Bürger*innen im Pfarrsaal der Pfarrei St. Antonius (Kölner Straße 37) die Möglichkeit\, mit ihm ins Gespräch zu kommen. \n\n\n\nWeitere Informationen zu „“Essen ist gefragt!“: Bürgerdialog mit Oberbürgermeister Thomas Kufen in Frohnhausen“
URL:https://gemeinsam-fuer-stadtwandel.de/veranstaltung/buergerdialog-mit-oberbuergermeister-thomas-kufen-in-frohnhausen/
ATTACH;FMTTYPE=image/png:https://gemeinsam-fuer-stadtwandel.de/wp-content/uploads/2023/10/Stadt-Essen-Logo.svg_.png
END:VEVENT
BEGIN:VEVENT
DTSTART;TZID=Europe/Berlin:20260128T180000
DTEND;TZID=Europe/Berlin:20260128T210000
DTSTAMP:20260420T040559
CREATED:20260123T100441Z
LAST-MODIFIED:20260123T100442Z
UID:17084-1769623200-1769634000@gemeinsam-fuer-stadtwandel.de
SUMMARY:Essener Friedensforum lädt Interessierte zum Stammtisch
DESCRIPTION:Das Essener Friedensforum trifft sich einmal im Monat\, um sich über aktuelle Themen rund um Friedenslösungen auszutauschen und Projekte zu planen. \n\n\n\nCafeteria der  VHS\, Burgplatz.
URL:https://gemeinsam-fuer-stadtwandel.de/veranstaltung/essener-friedensforum-laedt-interessierte-zum-stammtisch-2/
ATTACH;FMTTYPE=image/png:https://gemeinsam-fuer-stadtwandel.de/wp-content/uploads/2022/07/Friedensforum-Essen-Logo.png
END:VEVENT
BEGIN:VEVENT
DTSTART;TZID=Europe/Berlin:20260129T113000
DTEND;TZID=Europe/Berlin:20260129T121500
DTSTAMP:20260420T040559
CREATED:20260127T134553Z
LAST-MODIFIED:20260127T134554Z
UID:17095-1769686200-1769688900@gemeinsam-fuer-stadtwandel.de
SUMMARY:Online-Veranstaltungen „climate business lunch“ für Unternehmen
DESCRIPTION:Diesmal geht es um das Thema: „Effiziente Gebäude – so starten Unternehmen mit Energieberatung und Förderungen“. \n\n\n\n Die Teilnahme ist kostenfrei. \n\n\n\nWeitere Informationen und eine Anmeldungsmöglichkeit gibt es auf der Seite des Essener KlimaTreff .
URL:https://gemeinsam-fuer-stadtwandel.de/veranstaltung/online-veranstaltungen-climate-business-lunch-fuer-unternehmen/
ATTACH;FMTTYPE=image/png:https://gemeinsam-fuer-stadtwandel.de/wp-content/uploads/2023/10/Stadt-Essen-Logo.svg_.png
END:VEVENT
BEGIN:VEVENT
DTSTART;TZID=Europe/Berlin:20260129T170000
DTEND;TZID=Europe/Berlin:20260129T200000
DTSTAMP:20260420T040559
CREATED:20251204T172749Z
LAST-MODIFIED:20251204T172750Z
UID:16858-1769706000-1769716800@gemeinsam-fuer-stadtwandel.de
SUMMARY:1\,5-Grad-Mahnwache Essen
DESCRIPTION:Jeden Donnerstag kommen Menschen aus unterschiedlichen Zusammenhängen vor der RWE-Zentrale in Essen zusammen\, um dem Konzern deutlich zu machen\, dass sein klimazerstörerisches Werk gestoppt werden muss.  Altenessener Straße 35\, 45141 Essen (RWE-Platz 1).
URL:https://gemeinsam-fuer-stadtwandel.de/veranstaltung/15-grad-mahnwache-essen-5/
ATTACH;FMTTYPE=image/png:https://gemeinsam-fuer-stadtwandel.de/wp-content/uploads/2025/12/Bildschirmfoto-2025-12-04-um-18.24.32.png
END:VEVENT
END:VCALENDAR