BEGIN:VCALENDAR
VERSION:2.0
PRODID:-//Gemeinsam für Stadtwandel - ECPv6.15.20//NONSGML v1.0//EN
CALSCALE:GREGORIAN
METHOD:PUBLISH
X-WR-CALNAME:Gemeinsam für Stadtwandel
X-ORIGINAL-URL:https://gemeinsam-fuer-stadtwandel.de
X-WR-CALDESC:Veranstaltungen für Gemeinsam für Stadtwandel
REFRESH-INTERVAL;VALUE=DURATION:PT1H
X-Robots-Tag:noindex
X-PUBLISHED-TTL:PT1H
BEGIN:VTIMEZONE
TZID:Europe/Berlin
BEGIN:DAYLIGHT
TZOFFSETFROM:+0100
TZOFFSETTO:+0200
TZNAME:CEST
DTSTART:20240331T010000
END:DAYLIGHT
BEGIN:STANDARD
TZOFFSETFROM:+0200
TZOFFSETTO:+0100
TZNAME:CET
DTSTART:20241027T010000
END:STANDARD
BEGIN:DAYLIGHT
TZOFFSETFROM:+0100
TZOFFSETTO:+0200
TZNAME:CEST
DTSTART:20250330T010000
END:DAYLIGHT
BEGIN:STANDARD
TZOFFSETFROM:+0200
TZOFFSETTO:+0100
TZNAME:CET
DTSTART:20251026T010000
END:STANDARD
BEGIN:DAYLIGHT
TZOFFSETFROM:+0100
TZOFFSETTO:+0200
TZNAME:CEST
DTSTART:20260329T010000
END:DAYLIGHT
BEGIN:STANDARD
TZOFFSETFROM:+0200
TZOFFSETTO:+0100
TZNAME:CET
DTSTART:20261025T010000
END:STANDARD
END:VTIMEZONE
BEGIN:VTIMEZONE
TZID:Europe/Paris
BEGIN:DAYLIGHT
TZOFFSETFROM:+0100
TZOFFSETTO:+0200
TZNAME:CEST
DTSTART:20240331T010000
END:DAYLIGHT
BEGIN:STANDARD
TZOFFSETFROM:+0200
TZOFFSETTO:+0100
TZNAME:CET
DTSTART:20241027T010000
END:STANDARD
BEGIN:DAYLIGHT
TZOFFSETFROM:+0100
TZOFFSETTO:+0200
TZNAME:CEST
DTSTART:20250330T010000
END:DAYLIGHT
BEGIN:STANDARD
TZOFFSETFROM:+0200
TZOFFSETTO:+0100
TZNAME:CET
DTSTART:20251026T010000
END:STANDARD
BEGIN:DAYLIGHT
TZOFFSETFROM:+0100
TZOFFSETTO:+0200
TZNAME:CEST
DTSTART:20260329T010000
END:DAYLIGHT
BEGIN:STANDARD
TZOFFSETFROM:+0200
TZOFFSETTO:+0100
TZNAME:CET
DTSTART:20261025T010000
END:STANDARD
END:VTIMEZONE
BEGIN:VEVENT
DTSTART;TZID=Europe/Berlin:20251101T000000
DTEND;TZID=Europe/Berlin:20251101T235959
DTSTAMP:20260420T055608
CREATED:20251015T065624Z
LAST-MODIFIED:20251015T065625Z
UID:16354-1761955200-1762041599@gemeinsam-fuer-stadtwandel.de
SUMMARY:FROSTPENDELN - mit dem rad durch den Winter!
DESCRIPTION:Von 01. November 2025 bis 28. Februar 2026 sammeln wir Kilometer und schaffen gemeinsam mehr Aufmerksamkeit dafür\, dass Fahrräder sich auch im Winter als Pendelfahrzeuge eignen. Auch in diesem Jahr fahren unsere Fahrradinitiativen wieder unter dem Dach von VeloCityRuhr beim diesjährigen Frostpendeln mit. Ziel der Aktion ist es\, möglichst viele Pendler trotz Regen und Kälte (Eis und Schnee sind ja eher selten geworden) aufs Fahrrad zu bringen bzw die Fahrradsaison in den Herbst/Winter hinein zu verlängern. Wenn auch DU mitradeln magst\, das Team ist dasselbe wie letztes Jahr\, alle vom letzten mal sind auch schon drin\, wenn du neu bist komm einfach dazu. Wir sehen uns auf dem Rad! \n\n\n\nweitere Infos:  https://frostpendeln.de/velocityruhr/
URL:https://gemeinsam-fuer-stadtwandel.de/veranstaltung/frostpendeln-mit-dem-rad-durch-den-winter/
ATTACH;FMTTYPE=image/png:https://gemeinsam-fuer-stadtwandel.de/wp-content/uploads/2025/10/Bildschirmfoto-2025-10-15-um-08.47.48.png
END:VEVENT
BEGIN:VEVENT
DTSTART;TZID=Europe/Berlin:20251101T190000
DTEND;TZID=Europe/Berlin:20251101T210000
DTSTAMP:20260420T055609
CREATED:20251021T104446Z
LAST-MODIFIED:20251021T104447Z
UID:16387-1762023600-1762030800@gemeinsam-fuer-stadtwandel.de
SUMMARY:RadEntscheid-Fahrradkino
DESCRIPTION:Kurzfilm-Abend / 10 Filme. Kostenlos.
URL:https://gemeinsam-fuer-stadtwandel.de/veranstaltung/radentscheid-fahrradkino/
ATTACH;FMTTYPE=image/jpeg:https://gemeinsam-fuer-stadtwandel.de/wp-content/uploads/2022/07/RadEntscheid-Essen-Logo.jpg
END:VEVENT
BEGIN:VEVENT
DTSTART;TZID=Europe/Berlin:20251102T000000
DTEND;TZID=Europe/Berlin:20251106T235959
DTSTAMP:20260420T055609
CREATED:20251018T144207Z
LAST-MODIFIED:20251018T144208Z
UID:16365-1762041600-1762473599@gemeinsam-fuer-stadtwandel.de
SUMMARY:Woche der Modernisierungskultur
DESCRIPTION:Der KlimaTreff der Stadt Essen lädt in der Zeit vom 2. November 2025 bis zum 6. November 2025 zu einer Woche der Modernisierungskultur ein. \n\n\n\nVeranstaltet vom KlimaTreff der Stadt Essen in Kooperation mit der Stadtbibliothek Essen\, der Essener Volkshochschule\, der Verbraucherzentrale NRW und dem Labor 519 e.V. \n\n\n\nDie Teilnahme an allen Veranstaltungen ist kostenfrei. \n\n\n\nAlle Informationen finden Sie unter www.essen.de/modernisierungskultur. \n\n\n\nZur Website des Essener KlimaTreffs www.essen.de/klimatreff
URL:https://gemeinsam-fuer-stadtwandel.de/veranstaltung/woche-der-modernisierungskultur/
ATTACH;FMTTYPE=image/png:https://gemeinsam-fuer-stadtwandel.de/wp-content/uploads/2022/05/LOGO-GHA.png
END:VEVENT
BEGIN:VEVENT
DTSTART;TZID=Europe/Berlin:20251104T180000
DTEND;TZID=Europe/Berlin:20251104T193000
DTSTAMP:20260420T055609
CREATED:20251102T145945Z
LAST-MODIFIED:20251102T145946Z
UID:16497-1762279200-1762284600@gemeinsam-fuer-stadtwandel.de
SUMMARY:Live-Webinar: Klima und Gesundheit - gesundheitskompetent handeln für eine lebenswerte Zukunft
DESCRIPTION: Keine Online-Anmeldung. \n\n\n\nIn der Webinar-Reihe „Klima und Wir“ beleuchtet Dr. Julian Weilbacher\, Arzt für Psychosomatik und Psychotherapie sowie aktives Mitglied der Initiative Health for Future\, die vielschichtigen Auswirkungen der Klimakrise auf unsere körperliche und psychische Gesundheit.  \n\n\n\nEine Anmeldung zu diesem Webinar ist nicht erforderlich. Nehmen Sie am 4. November ab 18 Uhr direkt über diesen Link teil:  \n\n\n\nWebinar
URL:https://gemeinsam-fuer-stadtwandel.de/veranstaltung/live-webinar-klima-und-gesundheit-gesundheitskompetent-handeln-fuer-eine-lebenswerte-zukunft/
ATTACH;FMTTYPE=image/png:https://gemeinsam-fuer-stadtwandel.de/wp-content/uploads/2025/11/VHS_nachhaltig.png
END:VEVENT
BEGIN:VEVENT
DTSTART;TZID=Europe/Berlin:20251104T190000
DTEND;TZID=Europe/Berlin:20251104T210000
DTSTAMP:20260420T055609
CREATED:20251021T110317Z
LAST-MODIFIED:20251021T110318Z
UID:16396-1762282800-1762290000@gemeinsam-fuer-stadtwandel.de
SUMMARY:Bürgerforum Rüttenscheid Thema: Superblocks
DESCRIPTION:Gemeindesaal der Reformationskirche in der Julienstraße 39.
URL:https://gemeinsam-fuer-stadtwandel.de/veranstaltung/buergerforum-ruettenscheid-thema-superblocks/
ATTACH;FMTTYPE=image/jpeg:https://gemeinsam-fuer-stadtwandel.de/wp-content/uploads/2025/02/logo_buergerforum.jpg
END:VEVENT
BEGIN:VEVENT
DTSTART;TZID=Europe/Berlin:20251106T190000
DTEND;TZID=Europe/Berlin:20251106T220000
DTSTAMP:20260420T055609
CREATED:20250321T162756Z
LAST-MODIFIED:20250721T101129Z
UID:14679-1762455600-1762466400@gemeinsam-fuer-stadtwandel.de
SUMMARY:Offenes Monatstreffen RadEntscheid
DESCRIPTION:Bei unserer Jahresklausur kürzlich im münsterländischen Darup wurde entschieden\, die Struktur der Treffen des Radentscheides zu verändern. Die AG-Struktur wird weitgehend eingestellt. Ab April trifft sich der RadEntscheid stattdessen zu einem offenen monatlichen Treffen im Verkehrs- und Umweltzentrum\, jeweils am ersten Donnerstag im Monat. Du hast Lust und Zeit Dich für besseren Radverkehr in Essen zu engagieren\, dann bist Du herzlich eingeladen dabei zu sein im Verkehrs- und Umweltzentrum in der Rottstraße.
URL:https://gemeinsam-fuer-stadtwandel.de/veranstaltung/offenes-monatstreffen-radentscheid-8/
ATTACH;FMTTYPE=image/jpeg:https://gemeinsam-fuer-stadtwandel.de/wp-content/uploads/2022/07/RadEntscheid-Essen-Logo.jpg
END:VEVENT
BEGIN:VEVENT
DTSTART;TZID=Europe/Berlin:20251108T190000
DTEND;TZID=Europe/Berlin:20251108T210000
DTSTAMP:20260420T055609
CREATED:20251024T100018Z
LAST-MODIFIED:20251024T100019Z
UID:16440-1762628400-1762635600@gemeinsam-fuer-stadtwandel.de
SUMMARY:Jubiläumskonzert. Stimmen  gegen rechts.
DESCRIPTION:Ev. Friedenskirche / Essen-Steele. Kaiser-Wilhelm-Str. 37 / 45276 Essen. \n\n\n\nEintritt Frei
URL:https://gemeinsam-fuer-stadtwandel.de/veranstaltung/jubilaeumskonzert-stimmen-gegen-rechts/
END:VEVENT
BEGIN:VEVENT
DTSTART;TZID=Europe/Berlin:20251112T183000
DTEND;TZID=Europe/Berlin:20251112T210000
DTSTAMP:20260420T055609
CREATED:20251028T091710Z
LAST-MODIFIED:20251028T092116Z
UID:16471-1762972200-1762981200@gemeinsam-fuer-stadtwandel.de
SUMMARY:Plenum 
DESCRIPTION:Unser Plenum findet im VUZ (Eingang Rottstraße 5) statt. Hier werden – anders als in den Arbeitsgruppensitzungen – die Themen querbeet vorstellt und diskutiert\, neue Themen andenken\, neue Mitglieder einbinden. \n\n\n\nhttps://www.bund-essen.de/newsletter-essen/newsletter-2025-oktober-1/?mid=2441&rid=t_112870&aC=261b43d324fdd39709e17dfa67279da6169cc038&jumpurl=3
URL:https://gemeinsam-fuer-stadtwandel.de/veranstaltung/plenum/
ATTACH;FMTTYPE=image/png:https://gemeinsam-fuer-stadtwandel.de/wp-content/uploads/2021/08/BUND_LOGO.png
END:VEVENT
BEGIN:VEVENT
DTSTART;TZID=Europe/Berlin:20251112T190000
DTEND;TZID=Europe/Berlin:20251112T210000
DTSTAMP:20260420T055609
CREATED:20250606T203740Z
LAST-MODIFIED:20250606T203741Z
UID:14883-1762974000-1762981200@gemeinsam-fuer-stadtwandel.de
SUMMARY:Netzwerktreffen Gemeinsam für Stadtwandel
DESCRIPTION:Treffpunkt City.Nord\, Viehoferstr 31  \n\n\n\nDas Netzwerk trifft sich jeden 2. Mittwoch im Monat. Wir tauschen uns über wichtige Neuigkeiten und geplante Aktionen aus und planen gemeinsame Projekte\, Strategien und Gespräche. \n\n\n\n\n\n\n\nInteressierte melden sich bitte unter: hallo@gemeinsam-fuer-stadtwandel.de.
URL:https://gemeinsam-fuer-stadtwandel.de/veranstaltung/netzwerktreffen-gemeinsam-fuer-stadtwandel-55/
CATEGORIES:Netzwerktreffen
ATTACH;FMTTYPE=image/png:https://gemeinsam-fuer-stadtwandel.de/wp-content/uploads/2020/12/cropped-Gemeinsam-fuer-Stadtwandel-Logo-Essen-1.png
END:VEVENT
BEGIN:VEVENT
DTSTART;TZID=Europe/Berlin:20251114T190000
DTEND;TZID=Europe/Berlin:20251114T210000
DTSTAMP:20260420T055609
CREATED:20251021T105321Z
LAST-MODIFIED:20251021T105548Z
UID:16392-1763146800-1763154000@gemeinsam-fuer-stadtwandel.de
SUMMARY:Critical Mass Essen - Ohne Veranstalter durchgeführte Radfahrten kreuz und quer durch Essen
DESCRIPTION:Ohne Veranstalter durchgeführte Radfahrten kreuz und quer durch Essen. Der Verlauf der Strecke ist nicht vorgegeben sondern kann von der vordersten Fahrerreihe frei bestimmt werden. Wer über einen Streckenabschnitt die Route vorgeben möchte setzt sich einfach an die Spitze. Dauer etwa zwei Stunden.Treffpunkt: Willy-Brandt-Platz
URL:https://gemeinsam-fuer-stadtwandel.de/veranstaltung/critical-mass-essen-ohne-veranstalter-durchgefuehrte-radfahrten-kreuz-und-quer-durch-essen-3/
ATTACH;FMTTYPE=image/jpeg:https://gemeinsam-fuer-stadtwandel.de/wp-content/uploads/2025/02/logo_Critical_Mass_Essen.jpg
END:VEVENT
BEGIN:VEVENT
DTSTART;TZID=Europe/Berlin:20251115T120000
DTEND;TZID=Europe/Berlin:20251115T140000
DTSTAMP:20260420T055609
CREATED:20251102T151205Z
LAST-MODIFIED:20251102T151207Z
UID:16502-1763208000-1763215200@gemeinsam-fuer-stadtwandel.de
SUMMARY:Aktion zum Umweltkampftag
DESCRIPTION:Dieser Umweltkampftag findet jährlich weltweit statt anlässlich der Weltklimakonferenzen (COP). \n\n\n\nWir rufen auf: UmweltkämpferInnen\, FriedensfreundInnen\, AntifaschistInnen\, GewerkschafterInnen\, Aktive in der Palästinasolidarität\, Kolleginnen und Kollegen aller Nationalitäten – gemeinsam sind wir stark! Die Aktion zum Umweltkampftag findet Am Zwölfling/Ecke Kettwiger Straße in der Essener Innenstadt statt.
URL:https://gemeinsam-fuer-stadtwandel.de/veranstaltung/aktion-zum-umweltkampftag/
ATTACH;FMTTYPE=image/png:https://gemeinsam-fuer-stadtwandel.de/wp-content/uploads/2021/08/Umweltgewerkschaft_Logo.png
END:VEVENT
BEGIN:VEVENT
DTSTART;TZID=Europe/Berlin:20251115T133000
DTEND;TZID=Europe/Berlin:20251115T170000
DTSTAMP:20260420T055609
CREATED:20251028T092300Z
LAST-MODIFIED:20251028T092301Z
UID:16475-1763213400-1763226000@gemeinsam-fuer-stadtwandel.de
SUMMARY:Nistkastenaktion auf dem Terrassenfriedhof
DESCRIPTION:Am Samstag 15.11.2025\, 13.30 Uhr beschließt die AG Artenschutz die Saison mit der Inspektion unserer über 50 Nistkästen auf dem Terrassenfriedhof. Wir besprechen Organisation\, Dokumentation\, etc. \n\n\n\nBitte Handschuhe\, festes Schuhwerk\, Fahrradhelm\, Tasse und Kuchenteller mitbringen.Wir fragen unseren Falkner-Meister Martin Hagemann wieder an\, ob er dabei ist und uns fachlich unterstützt. \n\n\n\nTreffpunkt: Lager Terrassenfriedhof (Alter Haupteingang an der Heissener Straße) \n\n\n\nBitte hier eintragen\, wer dabei sein will: https://nuudel.digitalcourage.de/2DXSkodXqnyJ9OIL \n\n\n\nBei Fragen bitte an martin.kaiser(at)bund-essen.de wenden. 
URL:https://gemeinsam-fuer-stadtwandel.de/veranstaltung/nistkastenaktion-auf-dem-terrassenfriedhof/
ATTACH;FMTTYPE=image/png:https://gemeinsam-fuer-stadtwandel.de/wp-content/uploads/2021/08/BUND_LOGO.png
END:VEVENT
BEGIN:VEVENT
DTSTART;TZID=Europe/Berlin:20251118T000000
DTEND;TZID=Europe/Berlin:20251123T235959
DTSTAMP:20260420T055609
CREATED:20251117T124602Z
LAST-MODIFIED:20251117T124906Z
UID:16559-1763424000-1763942399@gemeinsam-fuer-stadtwandel.de
SUMMARY:Erste ökumenische Tattoo Aktionswoche Deutschlands (am 18.\, 22. und 23.11.25)
DESCRIPTION:GOTT HAUTNAH eine Aktion der Zukunftswerkstadt Essen gemeinsam mit der Marktkirche Essen und der Cityseelsorge am Essener Dom. \n\n\n\nDie Aktionswoche startet mit dem SinnSucherSalon am Dienstag\, den 18. November. Unter dem Motto Kunst\, die mich berührt\, erzählen Künstlerin und Tattoo Artistin Yvonne Karbach\, Inhaberin von Cocoon Tattoo Studio Essen\, und Peter Gorschlüter\, als Direktor vom Museum Folkwang\, von ihren Erfahrungen mit dem Thema Tattoos als Kunstform.  \n\n\n\nDie Abendveranstaltung beginnt um 19 Uhr im Church Restaurant in der Innenstadt.  \n\n\n\nAm Samstag\, den 22. November\, findet dann der Tattoo Aktionstag in der Essener Marktkirche statt. Von 11 Uhr bis 20 Uhr können sich Menschen ein christliches Motiv kostenlos stechen lassen.  \n\n\n\nAm Sonntag\, den 23. November\, findet im Essener Dom um 19 Uhr eine Messe zum Thema Tattoos und Glaube statt. Und um 20.30 Uhr folgt dann im Astra Kino unter dem Motto Kirche geht Kino der Film Der Man\, der seine Haut verkaufte. \n\n\n\n[17.11.25\, 13:24:53] Christiane Gregor: GOTT HAUTNAH eine Aktion der Zukunftswerkstadt Essen gemeinsam mit den beiden Kichen \n\n\n\nDie evangelische und die katholische Kirche schenken dir dein Glaubenstattoo \n\n\n\nWir stechen kostenlos christliche Tattoo´s in der Essener Marktkirche und veranstalten die erste ökumenische Tattoo Aktionswoche Deutschlands. \n\n\n\nIn der Woche vom 18. November bis zum 23. November findet in der Essener Innenstadt die erste ökumenische Tattoo Aktionswoche Deutschlands statt. Veranstaltet wird die Aktionswoche von der Marktkirche Essen\, der Cityseelsorge am Essener Dom und der Zukunftswerkstadt Essen. \n\n\n\nDie Idee für die Veranstaltungswoche wurde von Dirk Bußler\, dem Vorsitzenden des Vereins Zukunftswerkstadt Essen\, an die beiden Cityseelsorger Jan Vicari und Bernd Wolharn herangetragen. Nachdem sich die beiden mit dem für sie zunächst ungewöhnlichen Thema beschäftigt haben\, wurde schnell klar\, dass Tattoos kein neues Thema für Christen*innen in den beiden Kirchen ist. \n\n\n\nDie ursprünglichen Pilgerstempel oder die frühchristliche Erkennungszeichen in ein modernes Format zu bringen\, ohne das Tattoo zum modischen Accessoires werden zu lassen\, stellte jedoch für die beiden Geistlichen eine echte Herausforderung dar. Mit Yvonne Karbach (Coccon Tattoo Studio Essen) konnte eine Tattoo Artistin gewonnen werden\, die auf hohem Niveau kirchliche Motive unter die Haut bringt. Dabei wird sie begleitet von dem Stuttgarter Kalligraphen Silas Becks ( Mommy I’m Sorry Tattoostudio)\, der sich auf christliche Sinnsprüche spezialisiert hat und dabei Ästhetik und Spiritualität verbindet. Beide Tätowierer eint der Glauben an Gott. Neben dem künstlerischen Anspruch bieten die beiden einen christlichen Zugang zum Thema Glauben geht unter die Haut. An diesem Tag besteht auch die Möglichkeit\, sich sein Tattoo segnen zu lassen. \n\n\n\nSinnSucherSalon 18. November im Restaurant Church \n\n\n\nDie Aktionswoche startet mit dem SinnSucherSalon am Dienstag\, den 18. November. Unter dem Motto Kunst\, die mich berührt\, erzählen Künstlerin und Tattoo Artistin Yvonne Karbach\, Inhaberin von Cocoon Tattoo Studio Essen\, und Peter Gorschlüter\, als Direktor vom Museum Folkwang\, von ihren Erfahrungen mit dem Thema Tattoos als Kunstform. Die Abendveranstaltung beginnt um 19 Uhr im Church Restaurant in der Innenstadt. Die Gäste können sich bei gutem Essen und netten Gesprächen über Tattoos im kirchlichen und künstlerischen Kontext ausgiebig informieren. \n\n\n\nTattoos in der Kirche am Samstag\, den 22. November\, in der Marktkirche in der Essener City \n\n\n\nAm Samstag\, den 22. November\, findet dann der Tattoo Aktionstag in der Essener Marktkirche statt. Von 11 Uhr bis 20 Uhr können sich Menschen ein christliches Motiv kostenlos stechen lassen. Aus verschiedenen Motiven können sich Tattoo begeisterte ihr Lieblingsmotiv bei der Essener Tattookünstlerin Yvonne Karbach aussuchen. Wer lieber einen christlichen Sinnspruch haben möchte\, wird bei dem Stuttgarter Kalligraphen Silas Becks fündig. Einzige Voraussetzung ist\, dass man 18. Jahre alt sein muss. Es es möglich\, spontan vorbei zu kommen\, um einen der begrenzten Plätze zu bekommen. Oder man bewirbt sich online um einen festen Termin. Dazu ist es notwendig\, die Homepage www.Gotthautnah.de zu besuchen und zu schreiben\, warum es einem wichtig ist\, seinen Glauben in einem Tattoo auszudrücken. Unter allen Menschen\, die das Onlineformular ausfüllen\, werden dann die festen Termine ausgelost. \n\n\n\nGottesdienst zum Thema Tattoos\, christlicher Glaube und Kirche geht Kino am Sonntag den 23. November im Essener Dom und im Astra Kino \n\n\n\nAm Sonntag\, den 23. November\, findet im Essener Dom um 19 Uhr eine Messe zum Thema Tattoos und Glaube statt. Und um 20.30 Uhr folgt dann im Astra Kino unter dem Motto Kirche geht Kino der Film Der Man\, der seine Haut verkaufte. \n\n\n\nWir würden uns sehr über eine Vorab Berichterstattung freuen sowie über eine begleitende bzw. Nachberichtserstattung. \n\n\n\nBei weiteren Fragen:  Dirk.Bussler@gmail.com
URL:https://gemeinsam-fuer-stadtwandel.de/veranstaltung/erste-oekumenische-tattoo-aktionswoche-deutschlands-am-18-22-und-23-11-25/
ATTACH;FMTTYPE=image/jpeg:https://gemeinsam-fuer-stadtwandel.de/wp-content/uploads/2025/11/zukunftswerkstatt_logo.jpg
END:VEVENT
BEGIN:VEVENT
DTSTART;TZID=Europe/Paris:20251118T190000
DTEND;TZID=Europe/Paris:20251118T210000
DTSTAMP:20260420T055609
CREATED:20250701T125523Z
LAST-MODIFIED:20250701T125524Z
UID:15016-1763492400-1763499600@gemeinsam-fuer-stadtwandel.de
SUMMARY:Transition Town - Gesamttreffen
DESCRIPTION:Gesamttreffen von Transition Town – Essen im Wandel findet jeden 3. Dienstag in der VHS am Burgplatz statt. Wir berichten über unsere Aktivitäten und beschäftigen uns auch mit Zukunfts-Ideen. \n\n\n\nFür weitere Informationen oder eine Anmeldung für den Newsletter: https://transitiontown-essen.de.
URL:https://gemeinsam-fuer-stadtwandel.de/veranstaltung/transition-town-gesamttreffen-32/
LOCATION:Burgplatz 1\, VHS\, Burgplatz 1\, Essen
CATEGORIES:Initiativentreffen
ATTACH;FMTTYPE=image/png:https://gemeinsam-fuer-stadtwandel.de/wp-content/uploads/2021/03/transition-town.png
END:VEVENT
BEGIN:VEVENT
DTSTART;TZID=Europe/Berlin:20251119T190000
DTEND;TZID=Europe/Berlin:20251119T210000
DTSTAMP:20260420T055609
CREATED:20251117T121655Z
LAST-MODIFIED:20251117T121822Z
UID:16557-1763578800-1763586000@gemeinsam-fuer-stadtwandel.de
SUMMARY:‚Die UNO als Rahmen für den Aufbau einer Weltfriedensordnung‘ - Vortrag
DESCRIPTION:Michael von der Schulenburg bringt er seine Erfahrungen ein und beleuchtet  die Eskalation der internationalen Spannungen und  diplomatische Auswege . Michael von der Schulenburg hat Erfahrung als Diplomat u.a. in führenden Funktionen in der UNO sowie in der OSZE\, aktuell ist er MdEP im EU-Parlament – für BSW. \n\n\n\nIm großen Saal der VHS  \n\n\n\nhttps://essener-friedensforum.de/wp-content/uploads/2025/11/252-EFF-M.v.d.-Schuenburg_korr-ngo.pdf
URL:https://gemeinsam-fuer-stadtwandel.de/veranstaltung/die-uno-als-rahmen-fuer-den-aufbau-einer-weltfriedensordnung-vortrag/
ATTACH;FMTTYPE=image/png:https://gemeinsam-fuer-stadtwandel.de/wp-content/uploads/2022/07/Friedensforum-Essen-Logo.png
END:VEVENT
BEGIN:VEVENT
DTSTART;TZID=Europe/Berlin:20251120T190000
DTEND;TZID=Europe/Berlin:20251120T210000
DTSTAMP:20260420T055609
CREATED:20250923T104538Z
LAST-MODIFIED:20250923T104539Z
UID:15751-1763665200-1763672400@gemeinsam-fuer-stadtwandel.de
SUMMARY:Frieden säen: Die Rolle von Friedensgärten im gesellschaftlichen Wandel 
DESCRIPTION:„Ökologische und soziale Herausforderungen sind eng miteinander verknüpft. Friedensgärten sind Begegnungsorte\, an denen Dialog und Zusammenarbeit gedeihen können. Sie dienen nicht nur als Raum für interkulturellen Austausch\, sondern auch als Bildungsorte\, die das Bewusstsein für die wechselseitigen Abhängigkeiten unserer Welt schärfen.  \n\n\n\nHassan Atie Harati\, Burcu Eke-Schneider \n\n\n\nentgeltfrei\, VHS
URL:https://gemeinsam-fuer-stadtwandel.de/veranstaltung/frieden-saeen-die-rolle-von-friedensgaerten-im-gesellschaftlichen-wandel/
ATTACH;FMTTYPE=image/png:https://gemeinsam-fuer-stadtwandel.de/wp-content/uploads/2022/07/transition-town.png
END:VEVENT
BEGIN:VEVENT
DTSTART;TZID=Europe/Berlin:20251123T160000
DTEND;TZID=Europe/Berlin:20251123T210000
DTSTAMP:20260420T055609
CREATED:20251005T143947Z
LAST-MODIFIED:20251005T144120Z
UID:16345-1763913600-1763931600@gemeinsam-fuer-stadtwandel.de
SUMMARY:🌿 Einladung zur Bieterrunde
DESCRIPTION:Die Bieterrunde ist ein Moment\, in dem wir sichtbar machen: Wir tragen zusammen\, was eine einzelne Person nicht leisten könnte\, und geben damit unserem gemeinsamen Projekt Kraft für das nächste Jahr. \n\n\n\n📍 Bahnhof Kettwig \n\n\n\n💡 Was passiert bei der Bieterrunde? Wir legen unsere Finanzen offen: Saatgut\, Pacht\, Löhne\, Wasser\, Infrastruktur. Daraus ergibt sich ein Richtwert – im letzten Jahr etwa 57 € pro Monat pro Anteil. Danach gibt jede:r drei anonyme Gebote ab (grün\, gelb\, rot): Zuerst werden alle grünen Gebote zusammengerechnet. Reicht die Summe\, ist die Saison gesichert. Falls nicht\, werden stattdessen die gelben Gebote genommen und zusammengerechnet.Wenn auch das nicht reicht\, werden schließlich die roten Gebote zusammengerechnet. \n\n\n\n👉 Bitte meldet euch kurz zurück\, ob ihr dabei seid – ein einfaches „Ja\, ich komme“ reicht völlig.👉 Wer nicht kommen kann\, schreibt uns bitte kurz: „Ich brauche den Bieter-Zettel“. Wir schicken euch den dann zu\, und ihr könnt ihn ausgefüllt bis spätestens 16. November zurücksenden \n\n\n\nWeitere Infos: http://www.evergreenpermaculture.de/  \n\n\n\nmailto:evergreenfarm@posteo.de
URL:https://gemeinsam-fuer-stadtwandel.de/veranstaltung/%f0%9f%8c%bf-einladung-zur-bieterrunde/
ATTACH;FMTTYPE=image/png:https://gemeinsam-fuer-stadtwandel.de/wp-content/uploads/2025/01/logo_evergreen_permaculture.png
END:VEVENT
BEGIN:VEVENT
DTSTART;TZID=Europe/Berlin:20251129T100000
DTEND;TZID=Europe/Berlin:20251129T120000
DTSTAMP:20260420T055609
CREATED:20251124T193314Z
LAST-MODIFIED:20251124T193315Z
UID:16570-1764410400-1764417600@gemeinsam-fuer-stadtwandel.de
SUMMARY:„Solar-Café Europa“ 
DESCRIPTION:Diese Reihe bietet eine hervorragende Gelegenheit\, mehr über gemeinschaftlich organisierte Energieprojekte und innovative Ansätze für die regionale Energieversorgung zu erfahren und aktiv mitzuwirken. \n\n\n\nDie Reihe richtet sich an Bürgerinnen und Bürger\, Kommunen sowie Unternehmen im Ruhrgebiet\, die an nachhaltigen und gemeinschaftlich betriebenen Energielösungen interessiert sind. Fachleute aus der Region und aus ganz Europa präsentieren Best-Practice-Beispiele und diskutieren\, wie wir gemeinsam die Energiewende vor Ort vorantreiben können.   \n\n\n\nOrt: \n\n\n\nLabor 519 e.V.\, Mathildenstr. 23\, 45310 Essen \n\n\n\nWeitere Infos und Anmeldung finden Sie auf unserer Website: Für weitere Informationen und zur Anmeldung besuchen Sie bitte unsere Website: https://www.labor519.de/nachhaltigkeit/solarcafeeuropa/ \n\n\n\nDie Termine im Überblick \n\n\n\n\nSamstag\, 29. November 2025 (10:00 – 12:00 Uhr): Auftaktveranstaltung „Industrielle Kultur trifft Energiewende“\n\n\n\nSonntag\, 7. Dezember 2025 (10:00 – 12:00 Uhr): Workshop „Energie im Wandel“\n\n\n\nSonntag\, 7. Dezember 2025 (13:00 – 15:00 Uhr): Familien-Workshop „Solarlampen bauen“\n\n\n\nSamstag\, 13. Dezember 2025 (10:00 – 12:00 Uhr): Abschlussveranstaltung „Impact & Learnings“
URL:https://gemeinsam-fuer-stadtwandel.de/veranstaltung/solar-cafe-europa/
ATTACH;FMTTYPE=image/jpeg:https://gemeinsam-fuer-stadtwandel.de/wp-content/uploads/2025/11/labor519.jpg
END:VEVENT
BEGIN:VEVENT
DTSTART;TZID=Europe/Berlin:20251129T153000
DTEND;TZID=Europe/Berlin:20251129T180000
DTSTAMP:20260420T055609
CREATED:20251123T213227Z
LAST-MODIFIED:20251123T213228Z
UID:16566-1764430200-1764439200@gemeinsam-fuer-stadtwandel.de
SUMMARY:WALK AGAINST #FEMICIDE
DESCRIPTION:Lauf mit uns gegen Gewalt u. Mord an Frauen\, Catcalling und strukturellem Sexismus.
URL:https://gemeinsam-fuer-stadtwandel.de/veranstaltung/walk-against-femicide/
END:VEVENT
END:VCALENDAR