BEGIN:VCALENDAR
VERSION:2.0
PRODID:-//Gemeinsam für Stadtwandel - ECPv6.15.20//NONSGML v1.0//EN
CALSCALE:GREGORIAN
METHOD:PUBLISH
X-WR-CALNAME:Gemeinsam für Stadtwandel
X-ORIGINAL-URL:https://gemeinsam-fuer-stadtwandel.de
X-WR-CALDESC:Veranstaltungen für Gemeinsam für Stadtwandel
REFRESH-INTERVAL;VALUE=DURATION:PT1H
X-Robots-Tag:noindex
X-PUBLISHED-TTL:PT1H
BEGIN:VTIMEZONE
TZID:Europe/Berlin
BEGIN:DAYLIGHT
TZOFFSETFROM:+0100
TZOFFSETTO:+0200
TZNAME:CEST
DTSTART:20240331T010000
END:DAYLIGHT
BEGIN:STANDARD
TZOFFSETFROM:+0200
TZOFFSETTO:+0100
TZNAME:CET
DTSTART:20241027T010000
END:STANDARD
BEGIN:DAYLIGHT
TZOFFSETFROM:+0100
TZOFFSETTO:+0200
TZNAME:CEST
DTSTART:20250330T010000
END:DAYLIGHT
BEGIN:STANDARD
TZOFFSETFROM:+0200
TZOFFSETTO:+0100
TZNAME:CET
DTSTART:20251026T010000
END:STANDARD
BEGIN:DAYLIGHT
TZOFFSETFROM:+0100
TZOFFSETTO:+0200
TZNAME:CEST
DTSTART:20260329T010000
END:DAYLIGHT
BEGIN:STANDARD
TZOFFSETFROM:+0200
TZOFFSETTO:+0100
TZNAME:CET
DTSTART:20261025T010000
END:STANDARD
END:VTIMEZONE
BEGIN:VTIMEZONE
TZID:Europe/Paris
BEGIN:DAYLIGHT
TZOFFSETFROM:+0100
TZOFFSETTO:+0200
TZNAME:CEST
DTSTART:20240331T010000
END:DAYLIGHT
BEGIN:STANDARD
TZOFFSETFROM:+0200
TZOFFSETTO:+0100
TZNAME:CET
DTSTART:20241027T010000
END:STANDARD
BEGIN:DAYLIGHT
TZOFFSETFROM:+0100
TZOFFSETTO:+0200
TZNAME:CEST
DTSTART:20250330T010000
END:DAYLIGHT
BEGIN:STANDARD
TZOFFSETFROM:+0200
TZOFFSETTO:+0100
TZNAME:CET
DTSTART:20251026T010000
END:STANDARD
BEGIN:DAYLIGHT
TZOFFSETFROM:+0100
TZOFFSETTO:+0200
TZNAME:CEST
DTSTART:20260329T010000
END:DAYLIGHT
BEGIN:STANDARD
TZOFFSETFROM:+0200
TZOFFSETTO:+0100
TZNAME:CET
DTSTART:20261025T010000
END:STANDARD
END:VTIMEZONE
BEGIN:VEVENT
DTSTART;TZID=Europe/Berlin:20251001T130000
DTEND;TZID=Europe/Berlin:20251001T170000
DTSTAMP:20260420T091052
CREATED:20250923T110825Z
LAST-MODIFIED:20250923T110826Z
UID:15760-1759323600-1759338000@gemeinsam-fuer-stadtwandel.de
SUMMARY:Workshop "Öffentliche Verwaltung als Vorbild und Wegbereiter - Abfallvermeidung"
DESCRIPTION:Welche Rolle kann die Stadtverwaltung einnehmen\, um Abfallvermeidung intern zu leben und extern voranzutreiben?Weitere Infos und Anmeldung unter hwww.essen.de/Abfallvermeidung-WS1
URL:https://gemeinsam-fuer-stadtwandel.de/veranstaltung/workshop-oeffentliche-verwaltung-als-vorbild-und-wegbereiter-abfallvermeidung/
ATTACH;FMTTYPE=image/png:https://gemeinsam-fuer-stadtwandel.de/wp-content/uploads/2023/06/GHA.png
END:VEVENT
BEGIN:VEVENT
DTSTART;TZID=Europe/Berlin:20251002T170000
DTEND;TZID=Europe/Berlin:20251002T200000
DTSTAMP:20260420T091052
CREATED:20250928T123231Z
LAST-MODIFIED:20250928T123231Z
UID:15947-1759424400-1759435200@gemeinsam-fuer-stadtwandel.de
SUMMARY:Wald statt Kohle\, Kies & Schotter / Mahnwache
DESCRIPTION:Am 4. Geburtstag wollen wir unseren Protest mit Euch noch einmal groß werden lassen. Kommt am Donnerstag\, 2. 10. 2025\, um 17.00 Uhr zur Mahnwache (RWE Platz\, Altenessener Straße\, Essen) und lasst uns solidarisch zeigen\, dass wir immer noch viele sind! \n\n\n\nAnschließend gehen wir zusammen lecker essen…
URL:https://gemeinsam-fuer-stadtwandel.de/veranstaltung/wald-statt-kohle-kies-schotter-mahnwache/
ATTACH;FMTTYPE=image/jpeg:https://gemeinsam-fuer-stadtwandel.de/wp-content/uploads/2025/09/WhatsApp-Image-2025-09-25-at-21.24.45.jpeg
END:VEVENT
BEGIN:VEVENT
DTSTART;TZID=Europe/Berlin:20251002T190000
DTEND;TZID=Europe/Berlin:20251002T220000
DTSTAMP:20260420T091052
CREATED:20250321T162726Z
LAST-MODIFIED:20250721T101129Z
UID:14677-1759431600-1759442400@gemeinsam-fuer-stadtwandel.de
SUMMARY:Offenes Monatstreffen RadEntscheid
DESCRIPTION:Bei unserer Jahresklausur kürzlich im münsterländischen Darup wurde entschieden\, die Struktur der Treffen des Radentscheides zu verändern. Die AG-Struktur wird weitgehend eingestellt. Ab April trifft sich der RadEntscheid stattdessen zu einem offenen monatlichen Treffen im Verkehrs- und Umweltzentrum\, jeweils am ersten Donnerstag im Monat. Du hast Lust und Zeit Dich für besseren Radverkehr in Essen zu engagieren\, dann bist Du herzlich eingeladen dabei zu sein im Verkehrs- und Umweltzentrum in der Rottstraße.
URL:https://gemeinsam-fuer-stadtwandel.de/veranstaltung/offenes-monatstreffen-radentscheid-7/
ATTACH;FMTTYPE=image/jpeg:https://gemeinsam-fuer-stadtwandel.de/wp-content/uploads/2022/07/RadEntscheid-Essen-Logo.jpg
END:VEVENT
BEGIN:VEVENT
DTSTART;TZID=Europe/Berlin:20251003T000000
DTEND;TZID=Europe/Berlin:20251003T235959
DTSTAMP:20260420T091052
CREATED:20250923T105725Z
LAST-MODIFIED:20250923T105725Z
UID:15755-1759449600-1759535999@gemeinsam-fuer-stadtwandel.de
SUMMARY:Aktionen der Friedensbewegung in Uedem
DESCRIPTION:An mehrere Orten finden Aktionen der Friedensbewegung statt; wir erinnern in Uedem nordwestlich von Duisburg an den 2+4-Vertrag zur Vereinigung der zwei deutschen Staaten\, der eine Friedensordnung der gemeinsamen weil gegenseitigen Sicherheit einfordert\, wogegen das Nato-Konzept der Abschreckung seit je her steht. \n\n\n\nBustickets für die Fahrt nach Uedem bitte über kontakt@essener-friedensforum.der bestellen! DANKE!!
URL:https://gemeinsam-fuer-stadtwandel.de/veranstaltung/aktionen-der-friedensbewegung-in-uedem/
ATTACH;FMTTYPE=image/png:https://gemeinsam-fuer-stadtwandel.de/wp-content/uploads/2022/07/Friedensforum-Essen-Logo.png
END:VEVENT
BEGIN:VEVENT
DTSTART;TZID=Europe/Berlin:20251006T100000
DTEND;TZID=Europe/Berlin:20251006T140000
DTSTAMP:20260420T091052
CREATED:20250916T065935Z
LAST-MODIFIED:20250916T065935Z
UID:15593-1759744800-1759759200@gemeinsam-fuer-stadtwandel.de
SUMMARY:Wasserquartier Essen - Nachhaltigkeits-Workshop Trinkwasser
DESCRIPTION:Der Verein a tip: tap e.V. lädt im Wasserquartier Essenzum Nachhaltigkeits-Workshop mit SchwerpunktLeitungswasser ein:Vergrößert Euren ökologischen Handabdruck. Stärktdas Bewusstsein eurer Besucherinnen für klimafreundliches und ressourcenschonendes Handeln. Informiert euch über konkrete Möglichkeiten und entwickelt gemeinsam neue Ideen um gemeinsam aktiv zu werden. Lasst uns neue Wege finden\, wie wir Veränderung in Euren Einrichtungen anstoßen und Mitbürgerinnen\,Kolleginnen und Freundinnen für den Umstieg vonFlaschen- auf Leitungswasser begeistern können. \n\n\n\nZielgruppe: Kultur \n\n\n\nOrt: PACT Zollverein\, Bullmannaue 20a\, Essen \n\n\n\nAnmeldung erforderlich: konrad@atiptap.org \n\n\n\nhttps://atiptap.org/projekte/nrw-unser-zuhause-unser-trinkwasser
URL:https://gemeinsam-fuer-stadtwandel.de/veranstaltung/wasserquartier-essen-nachhaltigkeits-workshop-trinkwasser/
ATTACH;FMTTYPE=image/png:https://gemeinsam-fuer-stadtwandel.de/wp-content/uploads/2025/09/Bildschirmfoto-2025-09-16-um-08.59.01.png
END:VEVENT
BEGIN:VEVENT
DTSTART;TZID=Europe/Berlin:20251006T160000
DTEND;TZID=Europe/Berlin:20251006T200000
DTSTAMP:20260420T091052
CREATED:20250923T111242Z
LAST-MODIFIED:20250923T111243Z
UID:15762-1759766400-1759780800@gemeinsam-fuer-stadtwandel.de
SUMMARY:Workshop "Stärkung des Ressourcenkreislaufs"
DESCRIPTION:Wir erarbeiten Strategien\, wie Abfallmengen reduziert und Wertstoffe im Kreislauf gehalten werden können. Weitere Infos und Anmeldung unter www.essen.de/Abfallvermeidung-WS2
URL:https://gemeinsam-fuer-stadtwandel.de/veranstaltung/workshop-staerkung-des-ressourcenkreislaufs/
ATTACH;FMTTYPE=image/png:https://gemeinsam-fuer-stadtwandel.de/wp-content/uploads/2023/06/GHA.png
END:VEVENT
BEGIN:VEVENT
DTSTART;TZID=Europe/Berlin:20251006T190000
DTEND;TZID=Europe/Berlin:20251006T210000
DTSTAMP:20260420T091052
CREATED:20250825T105843Z
LAST-MODIFIED:20250825T105844Z
UID:15375-1759777200-1759784400@gemeinsam-fuer-stadtwandel.de
SUMMARY:Kann Kirche Klima? 
DESCRIPTION:Am 6. Oktober\, 19 Uhr\, ist Dr. Franz-Josef Klausdeinken\, Mitbegründer von Christians & Churches for Future Soest\, zu Gast in der Johanneskirche Essen\, Elbestraße 28. Er wird beim Bergerhauser Dialog über seine Erfahrungen mit Nachhaltigkeits- und Klimaprojekten sprechen und zur Diskussion einladen. Es geht dabei darum\, wie Christliche Gemeinden selber Verantwortung übernehmen und in die Stadtgesellschaft hineinwirken können. \n\n\n\nWeitere Informationen: \n\n\n\nhttps://www.gemeinde-bergerhausen.de/b/bergerhauser-dialog-am-06-10-kann-kirche-klima-193686
URL:https://gemeinsam-fuer-stadtwandel.de/veranstaltung/kann-kirche-klima/
ATTACH;FMTTYPE=image/webp:https://gemeinsam-fuer-stadtwandel.de/wp-content/uploads/2025/08/weblogo-2020-1__msi___png.webp
END:VEVENT
BEGIN:VEVENT
DTSTART;TZID=Europe/Berlin:20251007T130000
DTEND;TZID=Europe/Berlin:20251007T170000
DTSTAMP:20260420T091052
CREATED:20250923T111506Z
LAST-MODIFIED:20250923T111507Z
UID:15764-1759842000-1759856400@gemeinsam-fuer-stadtwandel.de
SUMMARY:Workshop: "Reduzierung von Verpackungsabfällen" 
DESCRIPTION:Wir diskutieren Strategien\, um den Verbrauch von Einwegverpackungen in Essen zu senken\, beispielsweise durch eine Verpackungssteuer oder Mehrwegpflichten. \n\n\n\nWeitere Infos und Anmeldung unter https://www.essen.de/Abfallvermeidung-WS3
URL:https://gemeinsam-fuer-stadtwandel.de/veranstaltung/workshop-reduzierung-von-verpackungsabfaellen/
ATTACH;FMTTYPE=image/png:https://gemeinsam-fuer-stadtwandel.de/wp-content/uploads/2023/06/GHA.png
END:VEVENT
BEGIN:VEVENT
DTSTART;TZID=Europe/Berlin:20251008T130000
DTEND;TZID=Europe/Berlin:20251008T170000
DTSTAMP:20260420T091052
CREATED:20250923T110356Z
LAST-MODIFIED:20250923T110357Z
UID:15758-1759928400-1759942800@gemeinsam-fuer-stadtwandel.de
SUMMARY:Workshop „Reduzierung von Lebensmittelverschwendung“ 
DESCRIPTION:Die Stadt Essen erarbeitet ein zukunftsweisendes Abfallvermeidungskonzept\, denn der beste Müll ist der\, der gar nicht entsteht. Eine zentrale Säule in der Entwicklung des Konzepts ist die Workshopreihe Anfang Oktober. \n\n\n\nOrt: Rathaus Essen\, Raum 1.21 (Sunderland) \n\n\n\nAnmeldung erforderlich: Bitte melden Sie sich bis zum 24.09.2025 verbindlich über www.essen.de/Abfallvermeidung-WS4 an. Die Teilnehmerzahl ist begrenzt. \n\n\n\nInfos zu den weiteren Workshops: www.essen.de/avk
URL:https://gemeinsam-fuer-stadtwandel.de/veranstaltung/workshop-reduzierung-von-lebensmittelverschwendung/
ATTACH;FMTTYPE=image/png:https://gemeinsam-fuer-stadtwandel.de/wp-content/uploads/2023/06/GHA.png
END:VEVENT
BEGIN:VEVENT
DTSTART;TZID=Europe/Berlin:20251008T190000
DTEND;TZID=Europe/Berlin:20251008T210000
DTSTAMP:20260420T091052
CREATED:20250606T203627Z
LAST-MODIFIED:20250606T203644Z
UID:14879-1759950000-1759957200@gemeinsam-fuer-stadtwandel.de
SUMMARY:Netzwerktreffen Gemeinsam für Stadtwandel
DESCRIPTION:Treffpunkt City.Nord\, Viehoferstr 31  \n\n\n\nDas Netzwerk trifft sich jeden 2. Mittwoch im Monat. Wir tauschen uns über wichtige Neuigkeiten und geplante Aktionen aus und planen gemeinsame Projekte\, Strategien und Gespräche. \n\n\n\n\n\n\n\nInteressierte melden sich bitte unter: hallo@gemeinsam-fuer-stadtwandel.de.
URL:https://gemeinsam-fuer-stadtwandel.de/veranstaltung/netzwerktreffen-gemeinsam-fuer-stadtwandel-53/
CATEGORIES:Netzwerktreffen
ATTACH;FMTTYPE=image/png:https://gemeinsam-fuer-stadtwandel.de/wp-content/uploads/2020/12/cropped-Gemeinsam-fuer-Stadtwandel-Logo-Essen-1.png
END:VEVENT
BEGIN:VEVENT
DTSTART;TZID=Europe/Berlin:20251015T200000
DTEND;TZID=Europe/Berlin:20251015T213000
DTSTAMP:20260420T091052
CREATED:20250928T124539Z
LAST-MODIFIED:20250928T124539Z
UID:15952-1760558400-1760563800@gemeinsam-fuer-stadtwandel.de
SUMMARY:Lesung mit Luisa Neubauer in der Zeche Carl.
DESCRIPTION:Was wäre\, wenn wir mutig sind?Luisa Neubauer\, bekannteste Klimaaktivistin im deutschsprachigen Raum stellt mit „Was wäre\, wenn wir mutig sind?“ eine neue Tonlage in der Klimakrise vor: ein Aufbruch in der Klimadebatte\, ein Aufruf zu handeln\, mit Ehrgeiz\, Humor und radikaler Zuversicht. \n\n\n\nWeiter Infos unter und Tickets unter:  https://www.zechecarl.de/carlsprogramm/251015-luisa-neubauer
URL:https://gemeinsam-fuer-stadtwandel.de/veranstaltung/lesung-mit-luisa-neubauer-in-der-zeche-carl/
ATTACH;FMTTYPE=image/png:https://gemeinsam-fuer-stadtwandel.de/wp-content/uploads/2024/12/zechecarl_logo.png
END:VEVENT
BEGIN:VEVENT
DTSTART;TZID=Europe/Berlin:20251018T103000
DTEND;TZID=Europe/Berlin:20251018T140000
DTSTAMP:20260420T091052
CREATED:20251008T131335Z
LAST-MODIFIED:20251008T131336Z
UID:16350-1760783400-1760796000@gemeinsam-fuer-stadtwandel.de
SUMMARY:Komm zur Quartierswerkstatt!
DESCRIPTION:Im Fachgeschäft für Stadtwandel. Tausche mit anderen deine Ideen und Gedanken aus:Worüber möchtest du gern mit anderen sprechen? Was wünschst du dir für Holsterhausen? Was möchtest du gern mal ausprobieren? \n\n\n\nFür die Planung wäre es schön zu wissen\, wer kommt. Schreib gern eine Nachricht an Martina: martina.nies@initiative-fuer-nachhaltigkeit.deAber auch spontan bist zu herzlich Willkommen! \n\n\n\nWeitere Infos: https://initiative-fuer-nachhaltigkeit.de/heydu
URL:https://gemeinsam-fuer-stadtwandel.de/veranstaltung/komm-zur-quartierswerkstatt/
ATTACH;FMTTYPE=image/png:https://gemeinsam-fuer-stadtwandel.de/wp-content/uploads/2021/03/ifn-logo-e1734890476553.png
END:VEVENT
BEGIN:VEVENT
DTSTART;TZID=Europe/Berlin:20251020T190000
DTEND;TZID=Europe/Berlin:20251020T203000
DTSTAMP:20260420T091052
CREATED:20251016T104136Z
LAST-MODIFIED:20251016T104427Z
UID:16358-1760986800-1760992200@gemeinsam-fuer-stadtwandel.de
SUMMARY:Klimarunde
DESCRIPTION:Wir laden zur nächsten Klimarunde in Essen ein. Hier ist Raum für eure Gefühle rund um das Klima. \n\n\n\nWir treffen uns am 20.10.25 im Fachgeschäft für Stadtwandel (Gemarkenstraße 72\, Essen). Die Tür ist ab 18.30 Uhr offen und um 19 Uhr starten wir mit dem Programm. \n\n\n\nBei Fragen meldet euch unter: ruhrgebiet@psychologistsforfuture.org
URL:https://gemeinsam-fuer-stadtwandel.de/veranstaltung/klimarunde/
ATTACH;FMTTYPE=image/png:https://gemeinsam-fuer-stadtwandel.de/wp-content/uploads/2021/08/Psy4F_Logo.png
END:VEVENT
BEGIN:VEVENT
DTSTART;TZID=Europe/Paris:20251021T190000
DTEND;TZID=Europe/Paris:20251021T210000
DTSTAMP:20260420T091052
CREATED:20250701T125504Z
LAST-MODIFIED:20250701T125504Z
UID:15014-1761073200-1761080400@gemeinsam-fuer-stadtwandel.de
SUMMARY:Transition Town - Gesamttreffen
DESCRIPTION:Gesamttreffen von Transition Town – Essen im Wandel findet jeden 3. Dienstag in der VHS am Burgplatz statt. Wir berichten über unsere Aktivitäten und beschäftigen uns auch mit Zukunfts-Ideen. \n\n\n\nFür weitere Informationen oder eine Anmeldung für den Newsletter: https://transitiontown-essen.de.
URL:https://gemeinsam-fuer-stadtwandel.de/veranstaltung/transition-town-gesamttreffen-31/
LOCATION:Burgplatz 1\, VHS\, Burgplatz 1\, Essen
CATEGORIES:Initiativentreffen
ATTACH;FMTTYPE=image/png:https://gemeinsam-fuer-stadtwandel.de/wp-content/uploads/2021/03/transition-town.png
END:VEVENT
BEGIN:VEVENT
DTSTART;TZID=Europe/Berlin:20251022T180000
DTEND;TZID=Europe/Berlin:20251022T210000
DTSTAMP:20260420T091052
CREATED:20251018T143549Z
LAST-MODIFIED:20251018T143550Z
UID:16363-1761156000-1761166800@gemeinsam-fuer-stadtwandel.de
SUMMARY:Essener Friedensforum lädt Interessierte zum Stammtisch
DESCRIPTION:Wir beschäftigen uns mit der geplanten Einführung der Wehrpflicht. \n\n\n\nCafeteria der  VHS\, Burgplatz.
URL:https://gemeinsam-fuer-stadtwandel.de/veranstaltung/essener-friedensforum-laedt-interessierte-zum-stammtisch/
ATTACH;FMTTYPE=image/png:https://gemeinsam-fuer-stadtwandel.de/wp-content/uploads/2022/07/Friedensforum-Essen-Logo.png
END:VEVENT
BEGIN:VEVENT
DTSTART;TZID=Europe/Berlin:20251025T140000
DTEND;TZID=Europe/Berlin:20251025T170000
DTSTAMP:20260420T091052
CREATED:20251024T095506Z
LAST-MODIFIED:20251024T095507Z
UID:16437-1761400800-1761411600@gemeinsam-fuer-stadtwandel.de
SUMMARY:Demo „Wir sind das Stadtbild: Rassismus ausMERZen“
DESCRIPTION:Das Bündnis „Essen stellt sich quer“ lädt am Samstag\, 25. Oktober\, 14 Uhr\, zu einer Demonstration gegen die umstrittenen Aussagen des Bundeskanzlers und amtierenden CDU-Vorsitzenden Friedrich Merz ein.https://www.waz.de/lokales/essen/article410278628/stadtbild-diskussion-demo-gegen-merz-aussage-in-essen.html \n\n\n\nVor der Marktkirche an der Porschekanzel.
URL:https://gemeinsam-fuer-stadtwandel.de/veranstaltung/demo-wir-sind-das-stadtbild-rassismus-ausmerzen/
ATTACH;FMTTYPE=image/png:https://gemeinsam-fuer-stadtwandel.de/wp-content/uploads/2025/10/quer.png
END:VEVENT
BEGIN:VEVENT
DTSTART;TZID=Europe/Berlin:20251030T190000
DTEND;TZID=Europe/Berlin:20251030T210000
DTSTAMP:20260420T091052
CREATED:20250627T092823Z
LAST-MODIFIED:20250712T104706Z
UID:14937-1761850800-1761858000@gemeinsam-fuer-stadtwandel.de
SUMMARY:Filmabend mit Gespräch: „The Human Scale“
DESCRIPTION:Heute leben 50 % der Weltbevölkerung in Städten\, bis zum Jahr 2050 werden es 80 % sein. Auf der Suche nach Wohlstand\, Arbeit und einem besseren Leben ziehen Menschen in die Städte\, doch lädt die Art und Weise\, wie wir Städte bauen\, zu sozialer Interaktion\, Inklusion und Geborgenheit ein? Wie planen wir Städte menschenfreundlich? Wo liegt der Maßstab\, um Zufriedenheit in der Stadt zu messen? \n\n\n\nDer Film „The Human Scale“ präsentiert die städtebaulichen Konzepte des dänischen Architekten und Städteplaners Jan Gehl. \n\n\n\nhttp://www.vhs-essen.de/kurssuche/kurs/Transition-Town-Essen-Filmabend-mit-Gespraech/252.1A054N \n\n\n\nEine Kooperation von Transition Town Essen und dem Bündnis Grüne Lungen für Essen. \n\n\n\nAnmeldung erforderlich. \n\n\n\nKursnr.252.1A054NBeginnDauer1 TerminKursortVHS\, Raum E.11 (Kleiner Saal) Entgelt0\,00 €
URL:https://gemeinsam-fuer-stadtwandel.de/veranstaltung/filmabend-mit-gespraech-the-human-scale/
ATTACH;FMTTYPE=image/png:https://gemeinsam-fuer-stadtwandel.de/wp-content/uploads/2025/06/Bildschirmfoto-2025-06-29-um-16.14.53.png
END:VEVENT
END:VCALENDAR