BEGIN:VCALENDAR
VERSION:2.0
PRODID:-//Gemeinsam für Stadtwandel - ECPv6.15.20//NONSGML v1.0//EN
CALSCALE:GREGORIAN
METHOD:PUBLISH
X-WR-CALNAME:Gemeinsam für Stadtwandel
X-ORIGINAL-URL:https://gemeinsam-fuer-stadtwandel.de
X-WR-CALDESC:Veranstaltungen für Gemeinsam für Stadtwandel
REFRESH-INTERVAL;VALUE=DURATION:PT1H
X-Robots-Tag:noindex
X-PUBLISHED-TTL:PT1H
BEGIN:VTIMEZONE
TZID:Europe/Berlin
BEGIN:DAYLIGHT
TZOFFSETFROM:+0100
TZOFFSETTO:+0200
TZNAME:CEST
DTSTART:20250330T010000
END:DAYLIGHT
BEGIN:STANDARD
TZOFFSETFROM:+0200
TZOFFSETTO:+0100
TZNAME:CET
DTSTART:20251026T010000
END:STANDARD
BEGIN:DAYLIGHT
TZOFFSETFROM:+0100
TZOFFSETTO:+0200
TZNAME:CEST
DTSTART:20260329T010000
END:DAYLIGHT
BEGIN:STANDARD
TZOFFSETFROM:+0200
TZOFFSETTO:+0100
TZNAME:CET
DTSTART:20261025T010000
END:STANDARD
BEGIN:DAYLIGHT
TZOFFSETFROM:+0100
TZOFFSETTO:+0200
TZNAME:CEST
DTSTART:20270328T010000
END:DAYLIGHT
BEGIN:STANDARD
TZOFFSETFROM:+0200
TZOFFSETTO:+0100
TZNAME:CET
DTSTART:20271031T010000
END:STANDARD
END:VTIMEZONE
BEGIN:VEVENT
DTSTART;TZID=Europe/Berlin:20260416T000000
DTEND;TZID=Europe/Berlin:20260522T235959
DTSTAMP:20260420T021447
CREATED:20260419T210241Z
LAST-MODIFIED:20260419T210242Z
UID:17444-1776297600-1779494399@gemeinsam-fuer-stadtwandel.de
SUMMARY:Meine Traumstadt - Künstlerische Arbeiten von Schüler*innen der Ruhrlandschule
DESCRIPTION:In einer neuen Ausstellung präsentiert die VHS künstlerische Arbeiten zum Thema „Nachhaltige Stadt“. \n\n\n\nDie Ausstellung ist vom 16. April bis 22. Mai 2026 im Foyer der 4. Etage zu sehen.
URL:https://gemeinsam-fuer-stadtwandel.de/veranstaltung/meine-traumstadt-kuenstlerische-arbeiten-von-schuelerinnen-der-ruhrlandschule/
ATTACH;FMTTYPE=image/png:https://gemeinsam-fuer-stadtwandel.de/wp-content/uploads/2021/11/VHS-Volkshochschule.png
END:VEVENT
END:VCALENDAR